Workbook
Name CapexAmount: Drivers!$K$7:$K$66
Name CapexCategory: Drivers!$I$7:$I$66
Name CapexMonth: Drivers!$J$7:$J$66
Name CapexSalvage: Drivers!$M$7:$M$66
Name CapexSalvageMonth: Drivers!$L$7:$L$66
Name COGS: Drivers!$Z$7:$Z$66
Name cogsBase: Summary!$BS$11
Name CogsCAGR: Drivers!$AA$7:$AA$66
Name DepExp: Drivers!$Q$7:$Q$66
Name DepStop: Drivers!$O$7:$O$66
Name InventoryPct: Drivers!$AL$28
Name MinCash: Drivers!$AL$26
Name Overhead: Drivers!$AC$7:$AC$66
Name OverheadCAGR: Drivers!$AD$7:$AD$66
Name overheadCagrWgtd: Summary!$BU$12
Name PayBonus: Drivers!$AH$7:$AH$66
Name payBonusWgtd: Summary!$BS$14
Name PayCAGR: Drivers!$AI$7:$AI$66
Name payCagrWgtd: Summary!$BU$13
Name PayCommissions: Drivers!$AL$29
Name PayFTE: Drivers!$AF$7:$AF$66
Name PayLoad: Drivers!$AL$30
Name PaySalary: Drivers!$AG$7:$AG$66
Name paySalaryWgtd: Summary!$BS$13
Name Price: Drivers!$X$7:$X$66
Name priceBase: Summary!$BS$10
Name PriceCAGR: Drivers!$Y$7:$Y$66
Name RateCredit: Drivers!$AL$17
Name RateEquity: Drivers!$AL$18
Name RateLong: Drivers!$AL$16
Name RateShort: Drivers!$AL$15
Name SalGain: Drivers!$T$7:$T$66
Name SalOff: Drivers!$R$7:$R$66
Name StartCommon: Drivers!$D$7
Name StartLong: Drivers!$F$7
Name StartPreferred: Drivers!$C$7
Name StartShort: Drivers!$E$7
Name Taxes: Drivers!$AL$27
Name TermsCollect30: Drivers!$AL$8
Name TermsCollect60: Drivers!$AL$9
Name TermsCollect90: Drivers!$AL$10
Name TermsCollectCash: Drivers!$AL$7
Name TermsPay30: Drivers!$AK$8
Name TermsPay60: Drivers!$AK$9
Name TermsPay90: Drivers!$AK$10
Name TermsPayCash: Drivers!$AK$7
Name Units: Drivers!$V$7:$V$66
Name unitsBase: Summary!$BS$9
Name UnitsCAGR: Drivers!$W$7:$W$66
Name unitsCMGR: Summary!$BT$9
Name ValEvEbitda: Drivers!$AL$21
Name ValPE: Drivers!$AL$22
Name ValTerminal: Drivers!$AL$23
Name ValWACC: Drivers!$AL$19

Sheet ℹ️ 
A1: info
C5: Credit | D5: CapEx | E5: Income | F5: Balance | G5: Cash | H5: Valuation | I5: Analysis
C6: Starting cash | D6: Expenditures | E6: Revenue | F6: Current assets | G6: Operations | H6: Free cash flow | I6: Ratios
C7: New capital | D7: Depreciation | E7: Gross margin | F7: Net fixed | G7: Investing | H7: Terminal | I7: Distress
C8: Collections | D8: Accum deprec | E8: EBITDA | F8: Equity | G8: Cash fr. equity | H8: Enterprise | I8: Sensitivity
C9: Disbursements | D9: Balance | E9: EBIT | F9: Current liabs | G9: Cash fr. debt | H9: Equity bridge | I9: Cost of capital
C10: Adjusted cash | D10: Salvage | E10: Net earnings | F10: L/T liabilities | G10: Cash in/out | H10: EV/EBITDA | I10: Econ. profit
C11: Borrow/repay | D11: Net salvage | E11: Retained | F11: Equity | G11: Check balance | H11: Price/Earnings | I11: Breakeven

Sheet Drivers
B3: Drivers
B4: Capitalization | H4: Capital Expenditures | U4: Gross Margin | AB4: Overhead | AE4: Payroll | AJ4: Terms | AN4: 5-year Summary
C5: Equity | E5: Debt | G5: Divs | J5: Purchase | L5: Salvage | N5: Deprc | O5: Dep | R5: Sal | V5: Units | X5: Price | Z5: COGS | AC5: Amont | AG5: Comp | AK5: Pay | AL5: Rec'v | AO5: 1 | AQ5: 2 | AS5: 3 | AU5: 4 | AW5: 5
B6: Mo | C6: Pref | D6: Com | E6: S/T | F6: L/T | G6: % NI | H6: Expense | I6: Catgry | J6: Mo | K6: $ | L6: Mo | M6: $ | N6: # Mo | O6: Stop | P6: Mos | Q6: Exp | R6: Off | S6: NAV | T6: Gain | U6: SKU | V6: Qu | W6: y/y | X6: Amt | Y6: y/y | Z6: Amt | AA6: y/y | AB6: Cateogry | AC6: y1 | AD6: y/y | AE6: Title / Level | AF6: FTE | AG6: Base | AH6: Bonus | AI6: y/y | AJ6: Time | AK6: to | AL6: from | AN6: Line of Credit
B7: 1e-06 | C7: 20 | D7: 40 | E7: 100 | F7: 15 | G7: 1e-08 | H7: Trademark | I7: Intang | J7: 6 | K7: 100 | L7: 12 | M7: 18 | N7: 14 | O7: =IF(N7=0,0,MIN(N7+J7-1,L7)) -> 12 | P7: =IF(O7=0,0,O7-J7+1) -> 7 | Q7: =IF(P7=0,0,K7/N7) -> 7.1428571 | R7: =IF( AND(N7=0,L7=0),61, IF( N7=0, L7, MIN(N7+J7-1,L7))) -> 12 | S7: =K7-(P7*Q7) -> 50 | T7: =M7-(K7-P7* Q7) -> -32 | U7: Item 1 | V7: 100 | W7: 0.06 | X7: 15 | Y7: 0.025 | Z7: 12 | AA7: 0.025 | AB7: Rent | AC7: 220 | AD7: 0.025 | AE7: CTO | AF7: 1 | AG7: 90 | AH7: 0.2 | AI7: 0.02 | AJ7: Cash | AK7: 0.05 | AL7: 0.05 | AN7: Borrow | AO7: =Credit!$E43 -> 161.48959 | AQ7: =Credit!$F43 -> -161.48959 | AS7: =Credit!$G43 -> 0 | AU7: =Credit!$H43 -> 0 | AW7: =Credit!$I43 -> 0
B8: 6 | C8: 10 | D8: 15 | F8: 25 | G8: 0.1 | H8: Machine | I8: Equip | J8: 1 | K8: 40 | L8: 55 | M8: 15 | N8: 10 | O8: =IF(N8=0,0,MIN(N8+J8-1,L8)) -> 10 | P8: =IF(O8=0,0,O8-J8+1) -> 10 | Q8: =IF(P8=0,0,K8/N8) -> 4 | R8: =IF( AND(N8=0,L8=0),61, IF( N8=0, L8, MIN(N8+J8-1,L8))) -> 10 | S8: =K8-(P8*Q8) -> 0 | T8: =M8-(K8-P8* Q8) -> 15 | U8: Item 2 | V8: 210 | W8: 0.07 | X8: 12 | Y8: 0.04 | Z8: 9 | AA8: 0.035 | AB8: Utilities | AC8: 180 | AD8: 0.02 | AE8: Developer/1 | AF8: 1 | AG8: 70 | AH8: 0.15 | AI8: 0.01 | AJ8: 30 d | AK8: 0.5 | AL8: 0.5 | AN8: Balance | AO8: =Credit!$E45 -> 161.48959 | AQ8: =Credit!$F45 -> 0 | AS8: =Credit!$G45 -> 0 | AU8: =Credit!$H45 -> 0 | AW8: =Credit!$I45 -> 0
B9: 13 | C9: 0 | D9: 60 | E9: 20 | F9: 30 | G9: 0.05 | H9: Land | I9: Land | J9: 3 | K9: 50 | L9: 58 | M9: 45 | O9: =IF(N9=0,0,MIN(N9+J9-1,L9)) -> 0 | P9: =IF(O9=0,0,O9-J9+1) -> 0 | Q9: =IF(P9=0,0,K9/N9) -> 0 | R9: =IF( AND(N9=0,L9=0),61, IF( N9=0, L9, MIN(N9+J9-1,L9))) -> 58 | S9: =K9-(P9*Q9) -> 50 | T9: =M9-(K9-P9* Q9) -> -5 | U9: Item 3 | V9: 320 | W9: 0.04 | X9: 5.1 | Y9: 0.039 | Z9: 3.46 | AA9: 0.01 | AB9: Supplies | AC9: 100 | AD9: 0.05 | AE9: Developer/2 | AF9: 2 | AG9: 60 | AH9: 0.1 | AI9: 0.01 | AJ9: 60 d | AK9: 0.4 | AL9: 0.4 | AN9: Capital Expense
O10: =IF(N10=0,0,MIN(N10+J10-1,L10)) -> 0 | P10: =IF(O10=0,0,O10-J10+1) -> 0 | Q10: =IF(P10=0,0,K10/N10) -> 0 | R10: =IF( AND(N10=0,L10=0),61, IF( N10=0, L10, MIN(N10+J10-1,L10))) -> 61 | S10: =K10-(P10*Q10) -> 0 | T10: =M10-(K10-P10* Q10) -> 0 | AJ10: 90 d | AK10: 0.05 | AL10: 0.05 | AN10: Spend | AO10: =CapEx!$E12 -> 190 | AQ10: =CapEx!$F12 -> 0 | AS10: =CapEx!$G12 -> 0 | AU10: =CapEx!$H12 -> 0 | AW10: =CapEx!$I12 -> 0
O11: =IF(N11=0,0,MIN(N11+J11-1,L11)) -> 0 | P11: =IF(O11=0,0,O11-J11+1) -> 0 | Q11: =IF(P11=0,0,K11/N11) -> 0 | R11: =IF( AND(N11=0,L11=0),61, IF( N11=0, L11, MIN(N11+J11-1,L11))) -> 61 | S11: =K11-(P11*Q11) -> 0 | T11: =M11-(K11-P11* Q11) -> 0 | AJ11: ∑ | AK11: 1 | AL11: 1 | AN11: Deprec | AO11: =CapEx!$E20 -> 90 | AQ11: =CapEx!$F20 -> 0 | AS11: =CapEx!$G20 -> 0 | AU11: =CapEx!$H20 -> 0 | AW11: =CapEx!$I20 -> 0
O12: =IF(N12=0,0,MIN(N12+J12-1,L12)) -> 0 | P12: =IF(O12=0,0,O12-J12+1) -> 0 | Q12: =IF(P12=0,0,K12/N12) -> 0 | R12: =IF( AND(N12=0,L12=0),61, IF( N12=0, L12, MIN(N12+J12-1,L12))) -> 61 | S12: =K12-(P12*Q12) -> 0 | T12: =M12-(K12-P12* Q12) -> 0 | AN12: Profit & Loss
O13: =IF(N13=0,0,MIN(N13+J13-1,L13)) -> 0 | P13: =IF(O13=0,0,O13-J13+1) -> 0 | Q13: =IF(P13=0,0,K13/N13) -> 0 | R13: =IF( AND(N13=0,L13=0),61, IF( N13=0, L13, MIN(N13+J13-1,L13))) -> 61 | S13: =K13-(P13*Q13) -> 0 | T13: =M13-(K13-P13* Q13) -> 0 | AJ13: Valuation | AN13: Rev | AO13: =Income!$E7 -> 5569.9439 | AQ13: =Income!$F7 -> 6058.7187 | AS13: =Income!$G7 -> 6590.3846 | AU13: =Income!$H7 -> 7168.7053 | AW13: =Income!$I7 -> 7797.7749
O14: =IF(N14=0,0,MIN(N14+J14-1,L14)) -> 0 | P14: =IF(O14=0,0,O14-J14+1) -> 0 | Q14: =IF(P14=0,0,K14/N14) -> 0 | R14: =IF( AND(N14=0,L14=0),61, IF( N14=0, L14, MIN(N14+J14-1,L14))) -> 61 | S14: =K14-(P14*Q14) -> 0 | T14: =M14-(K14-P14* Q14) -> 0 | AJ14: Cost of capital | AN14: COGS | AO14: =Income!$E8 -> 4147.6628 | AQ14: =Income!$F8 -> 4484.2226 | AS14: =Income!$G8 -> 4848.0924 | AU14: =Income!$H8 -> 5241.4881 | AW14: =Income!$I8 -> 5666.8057
O15: =IF(N15=0,0,MIN(N15+J15-1,L15)) -> 0 | P15: =IF(O15=0,0,O15-J15+1) -> 0 | Q15: =IF(P15=0,0,K15/N15) -> 0 | R15: =IF( AND(N15=0,L15=0),61, IF( N15=0, L15, MIN(N15+J15-1,L15))) -> 61 | S15: =K15-(P15*Q15) -> 0 | T15: =M15-(K15-P15* Q15) -> 0 | AJ15: S/T debt | AL15: 0.07 | AN15: Payroll | AO15: =Income!$E11 -> 404.5 | AQ15: =Income!$F11 -> 409.84518 | AS15: =Income!$G11 -> 415.26099 | AU15: =Income!$H11 -> 420.74837 | AW15: =Income!$I11 -> 426.30826
O16: =IF(N16=0,0,MIN(N16+J16-1,L16)) -> 0 | P16: =IF(O16=0,0,O16-J16+1) -> 0 | Q16: =IF(P16=0,0,K16/N16) -> 0 | R16: =IF( AND(N16=0,L16=0),61, IF( N16=0, L16, MIN(N16+J16-1,L16))) -> 61 | S16: =K16-(P16*Q16) -> 0 | T16: =M16-(K16-P16* Q16) -> 0 | AJ16: L/T debt | AL16: 0.085 | AN16: OH | AO16: =Income!$E12 -> 500 | AQ16: =Income!$F12 -> 514.1 | AS16: =Income!$G12 -> 528.59762 | AU16: =Income!$H12 -> 543.50407 | AW16: =Income!$I12 -> 558.83089
O17: =IF(N17=0,0,MIN(N17+J17-1,L17)) -> 0 | P17: =IF(O17=0,0,O17-J17+1) -> 0 | Q17: =IF(P17=0,0,K17/N17) -> 0 | R17: =IF( AND(N17=0,L17=0),61, IF( N17=0, L17, MIN(N17+J17-1,L17))) -> 61 | S17: =K17-(P17*Q17) -> 0 | T17: =M17-(K17-P17* Q17) -> 0 | AJ17: Credit | AL17: 0.0875 | AN17: Interest | AO17: =Income!$E24 -> 32.162252 | AQ17: =Income!$F24 -> 15.945357 | AS17: =Income!$G24 -> 14.35 | AU17: =Income!$H24 -> 14.35 | AW17: =Income!$I24 -> 14.35
O18: =IF(N18=0,0,MIN(N18+J18-1,L18)) -> 0 | P18: =IF(O18=0,0,O18-J18+1) -> 0 | Q18: =IF(P18=0,0,K18/N18) -> 0 | R18: =IF( AND(N18=0,L18=0),61, IF( N18=0, L18, MIN(N18+J18-1,L18))) -> 61 | S18: =K18-(P18*Q18) -> 0 | T18: =M18-(K18-P18* Q18) -> 0 | AJ18: Equity | AL18: 0.105 | AN18: Earnigs | AO18: =Income!$E26 -> 151.33196 | AQ18: =Income!$F26 -> 308.05871 | AS18: =Income!$G26 -> 391.36555 | AU18: =Income!$H26 -> 483.14439 | AW18: =Income!$I26 -> 591.31474
O19: =IF(N19=0,0,MIN(N19+J19-1,L19)) -> 0 | P19: =IF(O19=0,0,O19-J19+1) -> 0 | Q19: =IF(P19=0,0,K19/N19) -> 0 | R19: =IF( AND(N19=0,L19=0),61, IF( N19=0, L19, MIN(N19+J19-1,L19))) -> 61 | S19: =K19-(P19*Q19) -> 0 | T19: =M19-(K19-P19* Q19) -> 0 | AJ19: WACC | AL19: =((RateCredit*Balance!F$20)+(RateShort*Balance!F$21)+(RateLong*Balance!F$23)+(RateEquity*SUM(Balance!F25:F26))) / SUM(Balance!F$20,Balance!F$21,Balance!F$23,Balance!F$25,Balance!F$26) -> 0.088875303 | AN19: Balance Sheet
O20: =IF(N20=0,0,MIN(N20+J20-1,L20)) -> 0 | P20: =IF(O20=0,0,O20-J20+1) -> 0 | Q20: =IF(P20=0,0,K20/N20) -> 0 | R20: =IF( AND(N20=0,L20=0),61, IF( N20=0, L20, MIN(N20+J20-1,L20))) -> 61 | S20: =K20-(P20*Q20) -> 0 | T20: =M20-(K20-P20* Q20) -> 0 | AJ20: Drivers | AN20: Assets | AO20: =Balance!$E20 -> 1125.1344 | AQ20: =Balance!$F20 -> 1422.1149 | AS20: =Balance!$G20 -> 1865.7421 | AU20: =Balance!$H20 -> 2405.3889 | AW20: =Balance!$I20 -> 3057.7909
O21: =IF(N21=0,0,MIN(N21+J21-1,L21)) -> 0 | P21: =IF(O21=0,0,O21-J21+1) -> 0 | Q21: =IF(P21=0,0,K21/N21) -> 0 | R21: =IF( AND(N21=0,L21=0),61, IF( N21=0, L21, MIN(N21+J21-1,L21))) -> 61 | S21: =K21-(P21*Q21) -> 0 | T21: =M21-(K21-P21* Q21) -> 0 | AJ21: EV/EBITDA | AL21: 5 | AN21: Debt | AO21: =Balance!$E26 -> 897.20722 | AQ21: =Balance!$F26 -> 834.0568 | AS21: =Balance!$G26 -> 886.31843 | AU21: =Balance!$H26 -> 942.8208 | AW21: =Balance!$I26 -> 1003.908
O22: =IF(N22=0,0,MIN(N22+J22-1,L22)) -> 0 | P22: =IF(O22=0,0,O22-J22+1) -> 0 | Q22: =IF(P22=0,0,K22/N22) -> 0 | R22: =IF( AND(N22=0,L22=0),61, IF( N22=0, L22, MIN(N22+J22-1,L22))) -> 61 | S22: =K22-(P22*Q22) -> 0 | T22: =M22-(K22-P22* Q22) -> 0 | AJ22: P/E ratio | AL22: 8 | AN22: Equity | AO22: =Balance!$E30 -> 227.92714 | AQ22: =Balance!$F30 -> 588.05814 | AS22: =Balance!$G30 -> 979.42369 | AU22: =Balance!$H30 -> 1462.5681 | AW22: =Balance!$I30 -> 2053.8828
O23: =IF(N23=0,0,MIN(N23+J23-1,L23)) -> 0 | P23: =IF(O23=0,0,O23-J23+1) -> 0 | Q23: =IF(P23=0,0,K23/N23) -> 0 | R23: =IF( AND(N23=0,L23=0),61, IF( N23=0, L23, MIN(N23+J23-1,L23))) -> 61 | S23: =K23-(P23*Q23) -> 0 | T23: =M23-(K23-P23* Q23) -> 0 | AJ23: Terminal | AL23: 0.025 | AN23: Cash Flows
O24: =IF(N24=0,0,MIN(N24+J24-1,L24)) -> 0 | P24: =IF(O24=0,0,O24-J24+1) -> 0 | Q24: =IF(P24=0,0,K24/N24) -> 0 | R24: =IF( AND(N24=0,L24=0),61, IF( N24=0, L24, MIN(N24+J24-1,L24))) -> 61 | S24: =K24-(P24*Q24) -> 0 | T24: =M24-(K24-P24* Q24) -> 0 | AN24: Ops | AO24: =Cash!$E14 -> 93.915229 | AQ24: =Cash!$F14 -> 288.89158 | AS24: =Cash!$G14 -> 370.23871 | AU24: =Cash!$H14 -> 459.86334 | AW24: =Cash!$I14 -> 555.66607
O25: =IF(N25=0,0,MIN(N25+J25-1,L25)) -> 0 | P25: =IF(O25=0,0,O25-J25+1) -> 0 | Q25: =IF(P25=0,0,K25/N25) -> 0 | R25: =IF( AND(N25=0,L25=0),61, IF( N25=0, L25, MIN(N25+J25-1,L25))) -> 61 | S25: =K25-(P25*Q25) -> 0 | T25: =M25-(K25-P25* Q25) -> 0 | AJ25: Other | AN25: Invest | AO25: =Cash!$E23 -> -172 | AQ25: =Cash!$F23 -> 0 | AS25: =Cash!$G23 -> 0 | AU25: =Cash!$H23 -> 0 | AW25: =Cash!$I23 -> 60
O26: =IF(N26=0,0,MIN(N26+J26-1,L26)) -> 0 | P26: =IF(O26=0,0,O26-J26+1) -> 0 | Q26: =IF(P26=0,0,K26/N26) -> 0 | R26: =IF( AND(N26=0,L26=0),61, IF( N26=0, L26, MIN(N26+J26-1,L26))) -> 61 | S26: =K26-(P26*Q26) -> 0 | T26: =M26-(K26-P26* Q26) -> 0 | AJ26: Min. cash | AL26: 300 | AN26: Finance | AO26: =Cash!$E32 -> 378.08477 | AQ26: =Cash!$F32 -> -59.417298 | AS26: =Cash!$G32 -> 0 | AU26: =Cash!$H32 -> 0 | AW26: =Cash!$I32 -> 0
O27: =IF(N27=0,0,MIN(N27+J27-1,L27)) -> 0 | P27: =IF(O27=0,0,O27-J27+1) -> 0 | Q27: =IF(P27=0,0,K27/N27) -> 0 | R27: =IF( AND(N27=0,L27=0),61, IF( N27=0, L27, MIN(N27+J27-1,L27))) -> 61 | S27: =K27-(P27*Q27) -> 0 | T27: =M27-(K27-P27* Q27) -> 0 | AJ27: Income tax | AL27: 0.4 | AN27: Valuation
O28: =IF(N28=0,0,MIN(N28+J28-1,L28)) -> 0 | P28: =IF(O28=0,0,O28-J28+1) -> 0 | Q28: =IF(P28=0,0,K28/N28) -> 0 | R28: =IF( AND(N28=0,L28=0),61, IF( N28=0, L28, MIN(N28+J28-1,L28))) -> 61 | S28: =K28-(P28*Q28) -> 0 | T28: =M28-(K28-P28* Q28) -> 0 | AJ28: Invntory/AP | AL28: 0.15 | AO28: Discounted CF: | AT28: Multiples:
O29: =IF(N29=0,0,MIN(N29+J29-1,L29)) -> 0 | P29: =IF(O29=0,0,O29-J29+1) -> 0 | Q29: =IF(P29=0,0,K29/N29) -> 0 | R29: =IF( AND(N29=0,L29=0),61, IF( N29=0, L29, MIN(N29+J29-1,L29))) -> 61 | S29: =K29-(P29*Q29) -> 0 | T29: =M29-(K29-P29* Q29) -> 0 | AJ29: Commisns | AL29: 0.02 | AO29: Enterprise | AQ29: =Valuation!$H25 -> 7182.4925 | AT29: EV/EBITDA | AV29: =ValEvEbitda*Income!$F15 -> 2646.8827
O30: =IF(N30=0,0,MIN(N30+J30-1,L30)) -> 0 | P30: =IF(O30=0,0,O30-J30+1) -> 0 | Q30: =IF(P30=0,0,K30/N30) -> 0 | R30: =IF( AND(N30=0,L30=0),61, IF( N30=0, L30, MIN(N30+J30-1,L30))) -> 61 | S30: =K30-(P30*Q30) -> 0 | T30: =M30-(K30-P30* Q30) -> 0 | AJ30: Salary load | AL30: 0.3 | AO30: Equity | AQ30: =Valuation!$H$28 -> 7521.9667 | AT30: P/E | AV30: =ValPE*Income!F26 -> 2464.4697
O31: =IF(N31=0,0,MIN(N31+J31-1,L31)) -> 0 | P31: =IF(O31=0,0,O31-J31+1) -> 0 | Q31: =IF(P31=0,0,K31/N31) -> 0 | R31: =IF( AND(N31=0,L31=0),61, IF( N31=0, L31, MIN(N31+J31-1,L31))) -> 61 | S31: =K31-(P31*Q31) -> 0 | T31: =M31-(K31-P31* Q31) -> 0
O32: =IF(N32=0,0,MIN(N32+J32-1,L32)) -> 0 | P32: =IF(O32=0,0,O32-J32+1) -> 0 | Q32: =IF(P32=0,0,K32/N32) -> 0 | R32: =IF( AND(N32=0,L32=0),61, IF( N32=0, L32, MIN(N32+J32-1,L32))) -> 61 | S32: =K32-(P32*Q32) -> 0 | T32: =M32-(K32-P32* Q32) -> 0
O33: =IF(N33=0,0,MIN(N33+J33-1,L33)) -> 0 | P33: =IF(O33=0,0,O33-J33+1) -> 0 | Q33: =IF(P33=0,0,K33/N33) -> 0 | R33: =IF( AND(N33=0,L33=0),61, IF( N33=0, L33, MIN(N33+J33-1,L33))) -> 61 | S33: =K33-(P33*Q33) -> 0 | T33: =M33-(K33-P33* Q33) -> 0
O34: =IF(N34=0,0,MIN(N34+J34-1,L34)) -> 0 | P34: =IF(O34=0,0,O34-J34+1) -> 0 | Q34: =IF(P34=0,0,K34/N34) -> 0 | R34: =IF( AND(N34=0,L34=0),61, IF( N34=0, L34, MIN(N34+J34-1,L34))) -> 61 | S34: =K34-(P34*Q34) -> 0 | T34: =M34-(K34-P34* Q34) -> 0
O35: =IF(N35=0,0,MIN(N35+J35-1,L35)) -> 0 | P35: =IF(O35=0,0,O35-J35+1) -> 0 | Q35: =IF(P35=0,0,K35/N35) -> 0 | R35: =IF( AND(N35=0,L35=0),61, IF( N35=0, L35, MIN(N35+J35-1,L35))) -> 61 | S35: =K35-(P35*Q35) -> 0 | T35: =M35-(K35-P35* Q35) -> 0
O36: =IF(N36=0,0,MIN(N36+J36-1,L36)) -> 0 | P36: =IF(O36=0,0,O36-J36+1) -> 0 | Q36: =IF(P36=0,0,K36/N36) -> 0 | R36: =IF( AND(N36=0,L36=0),61, IF( N36=0, L36, MIN(N36+J36-1,L36))) -> 61 | S36: =K36-(P36*Q36) -> 0 | T36: =M36-(K36-P36* Q36) -> 0
O37: =IF(N37=0,0,MIN(N37+J37-1,L37)) -> 0 | P37: =IF(O37=0,0,O37-J37+1) -> 0 | Q37: =IF(P37=0,0,K37/N37) -> 0 | R37: =IF( AND(N37=0,L37=0),61, IF( N37=0, L37, MIN(N37+J37-1,L37))) -> 61 | S37: =K37-(P37*Q37) -> 0 | T37: =M37-(K37-P37* Q37) -> 0
O38: =IF(N38=0,0,MIN(N38+J38-1,L38)) -> 0 | P38: =IF(O38=0,0,O38-J38+1) -> 0 | Q38: =IF(P38=0,0,K38/N38) -> 0 | R38: =IF( AND(N38=0,L38=0),61, IF( N38=0, L38, MIN(N38+J38-1,L38))) -> 61 | S38: =K38-(P38*Q38) -> 0 | T38: =M38-(K38-P38* Q38) -> 0
O39: =IF(N39=0,0,MIN(N39+J39-1,L39)) -> 0 | P39: =IF(O39=0,0,O39-J39+1) -> 0 | Q39: =IF(P39=0,0,K39/N39) -> 0 | R39: =IF( AND(N39=0,L39=0),61, IF( N39=0, L39, MIN(N39+J39-1,L39))) -> 61 | S39: =K39-(P39*Q39) -> 0 | T39: =M39-(K39-P39* Q39) -> 0
O40: =IF(N40=0,0,MIN(N40+J40-1,L40)) -> 0 | P40: =IF(O40=0,0,O40-J40+1) -> 0 | Q40: =IF(P40=0,0,K40/N40) -> 0 | R40: =IF( AND(N40=0,L40=0),61, IF( N40=0, L40, MIN(N40+J40-1,L40))) -> 61 | S40: =K40-(P40*Q40) -> 0 | T40: =M40-(K40-P40* Q40) -> 0
O41: =IF(N41=0,0,MIN(N41+J41-1,L41)) -> 0 | P41: =IF(O41=0,0,O41-J41+1) -> 0 | Q41: =IF(P41=0,0,K41/N41) -> 0 | R41: =IF( AND(N41=0,L41=0),61, IF( N41=0, L41, MIN(N41+J41-1,L41))) -> 61 | S41: =K41-(P41*Q41) -> 0 | T41: =M41-(K41-P41* Q41) -> 0
O42: =IF(N42=0,0,MIN(N42+J42-1,L42)) -> 0 | P42: =IF(O42=0,0,O42-J42+1) -> 0 | Q42: =IF(P42=0,0,K42/N42) -> 0 | R42: =IF( AND(N42=0,L42=0),61, IF( N42=0, L42, MIN(N42+J42-1,L42))) -> 61 | S42: =K42-(P42*Q42) -> 0 | T42: =M42-(K42-P42* Q42) -> 0
...

Sheet Credit
A1: info
C3: Line of Credit
E4: 1 | F4: 2 | G4: 3 | H4: 4 | I4: 5 | K4: 1 | L4: 2 | M4: 3 | N4: 4 | O4: 5 | P4: 6 | Q4: 7 | R4: 8 | S4: 9 | T4: 10 | U4: 11 | V4: 12 | W4: 13 | X4: 14 | Y4: 15 | Z4: 16 | AA4: 17 | AB4: 18 | AC4: 19 | AD4: 20 | AE4: 21 | AF4: 22 | AG4: 23 | AH4: 24 | AI4: 25 | AJ4: 26 | AK4: 27 | AL4: 28 | AM4: 29 | AN4: 30 | AO4: 31 | AP4: 32 | AQ4: 33 | AR4: 34 | AS4: 35 | AT4: 36 | AU4: 37 | AV4: 38 | AW4: 39 | AX4: 40 | AY4: 41 | AZ4: 42 | BA4: 43 | BB4: 44 | BC4: 45 | BD4: 46 | BE4: 47 | BF4: 48 | BG4: 49 | BH4: 50 | BI4: 51 | BJ4: 52 | BK4: 53 | BL4: 54 | BM4: 55 | BN4: 56 | BO4: 57 | BP4: 58 | BQ4: 59 | BR4: 60
C6: Starting cash | E6: =K6 -> 175 | F6: =W6 -> 300 | G6: =AI6 -> 529.47428 | H6: =AU6 -> 899.71299 | I6: =BG6 -> 1359.5763 | K6: =SUM(StartShort,StartLong,StartCommon,StartPreferred) -> 175 | L6: =K44 -> 300 | M6: =L44 -> 300 | N6: =M44 -> 300 | O6: =N44 -> 300 | P6: =O44 -> 300 | Q6: =P44 -> 300 | R6: =Q44 -> 300 | S6: =R44 -> 300 | ... BR6: =BQ44 -> 1924.0392
C7: Preferred stock | E7: =SUM(K7:V7) -> 10 | F7: =SUM(W7:AH7) -> 0 | G7: =SUM(AI7:AT7) -> 0 | H7: =SUM(AU7:BF7) -> 0 | I7: =SUM(BG7:BR7) -> 0 | K7: =IFERROR(VLOOKUP(K$4,Drivers!$B$8:$F$66,2,FALSE),0) -> 0 | L7: =IFERROR(VLOOKUP(L$4,Drivers!$B$8:$F$66,2,FALSE),0) -> 0 | M7: =IFERROR(VLOOKUP(M$4,Drivers!$B$8:$F$66,2,FALSE),0) -> 0 | N7: =IFERROR(VLOOKUP(N$4,Drivers!$B$8:$F$66,2,FALSE),0) -> 0 | O7: =IFERROR(VLOOKUP(O$4,Drivers!$B$8:$F$66,2,FALSE),0) -> 0 | P7: =IFERROR(VLOOKUP(P$4,Drivers!$B$8:$F$66,2,FALSE),0) -> 10 | Q7: =IFERROR(VLOOKUP(Q$4,Drivers!$B$8:$F$66,2,FALSE),0) -> 0 | R7: =IFERROR(VLOOKUP(R$4,Drivers!$B$8:$F$66,2,FALSE),0) -> 0 | ... BR7: =IFERROR(VLOOKUP(BR$4,Drivers!$B$8:$F$66,2,FALSE),0) -> 0
C8: Common stock | E8: =SUM(K8:V8) -> 15 | F8: =SUM(W8:AH8) -> 60 | G8: =SUM(AI8:AT8) -> 0 | H8: =SUM(AU8:BF8) -> 0 | I8: =SUM(BG8:BR8) -> 0 | K8: =IFERROR(VLOOKUP(K$4,Drivers!$B$8:$F$66,3,FALSE),0) -> 0 | L8: =IFERROR(VLOOKUP(L$4,Drivers!$B$8:$F$66,3,FALSE),0) -> 0 | M8: =IFERROR(VLOOKUP(M$4,Drivers!$B$8:$F$66,3,FALSE),0) -> 0 | N8: =IFERROR(VLOOKUP(N$4,Drivers!$B$8:$F$66,3,FALSE),0) -> 0 | O8: =IFERROR(VLOOKUP(O$4,Drivers!$B$8:$F$66,3,FALSE),0) -> 0 | P8: =IFERROR(VLOOKUP(P$4,Drivers!$B$8:$F$66,3,FALSE),0) -> 15 | Q8: =IFERROR(VLOOKUP(Q$4,Drivers!$B$8:$F$66,3,FALSE),0) -> 0 | R8: =IFERROR(VLOOKUP(R$4,Drivers!$B$8:$F$66,3,FALSE),0) -> 0 | ... BR8: =IFERROR(VLOOKUP(BR$4,Drivers!$B$8:$F$66,3,FALSE),0) -> 0
C9: Short-term debt | E9: =SUM(K9:V9) -> 0 | F9: =SUM(W9:AH9) -> 20 | G9: =SUM(AI9:AT9) -> 0 | H9: =SUM(AU9:BF9) -> 0 | I9: =SUM(BG9:BR9) -> 0 | K9: =IFERROR(VLOOKUP(K$4,Drivers!$B$8:$F$66,4,FALSE),0) -> 0 | L9: =IFERROR(VLOOKUP(L$4,Drivers!$B$8:$F$66,4,FALSE),0) -> 0 | M9: =IFERROR(VLOOKUP(M$4,Drivers!$B$8:$F$66,4,FALSE),0) -> 0 | N9: =IFERROR(VLOOKUP(N$4,Drivers!$B$8:$F$66,4,FALSE),0) -> 0 | O9: =IFERROR(VLOOKUP(O$4,Drivers!$B$8:$F$66,4,FALSE),0) -> 0 | P9: =IFERROR(VLOOKUP(P$4,Drivers!$B$8:$F$66,4,FALSE),0) -> 0 | Q9: =IFERROR(VLOOKUP(Q$4,Drivers!$B$8:$F$66,4,FALSE),0) -> 0 | R9: =IFERROR(VLOOKUP(R$4,Drivers!$B$8:$F$66,4,FALSE),0) -> 0 | ... BR9: =IFERROR(VLOOKUP(BR$4,Drivers!$B$8:$F$66,4,FALSE),0) -> 0
C10: Long-term debt | E10: =SUM(K10:V10) -> 25 | F10: =SUM(W10:AH10) -> 30 | G10: =SUM(AI10:AT10) -> 0 | H10: =SUM(AU10:BF10) -> 0 | I10: =SUM(BG10:BR10) -> 0 | K10: =IFERROR(VLOOKUP(K$4,Drivers!$B$8:$F$66,5,FALSE),0) -> 0 | L10: =IFERROR(VLOOKUP(L$4,Drivers!$B$8:$F$66,5,FALSE),0) -> 0 | M10: =IFERROR(VLOOKUP(M$4,Drivers!$B$8:$F$66,5,FALSE),0) -> 0 | N10: =IFERROR(VLOOKUP(N$4,Drivers!$B$8:$F$66,5,FALSE),0) -> 0 | O10: =IFERROR(VLOOKUP(O$4,Drivers!$B$8:$F$66,5,FALSE),0) -> 0 | P10: =IFERROR(VLOOKUP(P$4,Drivers!$B$8:$F$66,5,FALSE),0) -> 25 | Q10: =IFERROR(VLOOKUP(Q$4,Drivers!$B$8:$F$66,5,FALSE),0) -> 0 | R10: =IFERROR(VLOOKUP(R$4,Drivers!$B$8:$F$66,5,FALSE),0) -> 0 | ... BR10: =IFERROR(VLOOKUP(BR$4,Drivers!$B$8:$F$66,5,FALSE),0) -> 0
C11: New Capital | K11: =SUM(K7:K10) -> 0 | L11: =SUM(L7:L10) -> 0 | M11: =SUM(M7:M10) -> 0 | N11: =SUM(N7:N10) -> 0 | O11: =SUM(O7:O10) -> 0 | P11: =SUM(P7:P10) -> 50 | Q11: =SUM(Q7:Q10) -> 0 | R11: =SUM(R7:R10) -> 0 | ... BR11: =SUM(BR7:BR10) -> 0
C12: Forecasted sales | E12: =SUM(K12:V12) -> 5569.9439 | F12: =SUM(W12:AH12) -> 6058.7187 | G12: =SUM(AI12:AT12) -> 6590.3846 | H12: =SUM(AU12:BF12) -> 7168.7053 | I12: =SUM(BG12:BR12) -> 7797.7749 | K12: =Income!K7 -> 446.47746 | L12: =Income!L7 -> 449.61802 | M12: =Income!M7 -> 452.78066 | N12: =Income!N7 -> 455.96555 | O12: =Income!O7 -> 459.17285 | P12: =Income!P7 -> 462.4027 | Q12: =Income!Q7 -> 465.65527 | R12: =Income!R7 -> 468.93073 | ... BR12: =Income!BR7 -> 675.15769
C13: Cash proceeds | E13: =SUM(K13:V13) -> 278.4972 | F13: =SUM(W13:AH13) -> 302.93594 | G13: =SUM(AI13:AT13) -> 329.51923 | H13: =SUM(AU13:BF13) -> 358.43526 | I13: =SUM(BG13:BR13) -> 389.88875 | K13: =TermsCollectCash*K12 -> 22.323873 | L13: =TermsCollectCash*L12 -> 22.480901 | M13: =TermsCollectCash*M12 -> 22.639033 | N13: =TermsCollectCash*N12 -> 22.798278 | O13: =TermsCollectCash*O12 -> 22.958642 | P13: =TermsCollectCash*P12 -> 23.120135 | Q13: =TermsCollectCash*Q12 -> 23.282764 | R13: =TermsCollectCash*R12 -> 23.446536 | ... BR13: =TermsCollectCash*BR12 -> 33.757885
C14: 30-day | E14: =SUM(K14:V14) -> 2543.8397 | F14: =SUM(W14:AH14) -> 3008.1995 | G14: =SUM(AI14:AT14) -> 3272.1756 | H14: =SUM(AU14:BF14) -> 3559.3162 | I14: =SUM(BG14:BR14) -> 3871.654 | L14: =TermsCollect30*K12 -> 223.23873 | M14: =TermsCollect30*L12 -> 224.80901 | N14: =TermsCollect30*M12 -> 226.39033 | O14: =TermsCollect30*N12 -> 227.98278 | P14: =TermsCollect30*O12 -> 229.58642 | Q14: =TermsCollect30*P12 -> 231.20135 | R14: =TermsCollect30*Q12 -> 232.82764 | S14: =TermsCollect30*R12 -> 234.46536 | ... BR14: =TermsCollect30*BQ12 -> 335.22088
C15: 60-day | E15: =SUM(K15:V15) -> 1843.5134 | F15: =SUM(W15:AH15) -> 2389.7499 | G15: =SUM(AI15:AT15) -> 2599.4557 | H15: =SUM(AU15:BF15) -> 2827.5637 | I15: =SUM(BG15:BR15) -> 3075.6886 | M15: =TermsCollect60*K12 -> 178.59099 | N15: =TermsCollect60*L12 -> 179.84721 | O15: =TermsCollect60*M12 -> 181.11226 | P15: =TermsCollect60*N12 -> 182.38622 | Q15: =TermsCollect60*O12 -> 183.66914 | R15: =TermsCollect60*P12 -> 184.96108 | S15: =TermsCollect60*Q12 -> 186.26211 | T15: =TermsCollect60*R12 -> 187.57229 | ... BR15: =TermsCollect60*BP12 -> 266.30351
C16: 90-day | E16: =SUM(K16:V16) -> 206.66162 | F16: =SUM(W16:AH16) -> 296.63221 | G16: =SUM(AI16:AT16) -> 322.66233 | H16: =SUM(AU16:BF16) -> 350.97666 | I16: =SUM(BG16:BR16) -> 381.77563 | N16: =TermsCollect90*K12 -> 22.323873 | O16: =TermsCollect90*L12 -> 22.480901 | P16: =TermsCollect90*M12 -> 22.639033 | Q16: =TermsCollect90*N12 -> 22.798278 | R16: =TermsCollect90*O12 -> 22.958642 | S16: =TermsCollect90*P12 -> 23.120135 | T16: =TermsCollect90*Q12 -> 23.282764 | U16: =TermsCollect90*R12 -> 23.446536 | ... BR16: =TermsCollect90*BO12 -> 33.055424
C17: Credit proceeds | E17: =SUM(K17:V17) -> 4594.0146 | F17: =SUM(W17:AH17) -> 5694.5816 | G17: =SUM(AI17:AT17) -> 6194.2936 | H17: =SUM(AU17:BF17) -> 6737.8565 | I17: =SUM(BG17:BR17) -> 7329.1182 | K17: =SUM(K14:K16) -> 0 | L17: =SUM(L14:L16) -> 223.23873 | M17: =SUM(M14:M16) -> 403.39999 | N17: =SUM(N14:N16) -> 428.56141 | O17: =SUM(O14:O16) -> 431.57594 | P17: =SUM(P14:P16) -> 434.61168 | Q17: =SUM(Q14:Q16) -> 437.66877 | R17: =SUM(R14:R16) -> 440.74736 | ... BR17: =SUM(BR14:BR16) -> 634.57981
C18: Accounts Receivable | E18: =V18 -> 697.43206 | F18: =AH18 -> 758.63326 | G18: =AT18 -> 825.20499 | H18: =BF18 -> 897.61854 | I18: =BR18 -> 976.38654 | K18: =K12-SUM(K13,K17) -> 424.15359 | L18: =K18+L12-SUM(L13,L17) -> 628.05198 | M18: =L18+M12-SUM(M13,M17) -> 654.79361 | N18: =M18+N12-SUM(N13,N17) -> 659.39947 | O18: =N18+O12-SUM(O13,O17) -> 664.03774 | P18: =O18+P12-SUM(P13,P17) -> 668.70863 | Q18: =P18+Q12-SUM(Q13,Q17) -> 673.41237 | R18: =Q18+R12-SUM(R13,R17) -> 678.1492 | S18: =R18+S12-SUM(S13,S17) -> 682.91935 | ... BR18: =BQ18+BR12-SUM(BR13,BR17) -> 976.38654
C19: Asset sales | E19: =SUM(K19:V19) -> 18 | F19: =SUM(W19:AH19) -> 0 | G19: =SUM(AI19:AT19) -> 0 | H19: =SUM(AU19:BF19) -> 0 | I19: =SUM(BG19:BR19) -> 60 | K19: =CapEx!K44 -> 0 | L19: =CapEx!L44 -> 0 | M19: =CapEx!M44 -> 0 | N19: =CapEx!N44 -> 0 | O19: =CapEx!O44 -> 0 | P19: =CapEx!P44 -> 0 | Q19: =CapEx!Q44 -> 0 | R19: =CapEx!R44 -> 0 | ... BR19: =CapEx!BR44 -> 0
C20: Cash collected | E20: =SUM(K20:V20) -> 4940.5118 | F20: =SUM(W20:AH20) -> 6107.5175 | G20: =SUM(AI20:AT20) -> 6523.8128 | H20: =SUM(AU20:BF20) -> 7096.2917 | I20: =SUM(BG20:BR20) -> 7779.0069 | K20: =SUM(K11,K13,K17,K19) -> 22.323873 | L20: =SUM(L11,L13,L17,L19) -> 245.71963 | M20: =SUM(M11,M13,M17,M19) -> 426.03903 | N20: =SUM(N11,N13,N17,N19) -> 451.35969 | O20: =SUM(O11,O13,O17,O19) -> 454.53458 | P20: =SUM(P11,P13,P17,P19) -> 507.73181 | Q20: =SUM(Q11,Q13,Q17,Q19) -> 460.95153 | R20: =SUM(R11,R13,R17,R19) -> 464.1939 | ... BR20: =SUM(BR11,BR13,BR17,BR19) -> 668.33769
C21: Forecasted COGS | E21: =SUM(K21:V21) -> 4147.6628 | F21: =SUM(W21:AH21) -> 4484.2226 | G21: =SUM(AI21:AT21) -> 4848.0924 | H21: =SUM(AU21:BF21) -> 5241.4881 | I21: =SUM(BG21:BR21) -> 5666.8057 | K21: =Income!K8 -> 333.41319 | L21: =Income!L8 -> 335.588 | M21: =Income!M8 -> 337.777 | N21: =Income!N8 -> 339.98027 | O21: =Income!O8 -> 342.19791 | P21: =Income!P8 -> 344.43002 | Q21: =Income!Q8 -> 346.67669 | R21: =Income!R8 -> 348.93801 | ... BR21: =Income!BR8 -> 489.30284
C22: Cash payments | E22: =SUM(K22:V22) -> 207.38314 | F22: =SUM(W22:AH22) -> 224.21113 | G22: =SUM(AI22:AT22) -> 242.40462 | H22: =SUM(AU22:BF22) -> 262.07441 | I22: =SUM(BG22:BR22) -> 283.34029 | K22: =TermsPayCash*K21 -> 16.67066 | L22: =TermsPayCash*L21 -> 16.7794 | M22: =TermsPayCash*M21 -> 16.88885 | N22: =TermsPayCash*N21 -> 16.999013 | O22: =TermsPayCash*O21 -> 17.109896 | P22: =TermsPayCash*P21 -> 17.221501 | Q22: =TermsPayCash*Q21 -> 17.333835 | R22: =TermsPayCash*R21 -> 17.446901 | ... BR22: =TermsPayCash*BR21 -> 24.465142
C23: 30-day | E23: =SUM(K23:V23) -> 1894.7655 | F23: =SUM(W23:AH23) -> 2227.5811 | G23: =SUM(AI23:AT23) -> 2408.3369 | H23: =SUM(AU23:BF23) -> 2603.7601 | I23: =SUM(BG23:BR23) -> 2815.0407 | L23: =TermsPay30*K21 -> 166.7066 | M23: =TermsPay30*L21 -> 167.794 | N23: =TermsPay30*M21 -> 168.8885 | O23: =TermsPay30*N21 -> 169.99013 | P23: =TermsPay30*O21 -> 171.09896 | Q23: =TermsPay30*P21 -> 172.21501 | R23: =TermsPay30*Q21 -> 173.33835 | S23: =TermsPay30*R21 -> 174.46901 | ... BR23: =TermsPay30*BQ21 -> 243.06593
C24: 60-day | E24: =SUM(K24:V24) -> 1373.4881 | F24: =SUM(W24:AH24) -> 1770.5161 | G24: =SUM(AI24:AT24) -> 1914.1836 | H24: =SUM(AU24:BF24) -> 2069.5089 | I24: =SUM(BG24:BR24) -> 2237.4381 | M24: =TermsPay60*K21 -> 133.36528 | N24: =TermsPay60*L21 -> 134.2352 | O24: =TermsPay60*M21 -> 135.1108 | P24: =TermsPay60*N21 -> 135.99211 | Q24: =TermsPay60*O21 -> 136.87916 | R24: =TermsPay60*P21 -> 137.77201 | S24: =TermsPay60*Q21 -> 138.67068 | T24: =TermsPay60*R21 -> 139.57521 | ... BR24: =TermsPay60*BP21 -> 193.19258
C25: 90-day | E25: =SUM(K25:V25) -> 154.01076 | F25: =SUM(W25:AH25) -> 219.88026 | G25: =SUM(AI25:AT25) -> 237.72232 | H25: =SUM(AU25:BF25) -> 257.01216 | I25: =SUM(BG25:BR25) -> 277.86727 | N25: =TermsPay90*K21 -> 16.67066 | O25: =TermsPay90*L21 -> 16.7794 | P25: =TermsPay90*M21 -> 16.88885 | Q25: =TermsPay90*N21 -> 16.999013 | R25: =TermsPay90*O21 -> 17.109896 | S25: =TermsPay90*P21 -> 17.221501 | T25: =TermsPay90*Q21 -> 17.333835 | U25: =TermsPay90*R21 -> 17.446901 | ... BR25: =TermsPay90*BO21 -> 23.992572
C26: Credit payments | E26: =SUM(K26:V26) -> 3422.2644 | F26: =SUM(W26:AH26) -> 4217.9774 | G26: =SUM(AI26:AT26) -> 4560.2428 | H26: =SUM(AU26:BF26) -> 4930.2812 | I26: =SUM(BG26:BR26) -> 5330.3461 | K26: =SUM(K23:K25) -> 0 | L26: =SUM(L23:L25) -> 166.7066 | M26: =SUM(M23:M25) -> 301.15928 | N26: =SUM(N23:N25) -> 319.79436 | O26: =SUM(O23:O25) -> 321.88033 | P26: =SUM(P23:P25) -> 323.97991 | Q26: =SUM(Q23:Q25) -> 326.09319 | R26: =SUM(R23:R25) -> 328.22025 | ... BR26: =SUM(BR23:BR25) -> 460.25109
C27: Accounts Payable | E27: =V27 -> 518.01533 | F27: =AH27 -> 560.0494 | G27: =AT27 -> 605.49429 | H27: =BF27 -> 654.62679 | I27: =BR27 -> 707.74611 | K27: =K21-SUM(K22,K26) -> 316.74253 | L27: =K27+L21-SUM(L22,L26) -> 468.84454 | M27: =L27+M21-SUM(M22,M26) -> 488.57341 | N27: =M27+N21-SUM(N22,N26) -> 491.7603 | O27: =N27+O21-SUM(O22,O26) -> 494.96799 | P27: =O27+P21-SUM(P22,P26) -> 498.19659 | Q27: =P27+Q21-SUM(Q22,Q26) -> 501.44626 | R27: =Q27+R21-SUM(R22,R26) -> 504.71712 | S27: =R27+S21-SUM(S22,S26) -> 508.00932 | ... BR27: =BQ27+BR21-SUM(BR22,BR26) -> 707.74611
C28: (inventory carve-out) | E28: =V28 -> 77.7023 | F28: =AH28 -> 84.007409 | G28: =AT28 -> 90.824144 | H28: =BF28 -> 98.194018 | I28: =BR28 -> 106.16192 | K28: =K27*InventoryPct -> 47.51138 | L28: =L27*InventoryPct -> 70.326681 | M28: =M27*InventoryPct -> 73.286011 | N28: =N27*InventoryPct -> 73.764045 | O28: =O27*InventoryPct -> 74.245198 | P28: =P27*InventoryPct -> 74.729489 | Q28: =Q27*InventoryPct -> 75.216939 | R28: =R27*InventoryPct -> 75.707569 | ... BR28: =BR27*InventoryPct -> 106.16192
C29: Capital expense | E29: =SUM(K29:V29) -> 190 | F29: =SUM(W29:AH29) -> 0 | G29: =SUM(AI29:AT29) -> 0 | H29: =SUM(AU29:BF29) -> 0 | I29: =SUM(BG29:BR29) -> 0 | K29: =CapEx!K12 -> 40 | L29: =CapEx!L12 -> 0 | M29: =CapEx!M12 -> 50 | N29: =CapEx!N12 -> 0 | O29: =CapEx!O12 -> 0 | P29: =CapEx!P12 -> 100 | Q29: =CapEx!Q12 -> 0 | R29: =CapEx!R12 -> 0 | ... BR29: =CapEx!BR12 -> 0
C30: Payroll expense | E30: =SUM(K30:V30) -> 404.5 | F30: =SUM(W30:AH30) -> 409.84518 | G30: =SUM(AI30:AT30) -> 415.26099 | H30: =SUM(AU30:BF30) -> 420.74837 | I30: =SUM(BG30:BR30) -> 426.30826 | K30: =Income!K11 -> 33.708333 | L30: =Income!L11 -> 33.708333 | M30: =Income!M11 -> 33.708333 | N30: =Income!N11 -> 33.708333 | O30: =Income!O11 -> 33.708333 | P30: =Income!P11 -> 33.708333 | Q30: =Income!Q11 -> 33.708333 | R30: =Income!R11 -> 33.708333 | ... BR30: =Income!BR11 -> 35.525688
C31: Commissions | E31: =SUM(K31:V31) -> 111.39888 | F31: =SUM(W31:AH31) -> 121.17437 | G31: =SUM(AI31:AT31) -> 131.80769 | H31: =SUM(AU31:BF31) -> 143.37411 | I31: =SUM(BG31:BR31) -> 155.9555 | K31: =Income!K13 -> 8.9295493 | L31: =Income!L13 -> 8.9923604 | M31: =Income!M13 -> 9.0556132 | N31: =Income!N13 -> 9.1193111 | O31: =Income!O13 -> 9.1834569 | P31: =Income!P13 -> 9.248054 | Q31: =Income!Q13 -> 9.3131055 | R31: =Income!R13 -> 9.3786145 | ... BR31: =Income!BR13 -> 13.503154
C32: Overhead expense | E32: =SUM(K32:V32) -> 500 | F32: =SUM(W32:AH32) -> 514.1 | G32: =SUM(AI32:AT32) -> 528.59762 | H32: =SUM(AU32:BF32) -> 543.50407 | I32: =SUM(BG32:BR32) -> 558.83089 | K32: =Income!K12 -> 41.666667 | L32: =Income!L12 -> 41.666667 | M32: =Income!M12 -> 41.666667 | N32: =Income!N12 -> 41.666667 | O32: =Income!O12 -> 41.666667 | P32: =Income!P12 -> 41.666667 | Q32: =Income!Q12 -> 41.666667 | R32: =Income!R12 -> 41.666667 | ... BR32: =Income!BR12 -> 46.569241
C33: Operating expense | E33: =SUM(K33:V33) -> 1015.8989 | F33: =SUM(W33:AH33) -> 1045.1196 | G33: =SUM(AI33:AT33) -> 1075.6663 | H33: =SUM(AU33:BF33) -> 1107.6265 | I33: =SUM(BG33:BR33) -> 1141.0946 | K33: =SUM(K30:K32) -> 84.304549 | L33: =SUM(L30:L32) -> 84.36736 | M33: =SUM(M30:M32) -> 84.430613 | N33: =SUM(N30:N32) -> 84.494311 | O33: =SUM(O30:O32) -> 84.558457 | P33: =SUM(P30:P32) -> 84.623054 | Q33: =SUM(Q30:Q32) -> 84.688105 | R33: =SUM(R30:R32) -> 84.753615 | ... BR33: =SUM(BR30:BR32) -> 95.598083
C34: Interest on S/T debt | E34: =SUM(K34:V34) -> 7 | F34: =SUM(W34:AH34) -> 8.4 | G34: =SUM(AI34:AT34) -> 8.4 | H34: =SUM(AU34:BF34) -> 8.4 | I34: =SUM(BG34:BR34) -> 8.4 | K34: =RateShort/12*Balance!K23 -> 0.58333333 | L34: =RateShort/12*Balance!L23 -> 0.58333333 | M34: =RateShort/12*Balance!M23 -> 0.58333333 | N34: =RateShort/12*Balance!N23 -> 0.58333333 | O34: =RateShort/12*Balance!O23 -> 0.58333333 | P34: =RateShort/12*Balance!P23 -> 0.58333333 | Q34: =RateShort/12*Balance!Q23 -> 0.58333333 | R34: =RateShort/12*Balance!R23 -> 0.58333333 | ... BR34: =RateShort/12*Balance!BR23 -> 0.7
C35: Interest on L/T debt | E35: =SUM(K35:V35) -> 2.5145833 | F35: =SUM(W35:AH35) -> 5.95 | G35: =SUM(AI35:AT35) -> 5.95 | H35: =SUM(AU35:BF35) -> 5.95 | I35: =SUM(BG35:BR35) -> 5.95 | K35: =RateLong/12*Balance!K25 -> 0.10625 | L35: =RateLong/12*Balance!L25 -> 0.10625 | M35: =RateLong/12*Balance!M25 -> 0.10625 | N35: =RateLong/12*Balance!N25 -> 0.10625 | O35: =RateLong/12*Balance!O25 -> 0.10625 | P35: =RateLong/12*Balance!P25 -> 0.28333333 | Q35: =RateLong/12*Balance!Q25 -> 0.28333333 | R35: =RateLong/12*Balance!R25 -> 0.28333333 | ... BR35: =RateLong/12*Balance!BR25 -> 0.49583333
C36: Interest on credit line | E36: =SUM(K36:V36) -> 22.647669 | F36: =SUM(W36:AH36) -> 1.5953571 | G36: =SUM(AI36:AT36) -> 0 | H36: =SUM(AU36:BF36) -> 0 | I36: =SUM(BG36:BR36) -> 0 | L36: =RateCredit/12*K45 -> 1.8518571 | M36: =RateCredit/12*L45 -> 2.0992171 | N36: =RateCredit/12*M45 -> 2.3817124 | O36: =RateCredit/12*N45 -> 2.2560563 | P36: =RateCredit/12*O45 -> 2.125886 | Q36: =RateCredit/12*P45 -> 2.3969589 | R36: =RateCredit/12*Q45 -> 2.239319 | S36: =RateCredit/12*R45 -> 2.076926 | ... BR36: =RateCredit/12*BQ45 -> 0
C37: Interest expense | E37: =SUM(K37:V37) -> 32.162252 | F37: =SUM(W37:AH37) -> 15.945357 | G37: =SUM(AI37:AT37) -> 14.35 | H37: =SUM(AU37:BF37) -> 14.35 | I37: =SUM(BG37:BR37) -> 14.35 | K37: =SUM(K34:K36) -> 0.68958333 | L37: =SUM(L34:L36) -> 2.5414404 | M37: =SUM(M34:M36) -> 2.7888004 | N37: =SUM(N34:N36) -> 3.0712957 | O37: =SUM(O34:O36) -> 2.9456396 | P37: =SUM(P34:P36) -> 2.9925526 | Q37: =SUM(Q34:Q36) -> 3.2636256 | R37: =SUM(R34:R36) -> 3.1059857 | ... BR37: =SUM(BR34:BR36) -> 1.1958333
C38: Taxes | E38: =SUM(K38:V38) -> 100.88797 | F38: =SUM(W38:AH38) -> 205.37247 | G38: =SUM(AI38:AT38) -> 260.91037 | H38: =SUM(AU38:BF38) -> 322.09626 | I38: =SUM(BG38:BR38) -> 394.20983 | K38: =Income!K25 -> 9.6280549 | L38: =Income!L25 -> 9.248486 | M38: =Income!M25 -> 9.5137013 | N38: =Income!N25 -> 9.7678716 | O38: =Income!O25 -> 10.188336 | P38: =Income!P25 -> 7.6856866 | Q38: =Income!Q25 -> 7.9535985 | R38: =Income!R25 -> 8.3961021 | ... BR38: =Income!BR25 -> 35.624376
C39: Dividends | E39: =SUM(K39:V39) -> 8.4048204 | F39: =SUM(W39:AH39) -> 7.9277066 | G39: =SUM(AI39:AT39) -> 0 | H39: =SUM(AU39:BF39) -> 0 | I39: =SUM(BG39:BR39) -> 0 | K39: =Income!K28 -> 0 | L39: =Income!L28 -> 0 | M39: =Income!M28 -> 0 | N39: =Income!N28 -> 0 | O39: =Income!O28 -> 0 | P39: =Income!P28 -> 8.4048204 | Q39: =Income!Q28 -> 0 | R39: =Income!R28 -> 0 | ... BR39: =Income!BR28 -> 0
C40: Cash disbursed | E40: =SUM(K40:V40) -> 4977.0014 | F40: =SUM(W40:AH40) -> 5716.5536 | G40: =SUM(AI40:AT40) -> 6153.5741 | H40: =SUM(AU40:BF40) -> 6636.4284 | I40: =SUM(BG40:BR40) -> 7163.3409 | K40: =SUM(K22,K26,K29,K33,K37:K39) -> 151.29285 | L40: =SUM(L22,L26,L29,L33,L37:L39) -> 279.64328 | M40: =SUM(M22,M26,M29,M33,M37:M39) -> 464.78124 | N40: =SUM(N22,N26,N29,N33,N37:N39) -> 434.12685 | O40: =SUM(O22,O26,O29,O33,O37:O39) -> 436.68266 | P40: =SUM(P22,P26,P29,P33,P37:P39) -> 544.90753 | Q40: =SUM(Q22,Q26,Q29,Q33,Q37:Q39) -> 439.33235 | R40: =SUM(R22,R26,R29,R33,R37:R39) -> 441.92285 | ... BR40: =SUM(BR22,BR26,BR29,BR33,BR37:BR39) -> 617.13452
C41: ∑ Cash in/out | E41: =SUM(K41:V41) -> -36.489591 | F41: =SUM(W41:AH41) -> 390.96387 | G41: =SUM(AI41:AT41) -> 370.23871 | H41: =SUM(AU41:BF41) -> 459.86334 | I41: =SUM(BG41:BR41) -> 615.66607 | K41: =K20-K40 -> -128.96897 | L41: =L20-L40 -> -33.923651 | M41: =M20-M40 -> -38.742216 | N41: =N20-N40 -> 17.232839 | O41: =O20-O40 -> 17.851925 | P41: =P20-P40 -> -37.175714 | Q41: =Q20-Q40 -> 21.619178 | R41: =R20-R40 -> 22.271044 | ... BR41: =BR20-BR40 -> 51.203176
C42: Unadjusted cash | E42: =V42 -> 354.14675 | F42: =AH42 -> 529.47428 | G42: =AT42 -> 899.71299 | H42: =BF42 -> 1359.5763 | I42: =BR42 -> 1975.2424 | K42: =K6+K41 -> 46.031026 | L42: =L6+L41 -> 266.07635 | M42: =M6+M41 -> 261.25778 | N42: =N6+N41 -> 317.23284 | O42: =O6+O41 -> 317.85193 | P42: =P6+P41 -> 262.82429 | Q42: =Q6+Q41 -> 321.61918 | R42: =R6+R41 -> 322.27104 | ... BR42: =BR6+BR41 -> 1975.2424
...

Sheet CapEx
A1: info
C3: Capital Expense
E4: 1 | F4: 2 | G4: 3 | H4: 4 | I4: 5 | K4: 1 | L4: 2 | M4: 3 | N4: 4 | O4: 5 | P4: 6 | Q4: 7 | R4: 8 | S4: 9 | T4: 10 | U4: 11 | V4: 12 | W4: 13 | X4: 14 | Y4: 15 | Z4: 16 | AA4: 17 | AB4: 18 | AC4: 19 | AD4: 20 | AE4: 21 | AF4: 22 | AG4: 23 | AH4: 24 | AI4: 25 | AJ4: 26 | AK4: 27 | AL4: 28 | AM4: 29 | AN4: 30 | AO4: 31 | AP4: 32 | AQ4: 33 | AR4: 34 | AS4: 35 | AT4: 36 | AU4: 37 | AV4: 38 | AW4: 39 | AX4: 40 | AY4: 41 | AZ4: 42 | BA4: 43 | BB4: 44 | BC4: 45 | BD4: 46 | BE4: 47 | BF4: 48 | BG4: 49 | BH4: 50 | BI4: 51 | BJ4: 52 | BK4: 53 | BL4: 54 | BM4: 55 | BN4: 56 | BO4: 57 | BP4: 58 | BQ4: 59 | BR4: 60
C6: Facility | E6: =SUM(K6:V6) -> 0 | F6: =SUM(W6:AH6) -> 0 | G6: =SUM(AI6:AT6) -> 0 | H6: =SUM(AU6:BF6) -> 0 | I6: =SUM(BG6:BR6) -> 0 | K6: {=SUMPRODUCT(($C6=CapexCategory)*(K$4=CapexMonth)*CapexAmount)} -> 0 | L6: {=SUMPRODUCT(($C6=CapexCategory)*(L$4=CapexMonth)*CapexAmount)} -> 0 | M6: {=SUMPRODUCT(($C6=CapexCategory)*(M$4=CapexMonth)*CapexAmount)} -> 0 | N6: {=SUMPRODUCT(($C6=CapexCategory)*(N$4=CapexMonth)*CapexAmount)} -> 0 | O6: {=SUMPRODUCT(($C6=CapexCategory)*(O$4=CapexMonth)*CapexAmount)} -> 0 | P6: {=SUMPRODUCT(($C6=CapexCategory)*(P$4=CapexMonth)*CapexAmount)} -> 0 | Q6: {=SUMPRODUCT(($C6=CapexCategory)*(Q$4=CapexMonth)*CapexAmount)} -> 0 | R6: {=SUMPRODUCT(($C6=CapexCategory)*(R$4=CapexMonth)*CapexAmount)} -> 0 | ... BR6: {=SUMPRODUCT(($C6=CapexCategory)*(BR$4=CapexMonth)*CapexAmount)} -> 0
C7: Equip | E7: =SUM(K7:V7) -> 40 | F7: =SUM(W7:AH7) -> 0 | G7: =SUM(AI7:AT7) -> 0 | H7: =SUM(AU7:BF7) -> 0 | I7: =SUM(BG7:BR7) -> 0 | K7: {=SUMPRODUCT(($C7=CapexCategory)*(K$4=CapexMonth)*CapexAmount)} -> 40 | L7: {=SUMPRODUCT(($C7=CapexCategory)*(L$4=CapexMonth)*CapexAmount)} -> 0 | M7: {=SUMPRODUCT(($C7=CapexCategory)*(M$4=CapexMonth)*CapexAmount)} -> 0 | N7: {=SUMPRODUCT(($C7=CapexCategory)*(N$4=CapexMonth)*CapexAmount)} -> 0 | O7: {=SUMPRODUCT(($C7=CapexCategory)*(O$4=CapexMonth)*CapexAmount)} -> 0 | P7: {=SUMPRODUCT(($C7=CapexCategory)*(P$4=CapexMonth)*CapexAmount)} -> 0 | Q7: {=SUMPRODUCT(($C7=CapexCategory)*(Q$4=CapexMonth)*CapexAmount)} -> 0 | R7: {=SUMPRODUCT(($C7=CapexCategory)*(R$4=CapexMonth)*CapexAmount)} -> 0 | ... BR7: {=SUMPRODUCT(($C7=CapexCategory)*(BR$4=CapexMonth)*CapexAmount)} -> 0
C8: Fixture | E8: =SUM(K8:V8) -> 0 | F8: =SUM(W8:AH8) -> 0 | G8: =SUM(AI8:AT8) -> 0 | H8: =SUM(AU8:BF8) -> 0 | I8: =SUM(BG8:BR8) -> 0 | K8: {=SUMPRODUCT(($C8=CapexCategory)*(K$4=CapexMonth)*CapexAmount)} -> 0 | L8: {=SUMPRODUCT(($C8=CapexCategory)*(L$4=CapexMonth)*CapexAmount)} -> 0 | M8: {=SUMPRODUCT(($C8=CapexCategory)*(M$4=CapexMonth)*CapexAmount)} -> 0 | N8: {=SUMPRODUCT(($C8=CapexCategory)*(N$4=CapexMonth)*CapexAmount)} -> 0 | O8: {=SUMPRODUCT(($C8=CapexCategory)*(O$4=CapexMonth)*CapexAmount)} -> 0 | P8: {=SUMPRODUCT(($C8=CapexCategory)*(P$4=CapexMonth)*CapexAmount)} -> 0 | Q8: {=SUMPRODUCT(($C8=CapexCategory)*(Q$4=CapexMonth)*CapexAmount)} -> 0 | R8: {=SUMPRODUCT(($C8=CapexCategory)*(R$4=CapexMonth)*CapexAmount)} -> 0 | ... BR8: {=SUMPRODUCT(($C8=CapexCategory)*(BR$4=CapexMonth)*CapexAmount)} -> 0
C9: Intang | E9: =SUM(K9:V9) -> 100 | F9: =SUM(W9:AH9) -> 0 | G9: =SUM(AI9:AT9) -> 0 | H9: =SUM(AU9:BF9) -> 0 | I9: =SUM(BG9:BR9) -> 0 | K9: {=SUMPRODUCT(($C9=CapexCategory)*(K$4=CapexMonth)*CapexAmount)} -> 0 | L9: {=SUMPRODUCT(($C9=CapexCategory)*(L$4=CapexMonth)*CapexAmount)} -> 0 | M9: {=SUMPRODUCT(($C9=CapexCategory)*(M$4=CapexMonth)*CapexAmount)} -> 0 | N9: {=SUMPRODUCT(($C9=CapexCategory)*(N$4=CapexMonth)*CapexAmount)} -> 0 | O9: {=SUMPRODUCT(($C9=CapexCategory)*(O$4=CapexMonth)*CapexAmount)} -> 0 | P9: {=SUMPRODUCT(($C9=CapexCategory)*(P$4=CapexMonth)*CapexAmount)} -> 100 | Q9: {=SUMPRODUCT(($C9=CapexCategory)*(Q$4=CapexMonth)*CapexAmount)} -> 0 | R9: {=SUMPRODUCT(($C9=CapexCategory)*(R$4=CapexMonth)*CapexAmount)} -> 0 | ... BR9: {=SUMPRODUCT(($C9=CapexCategory)*(BR$4=CapexMonth)*CapexAmount)} -> 0
C10: Land | E10: =SUM(K10:V10) -> 50 | F10: =SUM(W10:AH10) -> 0 | G10: =SUM(AI10:AT10) -> 0 | H10: =SUM(AU10:BF10) -> 0 | I10: =SUM(BG10:BR10) -> 0 | K10: {=SUMPRODUCT(($C10=CapexCategory)*(K$4=CapexMonth)*CapexAmount)} -> 0 | L10: {=SUMPRODUCT(($C10=CapexCategory)*(L$4=CapexMonth)*CapexAmount)} -> 0 | M10: {=SUMPRODUCT(($C10=CapexCategory)*(M$4=CapexMonth)*CapexAmount)} -> 50 | N10: {=SUMPRODUCT(($C10=CapexCategory)*(N$4=CapexMonth)*CapexAmount)} -> 0 | O10: {=SUMPRODUCT(($C10=CapexCategory)*(O$4=CapexMonth)*CapexAmount)} -> 0 | P10: {=SUMPRODUCT(($C10=CapexCategory)*(P$4=CapexMonth)*CapexAmount)} -> 0 | Q10: {=SUMPRODUCT(($C10=CapexCategory)*(Q$4=CapexMonth)*CapexAmount)} -> 0 | R10: {=SUMPRODUCT(($C10=CapexCategory)*(R$4=CapexMonth)*CapexAmount)} -> 0 | ... BR10: {=SUMPRODUCT(($C10=CapexCategory)*(BR$4=CapexMonth)*CapexAmount)} -> 0
C11: All other | E11: =SUM(K11:V11) -> 0 | F11: =SUM(W11:AH11) -> 0 | G11: =SUM(AI11:AT11) -> 0 | H11: =SUM(AU11:BF11) -> 0 | I11: =SUM(BG11:BR11) -> 0 | K11: {=SUMPRODUCT( ((ISBLANK(CapexCategory) + (CapexCategory="Other"))>0) * (K$4=CapexMonth)*CapexAmount)} -> 0 | L11: {=SUMPRODUCT( ((ISBLANK(CapexCategory) + (CapexCategory="Other"))>0) * (L$4=CapexMonth)*CapexAmount)} -> 0 | M11: {=SUMPRODUCT( ((ISBLANK(CapexCategory) + (CapexCategory="Other"))>0) * (M$4=CapexMonth)*CapexAmount)} -> 0 | N11: {=SUMPRODUCT( ((ISBLANK(CapexCategory) + (CapexCategory="Other"))>0) * (N$4=CapexMonth)*CapexAmount)} -> 0 | O11: {=SUMPRODUCT( ((ISBLANK(CapexCategory) + (CapexCategory="Other"))>0) * (O$4=CapexMonth)*CapexAmount)} -> 0 | P11: {=SUMPRODUCT( ((ISBLANK(CapexCategory) + (CapexCategory="Other"))>0) * (P$4=CapexMonth)*CapexAmount)} -> 0 | Q11: {=SUMPRODUCT( ((ISBLANK(CapexCategory) + (CapexCategory="Other"))>0) * (Q$4=CapexMonth)*CapexAmount)} -> 0 | R11: {=SUMPRODUCT( ((ISBLANK(CapexCategory) + (CapexCategory="Other"))>0) * (R$4=CapexMonth)*CapexAmount)} -> 0 | ... BR11: {=SUMPRODUCT( ((ISBLANK(CapexCategory) + (CapexCategory="Other"))>0) * (BR$4=CapexMonth)*CapexAmount)} -> 0
C12: Expenditures | E12: =SUM(K12:V12) -> 190 | F12: =SUM(W12:AH12) -> 0 | G12: =SUM(AI12:AT12) -> 0 | H12: =SUM(AU12:BF12) -> 0 | I12: =SUM(BG12:BR12) -> 0 | K12: =SUM(K6:K11) -> 40 | L12: =SUM(L6:L11) -> 0 | M12: =SUM(M6:M11) -> 50 | N12: =SUM(N6:N11) -> 0 | O12: =SUM(O6:O11) -> 0 | P12: =SUM(P6:P11) -> 100 | Q12: =SUM(Q6:Q11) -> 0 | R12: =SUM(R6:R11) -> 0 | ... BR12: =SUM(BR6:BR11) -> 0
C14: Facility | E14: =SUM(K14:V14) -> 0 | F14: =SUM(W14:AH14) -> 0 | G14: =SUM(AI14:AT14) -> 0 | H14: =SUM(AU14:BF14) -> 0 | I14: =SUM(BG14:BR14) -> 0 | K14: {=SUMPRODUCT(( $C14=CapexCategory)*(K$4>=CapexMonth)*(K$4<=SalOff)*DepExp)} -> 0 | L14: {=SUMPRODUCT(( $C14=CapexCategory)*(L$4>=CapexMonth)*(L$4<=SalOff)*DepExp)} -> 0 | M14: {=SUMPRODUCT(( $C14=CapexCategory)*(M$4>=CapexMonth)*(M$4<=SalOff)*DepExp)} -> 0 | N14: {=SUMPRODUCT(( $C14=CapexCategory)*(N$4>=CapexMonth)*(N$4<=SalOff)*DepExp)} -> 0 | O14: {=SUMPRODUCT(( $C14=CapexCategory)*(O$4>=CapexMonth)*(O$4<=SalOff)*DepExp)} -> 0 | P14: {=SUMPRODUCT(( $C14=CapexCategory)*(P$4>=CapexMonth)*(P$4<=SalOff)*DepExp)} -> 0 | Q14: {=SUMPRODUCT(( $C14=CapexCategory)*(Q$4>=CapexMonth)*(Q$4<=SalOff)*DepExp)} -> 0 | R14: {=SUMPRODUCT(( $C14=CapexCategory)*(R$4>=CapexMonth)*(R$4<=SalOff)*DepExp)} -> 0 | ... BR14: {=SUMPRODUCT(( $C14=CapexCategory)*(BR$4>=CapexMonth)*(BR$4<=SalOff)*DepExp)} -> 0
C15: Equip | E15: =SUM(K15:V15) -> 40 | F15: =SUM(W15:AH15) -> 0 | G15: =SUM(AI15:AT15) -> 0 | H15: =SUM(AU15:BF15) -> 0 | I15: =SUM(BG15:BR15) -> 0 | K15: {=SUMPRODUCT(( $C15=CapexCategory)*(K$4>=CapexMonth)*(K$4<=SalOff)*DepExp)} -> 4 | L15: {=SUMPRODUCT(( $C15=CapexCategory)*(L$4>=CapexMonth)*(L$4<=SalOff)*DepExp)} -> 4 | M15: {=SUMPRODUCT(( $C15=CapexCategory)*(M$4>=CapexMonth)*(M$4<=SalOff)*DepExp)} -> 4 | N15: {=SUMPRODUCT(( $C15=CapexCategory)*(N$4>=CapexMonth)*(N$4<=SalOff)*DepExp)} -> 4 | O15: {=SUMPRODUCT(( $C15=CapexCategory)*(O$4>=CapexMonth)*(O$4<=SalOff)*DepExp)} -> 4 | P15: {=SUMPRODUCT(( $C15=CapexCategory)*(P$4>=CapexMonth)*(P$4<=SalOff)*DepExp)} -> 4 | Q15: {=SUMPRODUCT(( $C15=CapexCategory)*(Q$4>=CapexMonth)*(Q$4<=SalOff)*DepExp)} -> 4 | R15: {=SUMPRODUCT(( $C15=CapexCategory)*(R$4>=CapexMonth)*(R$4<=SalOff)*DepExp)} -> 4 | ... BR15: {=SUMPRODUCT(( $C15=CapexCategory)*(BR$4>=CapexMonth)*(BR$4<=SalOff)*DepExp)} -> 0
C16: Fixture | E16: =SUM(K16:V16) -> 0 | F16: =SUM(W16:AH16) -> 0 | G16: =SUM(AI16:AT16) -> 0 | H16: =SUM(AU16:BF16) -> 0 | I16: =SUM(BG16:BR16) -> 0 | K16: {=SUMPRODUCT(( $C16=CapexCategory)*(K$4>=CapexMonth)*(K$4<=SalOff)*DepExp)} -> 0 | L16: {=SUMPRODUCT(( $C16=CapexCategory)*(L$4>=CapexMonth)*(L$4<=SalOff)*DepExp)} -> 0 | M16: {=SUMPRODUCT(( $C16=CapexCategory)*(M$4>=CapexMonth)*(M$4<=SalOff)*DepExp)} -> 0 | N16: {=SUMPRODUCT(( $C16=CapexCategory)*(N$4>=CapexMonth)*(N$4<=SalOff)*DepExp)} -> 0 | O16: {=SUMPRODUCT(( $C16=CapexCategory)*(O$4>=CapexMonth)*(O$4<=SalOff)*DepExp)} -> 0 | P16: {=SUMPRODUCT(( $C16=CapexCategory)*(P$4>=CapexMonth)*(P$4<=SalOff)*DepExp)} -> 0 | Q16: {=SUMPRODUCT(( $C16=CapexCategory)*(Q$4>=CapexMonth)*(Q$4<=SalOff)*DepExp)} -> 0 | R16: {=SUMPRODUCT(( $C16=CapexCategory)*(R$4>=CapexMonth)*(R$4<=SalOff)*DepExp)} -> 0 | ... BR16: {=SUMPRODUCT(( $C16=CapexCategory)*(BR$4>=CapexMonth)*(BR$4<=SalOff)*DepExp)} -> 0
C17: Intang | E17: =SUM(K17:V17) -> 50 | F17: =SUM(W17:AH17) -> 0 | G17: =SUM(AI17:AT17) -> 0 | H17: =SUM(AU17:BF17) -> 0 | I17: =SUM(BG17:BR17) -> 0 | K17: {=SUMPRODUCT(( $C17=CapexCategory)*(K$4>=CapexMonth)*(K$4<=SalOff)*DepExp)} -> 0 | L17: {=SUMPRODUCT(( $C17=CapexCategory)*(L$4>=CapexMonth)*(L$4<=SalOff)*DepExp)} -> 0 | M17: {=SUMPRODUCT(( $C17=CapexCategory)*(M$4>=CapexMonth)*(M$4<=SalOff)*DepExp)} -> 0 | N17: {=SUMPRODUCT(( $C17=CapexCategory)*(N$4>=CapexMonth)*(N$4<=SalOff)*DepExp)} -> 0 | O17: {=SUMPRODUCT(( $C17=CapexCategory)*(O$4>=CapexMonth)*(O$4<=SalOff)*DepExp)} -> 0 | P17: {=SUMPRODUCT(( $C17=CapexCategory)*(P$4>=CapexMonth)*(P$4<=SalOff)*DepExp)} -> 7.1428571 | Q17: {=SUMPRODUCT(( $C17=CapexCategory)*(Q$4>=CapexMonth)*(Q$4<=SalOff)*DepExp)} -> 7.1428571 | R17: {=SUMPRODUCT(( $C17=CapexCategory)*(R$4>=CapexMonth)*(R$4<=SalOff)*DepExp)} -> 7.1428571 | ... BR17: {=SUMPRODUCT(( $C17=CapexCategory)*(BR$4>=CapexMonth)*(BR$4<=SalOff)*DepExp)} -> 0
C18: Land | K18: {=SUMPRODUCT(( $C18=CapexCategory)*(K$4>=CapexMonth)*(K$4<=SalOff)*DepExp)} -> 0 | L18: {=SUMPRODUCT(( $C18=CapexCategory)*(L$4>=CapexMonth)*(L$4<=SalOff)*DepExp)} -> 0 | M18: {=SUMPRODUCT(( $C18=CapexCategory)*(M$4>=CapexMonth)*(M$4<=SalOff)*DepExp)} -> 0 | N18: {=SUMPRODUCT(( $C18=CapexCategory)*(N$4>=CapexMonth)*(N$4<=SalOff)*DepExp)} -> 0 | O18: {=SUMPRODUCT(( $C18=CapexCategory)*(O$4>=CapexMonth)*(O$4<=SalOff)*DepExp)} -> 0 | P18: {=SUMPRODUCT(( $C18=CapexCategory)*(P$4>=CapexMonth)*(P$4<=SalOff)*DepExp)} -> 0 | Q18: {=SUMPRODUCT(( $C18=CapexCategory)*(Q$4>=CapexMonth)*(Q$4<=SalOff)*DepExp)} -> 0 | R18: {=SUMPRODUCT(( $C18=CapexCategory)*(R$4>=CapexMonth)*(R$4<=SalOff)*DepExp)} -> 0 | ... BR18: {=SUMPRODUCT(( $C18=CapexCategory)*(BR$4>=CapexMonth)*(BR$4<=SalOff)*DepExp)} -> 0
C19: All other | E19: =SUM(K19:V19) -> 0 | F19: =SUM(W19:AH19) -> 0 | G19: =SUM(AI19:AT19) -> 0 | H19: =SUM(AU19:BF19) -> 0 | I19: =SUM(BG19:BR19) -> 0 | K19: {=SUMPRODUCT( ((ISBLANK(CapexCategory) + (CapexCategory="Other"))>0) * (K$4>=CapexMonth)*( K$4<=SalOff)*DepExp)} -> 0 | L19: {=SUMPRODUCT( ((ISBLANK(CapexCategory) + (CapexCategory="Other"))>0) * (L$4>=CapexMonth)*( L$4<=SalOff)*DepExp)} -> 0 | M19: {=SUMPRODUCT( ((ISBLANK(CapexCategory) + (CapexCategory="Other"))>0) * (M$4>=CapexMonth)*( M$4<=SalOff)*DepExp)} -> 0 | N19: {=SUMPRODUCT( ((ISBLANK(CapexCategory) + (CapexCategory="Other"))>0) * (N$4>=CapexMonth)*( N$4<=SalOff)*DepExp)} -> 0 | O19: {=SUMPRODUCT( ((ISBLANK(CapexCategory) + (CapexCategory="Other"))>0) * (O$4>=CapexMonth)*( O$4<=SalOff)*DepExp)} -> 0 | P19: {=SUMPRODUCT( ((ISBLANK(CapexCategory) + (CapexCategory="Other"))>0) * (P$4>=CapexMonth)*( P$4<=SalOff)*DepExp)} -> 0 | Q19: {=SUMPRODUCT( ((ISBLANK(CapexCategory) + (CapexCategory="Other"))>0) * (Q$4>=CapexMonth)*( Q$4<=SalOff)*DepExp)} -> 0 | R19: {=SUMPRODUCT( ((ISBLANK(CapexCategory) + (CapexCategory="Other"))>0) * (R$4>=CapexMonth)*( R$4<=SalOff)*DepExp)} -> 0 | ... BR19: {=SUMPRODUCT( ((ISBLANK(CapexCategory) + (CapexCategory="Other"))>0) * (BR$4>=CapexMonth)*( BR$4<=SalOff)*DepExp)} -> 0
C20: Depreciation | E20: =SUM(K20:V20) -> 90 | F20: =SUM(W20:AH20) -> 0 | G20: =SUM(AI20:AT20) -> 0 | H20: =SUM(AU20:BF20) -> 0 | I20: =SUM(BG20:BR20) -> 0 | K20: =SUM(K14:K19) -> 4 | L20: =SUM(L14:L19) -> 4 | M20: =SUM(M14:M19) -> 4 | N20: =SUM(N14:N19) -> 4 | O20: =SUM(O14:O19) -> 4 | P20: =SUM(P14:P19) -> 11.142857 | Q20: =SUM(Q14:Q19) -> 11.142857 | R20: =SUM(R14:R19) -> 11.142857 | ... BR20: =SUM(BR14:BR19) -> 0
C22: Facility | E22: =V22 -> 0 | F22: =AH22 -> 0 | G22: =AT22 -> 0 | H22: =BF22 -> 0 | I22: =BR22 -> 0 | K22: {=SUMPRODUCT( (CapexCategory=$C22)*(K$4>=CapexMonth) * (K$4<=DepStop)* ((K$4-CapexMonth+1)*-DepExp) )} -> 0 | L22: {=SUMPRODUCT( (CapexCategory=$C22)*(L$4>=CapexMonth) * (L$4<=DepStop)* ((L$4-CapexMonth+1)*-DepExp) )} -> 0 | M22: {=SUMPRODUCT( (CapexCategory=$C22)*(M$4>=CapexMonth) * (M$4<=DepStop)* ((M$4-CapexMonth+1)*-DepExp) )} -> 0 | N22: {=SUMPRODUCT( (CapexCategory=$C22)*(N$4>=CapexMonth) * (N$4<=DepStop)* ((N$4-CapexMonth+1)*-DepExp) )} -> 0 | O22: {=SUMPRODUCT( (CapexCategory=$C22)*(O$4>=CapexMonth) * (O$4<=DepStop)* ((O$4-CapexMonth+1)*-DepExp) )} -> 0 | P22: {=SUMPRODUCT( (CapexCategory=$C22)*(P$4>=CapexMonth) * (P$4<=DepStop)* ((P$4-CapexMonth+1)*-DepExp) )} -> 0 | Q22: {=SUMPRODUCT( (CapexCategory=$C22)*(Q$4>=CapexMonth) * (Q$4<=DepStop)* ((Q$4-CapexMonth+1)*-DepExp) )} -> 0 | R22: {=SUMPRODUCT( (CapexCategory=$C22)*(R$4>=CapexMonth) * (R$4<=DepStop)* ((R$4-CapexMonth+1)*-DepExp) )} -> 0 | ... BR22: {=SUMPRODUCT( (CapexCategory=$C22)*(BR$4>=CapexMonth) * (BR$4<=DepStop)* ((BR$4-CapexMonth+1)*-DepExp) )} -> 0
C23: Equip | E23: =V23 -> 0 | F23: =AH23 -> 0 | G23: =AT23 -> 0 | H23: =BF23 -> 0 | I23: =BR23 -> 0 | K23: {=SUMPRODUCT( (CapexCategory=$C23)*(K$4>=CapexMonth) * (K$4<=DepStop)* ((K$4-CapexMonth+1)*-DepExp) )} -> -4 | L23: {=SUMPRODUCT( (CapexCategory=$C23)*(L$4>=CapexMonth) * (L$4<=DepStop)* ((L$4-CapexMonth+1)*-DepExp) )} -> -8 | M23: {=SUMPRODUCT( (CapexCategory=$C23)*(M$4>=CapexMonth) * (M$4<=DepStop)* ((M$4-CapexMonth+1)*-DepExp) )} -> -12 | N23: {=SUMPRODUCT( (CapexCategory=$C23)*(N$4>=CapexMonth) * (N$4<=DepStop)* ((N$4-CapexMonth+1)*-DepExp) )} -> -16 | O23: {=SUMPRODUCT( (CapexCategory=$C23)*(O$4>=CapexMonth) * (O$4<=DepStop)* ((O$4-CapexMonth+1)*-DepExp) )} -> -20 | P23: {=SUMPRODUCT( (CapexCategory=$C23)*(P$4>=CapexMonth) * (P$4<=DepStop)* ((P$4-CapexMonth+1)*-DepExp) )} -> -24 | Q23: {=SUMPRODUCT( (CapexCategory=$C23)*(Q$4>=CapexMonth) * (Q$4<=DepStop)* ((Q$4-CapexMonth+1)*-DepExp) )} -> -28 | R23: {=SUMPRODUCT( (CapexCategory=$C23)*(R$4>=CapexMonth) * (R$4<=DepStop)* ((R$4-CapexMonth+1)*-DepExp) )} -> -32 | ... BR23: {=SUMPRODUCT( (CapexCategory=$C23)*(BR$4>=CapexMonth) * (BR$4<=DepStop)* ((BR$4-CapexMonth+1)*-DepExp) )} -> 0
C24: Fixture | E24: =V24 -> 0 | F24: =AH24 -> 0 | G24: =AT24 -> 0 | H24: =BF24 -> 0 | I24: =BR24 -> 0 | K24: {=SUMPRODUCT( (CapexCategory=$C24)*(K$4>=CapexMonth) * (K$4<=DepStop)* ((K$4-CapexMonth+1)*-DepExp) )} -> 0 | L24: {=SUMPRODUCT( (CapexCategory=$C24)*(L$4>=CapexMonth) * (L$4<=DepStop)* ((L$4-CapexMonth+1)*-DepExp) )} -> 0 | M24: {=SUMPRODUCT( (CapexCategory=$C24)*(M$4>=CapexMonth) * (M$4<=DepStop)* ((M$4-CapexMonth+1)*-DepExp) )} -> 0 | N24: {=SUMPRODUCT( (CapexCategory=$C24)*(N$4>=CapexMonth) * (N$4<=DepStop)* ((N$4-CapexMonth+1)*-DepExp) )} -> 0 | O24: {=SUMPRODUCT( (CapexCategory=$C24)*(O$4>=CapexMonth) * (O$4<=DepStop)* ((O$4-CapexMonth+1)*-DepExp) )} -> 0 | P24: {=SUMPRODUCT( (CapexCategory=$C24)*(P$4>=CapexMonth) * (P$4<=DepStop)* ((P$4-CapexMonth+1)*-DepExp) )} -> 0 | Q24: {=SUMPRODUCT( (CapexCategory=$C24)*(Q$4>=CapexMonth) * (Q$4<=DepStop)* ((Q$4-CapexMonth+1)*-DepExp) )} -> 0 | R24: {=SUMPRODUCT( (CapexCategory=$C24)*(R$4>=CapexMonth) * (R$4<=DepStop)* ((R$4-CapexMonth+1)*-DepExp) )} -> 0 | ... BR24: {=SUMPRODUCT( (CapexCategory=$C24)*(BR$4>=CapexMonth) * (BR$4<=DepStop)* ((BR$4-CapexMonth+1)*-DepExp) )} -> 0
C25: Intang | E25: =V25 -> -50 | F25: =AH25 -> 0 | G25: =AT25 -> 0 | H25: =BF25 -> 0 | I25: =BR25 -> 0 | K25: {=SUMPRODUCT( (CapexCategory=$C25)*(K$4>=CapexMonth) * (K$4<=DepStop)* ((K$4-CapexMonth+1)*-DepExp) )} -> 0 | L25: {=SUMPRODUCT( (CapexCategory=$C25)*(L$4>=CapexMonth) * (L$4<=DepStop)* ((L$4-CapexMonth+1)*-DepExp) )} -> 0 | M25: {=SUMPRODUCT( (CapexCategory=$C25)*(M$4>=CapexMonth) * (M$4<=DepStop)* ((M$4-CapexMonth+1)*-DepExp) )} -> 0 | N25: {=SUMPRODUCT( (CapexCategory=$C25)*(N$4>=CapexMonth) * (N$4<=DepStop)* ((N$4-CapexMonth+1)*-DepExp) )} -> 0 | O25: {=SUMPRODUCT( (CapexCategory=$C25)*(O$4>=CapexMonth) * (O$4<=DepStop)* ((O$4-CapexMonth+1)*-DepExp) )} -> 0 | P25: {=SUMPRODUCT( (CapexCategory=$C25)*(P$4>=CapexMonth) * (P$4<=DepStop)* ((P$4-CapexMonth+1)*-DepExp) )} -> -7.1428571 | Q25: {=SUMPRODUCT( (CapexCategory=$C25)*(Q$4>=CapexMonth) * (Q$4<=DepStop)* ((Q$4-CapexMonth+1)*-DepExp) )} -> -14.285714 | R25: {=SUMPRODUCT( (CapexCategory=$C25)*(R$4>=CapexMonth) * (R$4<=DepStop)* ((R$4-CapexMonth+1)*-DepExp) )} -> -21.428571 | ... BR25: {=SUMPRODUCT( (CapexCategory=$C25)*(BR$4>=CapexMonth) * (BR$4<=DepStop)* ((BR$4-CapexMonth+1)*-DepExp) )} -> 0
C26: Land | K26: {=SUMPRODUCT( (CapexCategory=$C26)*(K$4>=CapexMonth) * (K$4<=DepStop)* ((K$4-CapexMonth+1)*-DepExp) )} -> 0 | L26: {=SUMPRODUCT( (CapexCategory=$C26)*(L$4>=CapexMonth) * (L$4<=DepStop)* ((L$4-CapexMonth+1)*-DepExp) )} -> 0 | M26: {=SUMPRODUCT( (CapexCategory=$C26)*(M$4>=CapexMonth) * (M$4<=DepStop)* ((M$4-CapexMonth+1)*-DepExp) )} -> 0 | N26: {=SUMPRODUCT( (CapexCategory=$C26)*(N$4>=CapexMonth) * (N$4<=DepStop)* ((N$4-CapexMonth+1)*-DepExp) )} -> 0 | O26: {=SUMPRODUCT( (CapexCategory=$C26)*(O$4>=CapexMonth) * (O$4<=DepStop)* ((O$4-CapexMonth+1)*-DepExp) )} -> 0 | P26: {=SUMPRODUCT( (CapexCategory=$C26)*(P$4>=CapexMonth) * (P$4<=DepStop)* ((P$4-CapexMonth+1)*-DepExp) )} -> 0 | Q26: {=SUMPRODUCT( (CapexCategory=$C26)*(Q$4>=CapexMonth) * (Q$4<=DepStop)* ((Q$4-CapexMonth+1)*-DepExp) )} -> 0 | R26: {=SUMPRODUCT( (CapexCategory=$C26)*(R$4>=CapexMonth) * (R$4<=DepStop)* ((R$4-CapexMonth+1)*-DepExp) )} -> 0 | ... BR26: {=SUMPRODUCT( (CapexCategory=$C26)*(BR$4>=CapexMonth) * (BR$4<=DepStop)* ((BR$4-CapexMonth+1)*-DepExp) )} -> 0
C27: All other | E27: =V27 -> 0 | F27: =AH27 -> 0 | G27: =AT27 -> 0 | H27: =BF27 -> 0 | I27: =BR27 -> 0 | K27: {=SUMPRODUCT( ((ISBLANK(CapexCategory) + (CapexCategory="Other"))>0) *(K$4>=CapexMonth) * (K$4<=DepStop)* ((K$4-CapexMonth+1)*-DepExp) )} -> 0 | L27: {=SUMPRODUCT( ((ISBLANK(CapexCategory) + (CapexCategory="Other"))>0) *(L$4>=CapexMonth) * (L$4<=DepStop)* ((L$4-CapexMonth+1)*-DepExp) )} -> 0 | M27: {=SUMPRODUCT( ((ISBLANK(CapexCategory) + (CapexCategory="Other"))>0) *(M$4>=CapexMonth) * (M$4<=DepStop)* ((M$4-CapexMonth+1)*-DepExp) )} -> 0 | N27: {=SUMPRODUCT( ((ISBLANK(CapexCategory) + (CapexCategory="Other"))>0) *(N$4>=CapexMonth) * (N$4<=DepStop)* ((N$4-CapexMonth+1)*-DepExp) )} -> 0 | O27: {=SUMPRODUCT( ((ISBLANK(CapexCategory) + (CapexCategory="Other"))>0) *(O$4>=CapexMonth) * (O$4<=DepStop)* ((O$4-CapexMonth+1)*-DepExp) )} -> 0 | P27: {=SUMPRODUCT( ((ISBLANK(CapexCategory) + (CapexCategory="Other"))>0) *(P$4>=CapexMonth) * (P$4<=DepStop)* ((P$4-CapexMonth+1)*-DepExp) )} -> 0 | Q27: {=SUMPRODUCT( ((ISBLANK(CapexCategory) + (CapexCategory="Other"))>0) *(Q$4>=CapexMonth) * (Q$4<=DepStop)* ((Q$4-CapexMonth+1)*-DepExp) )} -> 0 | R27: {=SUMPRODUCT( ((ISBLANK(CapexCategory) + (CapexCategory="Other"))>0) *(R$4>=CapexMonth) * (R$4<=DepStop)* ((R$4-CapexMonth+1)*-DepExp) )} -> 0 | ... BR27: {=SUMPRODUCT( ((ISBLANK(CapexCategory) + (CapexCategory="Other"))>0) *(BR$4>=CapexMonth) * (BR$4<=DepStop)* ((BR$4-CapexMonth+1)*-DepExp) )} -> 0
C28: Accum. Depreciation | E28: =V28 -> -50 | F28: =AH28 -> 0 | G28: =AT28 -> 0 | H28: =BF28 -> 0 | I28: =BR28 -> 0 | K28: =SUM(K22:K27) -> -4 | L28: =SUM(L22:L27) -> -8 | M28: =SUM(M22:M27) -> -12 | N28: =SUM(N22:N27) -> -16 | O28: =SUM(O22:O27) -> -20 | P28: =SUM(P22:P27) -> -31.142857 | Q28: =SUM(Q22:Q27) -> -42.285714 | R28: =SUM(R22:R27) -> -53.428571 | ... BR28: =SUM(BR22:BR27) -> 0
C30: Facility | E30: =V30 -> 0 | F30: =AH30 -> 0 | G30: =AT30 -> 0 | H30: =BF30 -> 0 | I30: =BR30 -> 0 | K30: {=SUMPRODUCT( (CapexCategory=$C30)* (K$4>=CapexMonth) *(K$4<=SalOff) * CapexAmount)} -> 0 | L30: {=SUMPRODUCT( (CapexCategory=$C30)* (L$4>=CapexMonth) *(L$4<=SalOff) * CapexAmount)} -> 0 | M30: {=SUMPRODUCT( (CapexCategory=$C30)* (M$4>=CapexMonth) *(M$4<=SalOff) * CapexAmount)} -> 0 | N30: {=SUMPRODUCT( (CapexCategory=$C30)* (N$4>=CapexMonth) *(N$4<=SalOff) * CapexAmount)} -> 0 | O30: {=SUMPRODUCT( (CapexCategory=$C30)* (O$4>=CapexMonth) *(O$4<=SalOff) * CapexAmount)} -> 0 | P30: {=SUMPRODUCT( (CapexCategory=$C30)* (P$4>=CapexMonth) *(P$4<=SalOff) * CapexAmount)} -> 0 | Q30: {=SUMPRODUCT( (CapexCategory=$C30)* (Q$4>=CapexMonth) *(Q$4<=SalOff) * CapexAmount)} -> 0 | R30: {=SUMPRODUCT( (CapexCategory=$C30)* (R$4>=CapexMonth) *(R$4<=SalOff) * CapexAmount)} -> 0 | ... BR30: {=SUMPRODUCT( (CapexCategory=$C30)* (BR$4>=CapexMonth) *(BR$4<=SalOff) * CapexAmount)} -> 0
C31: Equip | E31: =V31 -> 0 | F31: =AH31 -> 0 | G31: =AT31 -> 0 | H31: =BF31 -> 0 | I31: =BR31 -> 0 | K31: {=SUMPRODUCT( (CapexCategory=$C31)* (K$4>=CapexMonth) *(K$4<=SalOff) * CapexAmount)} -> 40 | L31: {=SUMPRODUCT( (CapexCategory=$C31)* (L$4>=CapexMonth) *(L$4<=SalOff) * CapexAmount)} -> 40 | M31: {=SUMPRODUCT( (CapexCategory=$C31)* (M$4>=CapexMonth) *(M$4<=SalOff) * CapexAmount)} -> 40 | N31: {=SUMPRODUCT( (CapexCategory=$C31)* (N$4>=CapexMonth) *(N$4<=SalOff) * CapexAmount)} -> 40 | O31: {=SUMPRODUCT( (CapexCategory=$C31)* (O$4>=CapexMonth) *(O$4<=SalOff) * CapexAmount)} -> 40 | P31: {=SUMPRODUCT( (CapexCategory=$C31)* (P$4>=CapexMonth) *(P$4<=SalOff) * CapexAmount)} -> 40 | Q31: {=SUMPRODUCT( (CapexCategory=$C31)* (Q$4>=CapexMonth) *(Q$4<=SalOff) * CapexAmount)} -> 40 | R31: {=SUMPRODUCT( (CapexCategory=$C31)* (R$4>=CapexMonth) *(R$4<=SalOff) * CapexAmount)} -> 40 | ... BR31: {=SUMPRODUCT( (CapexCategory=$C31)* (BR$4>=CapexMonth) *(BR$4<=SalOff) * CapexAmount)} -> 0
