Workbook
Name CapexAmount: Drivers!$K$6:$K$35
Name CapexCategory: Drivers!$I$6:$I$35
Name CapexMonth: Drivers!$J$6:$J$35
Name CapitalDividends: Drivers!$G$6:$G$35
Name CapitalEquity: Drivers!$D$6:$D$35
Name CapitalLong: Drivers!$F$6:$F$35
Name CapitalMonth: Drivers!$C$6:$C$35
Name CapitalShort: Drivers!$E$6:$E$35
Name COGS: Drivers!$S$6:$S$35
Name DeprecExp: Drivers!$N$6:$N$35
Name DeprecMonths: Drivers!$L$6:$L$35
Name DeprecStop: Drivers!$M$6:$M$35
Name InventoryPct: Drivers!$AC$23
Name OtherCA: Drivers!$AC$25
Name OtherCAcagr: Drivers!$AC$26
Name OtherCL: Drivers!$AC$28
Name OtherCLcagr: Drivers!$AC$29
Name Overhead: Drivers!$U$6:$U$35
Name OverheadCAGR: Drivers!$V$6:$V$35
Name PayCAGR: Drivers!$Z$6:$Z$35
Name PayFTE: Drivers!$X$6:$X$35
Name PayLoad: Drivers!$AC$20
Name PaySalary: Drivers!$Y$6:$Y$35
Name Price: Drivers!$R$6:$R$35
Name RateEquity: Drivers!$AC$13
Name RateLong: Drivers!$AC$12
Name RateShort: Drivers!$AC$11
Name Taxes: Drivers!$AC$21
Name TermsCollectCash: Drivers!$AC$7
Name TermsCollectCredit: Drivers!$AC$8
Name TermsPayCash: Drivers!$AB$7
Name TermsPayCredit: Drivers!$AB$8
Name Units: Drivers!$P$6:$P$35
Name UnitsCAGR: Drivers!$Q$6:$Q$35
Name ValEvEbitda: Drivers!$AC$17
Name ValPE: Drivers!$AC$18
Name ValTerminal: Drivers!$AC$16
Name WACC: Drivers!$AC$14

Sheet ℹ️ 
A1: info
C5: Credit | D5: CapEx | E5: Income | F5: Balance | G5: Cash | H5: Valuation | I5: Analysis
C6: Starting cash | D6: Expenditures | E6: Revenue | F6: Current assets | G6: Operations | H6: Free cash flow | I6: Ratios
C7: New capital | D7: Depreciation | E7: Gross margin | F7: Net fixed | G7: Investing | H7: Terminal | I7: Distress
C8: Collections | D8: Accum deprec | E8: EBITDA | F8: Equity | G8: Cash fr. equity | H8: Enterprise | I8: Sensitivity
C9: Disbursements | D9: Balance | E9: EBIT | F9: Current liabs | G9: Cash fr. debt | H9: Equity bridge | I9: Cost of capital
C10: Adjusted cash | D10: Salvage | E10: Net earnings | F10: L/T liabilities | G10: Cash in/out | H10: EV/EBITDA | I10: Econ. profit
C11: Borrow/repay | D11: Net salvage | E11: Retained | F11: Equity | G11: Check balance | H11: Price/Earnings | I11: Breakeven
C20: Note: Drivers tab is populated with sample data. Select > Delete to clear cells.

Sheet Drivers
B2: Info
C3: Drivers
C4: Capitalization | H4: Capital Expenditures | O4: Gross Margin | T4: Overhead | W4: Payroll | AA4: Misc. | AF4: 5-year Summary
C5: Mo | D5: Equity | E5: Sh Debt | F5: Lg Debt | G5: Divs | H5: Purchase | I5: Catgry | J5: Mo | K5: $ | L5: # mos | M5: Stop | N5: Exp | O5: SKU | P5: Units | Q5: y/y | R5: Price | S5: COGS | T5: Expense | U5: y1 | V5: y/y | W5: Title / Level | X5: FTE | Y5: Base | Z5: y/y | AA5: Terms | AG5: 1 | AH5: 2 | AI5: 3 | AJ5: 4 | AK5: 5
C6: 1e-06 | D6: 40 | E6: 50 | F6: 100 | G6: 1e-08 | H6: Trademark | I6: Intang | J6: 6 | K6: 100 | L6: 14 | M6: =IF(L6=0,0,L6+J6-1) -> 19 | N6: =IF(L6=0,0,K6/L6) -> 7.1428571 | O6: Item 1 | P6: 100 | Q6: 0.06 | R6: 15 | S6: 12 | T6: Rent | U6: 210 | V6: 0.03 | W6: CTO | X6: 1 | Y6: 100 | Z6: 0.02 | AB6: Pay | AC6: Collect | AF6: CapEx
C7: 6 | D7: 15 | E7: 10 | F7: 20 | G7: 0.1 | H7: Systems | I7: Equip | J7: 1 | K7: 4 | L7: 10 | M7: =IF(L7=0,0,L7+J7-1) -> 10 | N7: =IF(L7=0,0,K7/L7) -> 0.4 | O7: Item 2 | P7: 210 | Q7: 0.07 | R7: 12 | S7: 9 | T7: Utilities | U7: 180 | V7: 0.02 | W7: Developer/1 | X7: 1 | Y7: 70 | Z7: 0.01 | AA7: Cash | AB7: 0.5 | AC7: 0.45 | AF7: Spend | AG7: =CapEx!$E11 -> 154 | AH7: =CapEx!$F11 -> 0 | AI7: =CapEx!$G11 -> 0 | AJ7: =CapEx!$H11 -> 0 | AK7: =CapEx!$I11 -> 0
C8: 13 | D8: 60 | E8: 20 | F8: 30 | G8: 0.05 | H8: Land | I8: Land | J8: 3 | K8: 50 | M8: =IF(L8=0,0,L8+J8-1) -> 0 | N8: =IF(L8=0,0,K8/L8) -> 0 | O8: Item 3 | P8: 320 | Q8: 0.04 | R8: 5.1 | S8: 3.46 | T8: Supplies | U8: 100 | V8: 0.05 | W8: Developer/2 | X8: 2 | Y8: 60 | Z8: 0.01 | AA8: Net 30 | AB8: 0.5 | AC8: 0.55 | AF8: Deprec | AG8: =CapEx!$E19 -> 54 | AH8: =CapEx!$F19 -> 50 | AI8: =CapEx!$G19 -> 0 | AJ8: =CapEx!$H19 -> 0 | AK8: =CapEx!$I19 -> 0
M9: =IF(L9=0,0,L9+J9-1) -> 0 | N9: =IF(L9=0,0,K9/L9) -> 0 | AA9: Total | AB9: =SUM(AB7:AB8) -> 1 | AC9: =SUM(AC7:AC8) -> 1 | AF9: Income
M10: =IF(L10=0,0,L10+J10-1) -> 0 | N10: =IF(L10=0,0,K10/L10) -> 0 | AA10: Cost of capital | AF10: Rev | AG10: =Income!$E6 -> 5788.4603 | AH10: =Income!$F6 -> 6096.2594 | AI10: =Income!$G6 -> 6420.4256 | AJ10: =Income!$H6 -> 6761.8291 | AK10: =Income!$I6 -> 7121.3867
M11: =IF(L11=0,0,L11+J11-1) -> 0 | N11: =IF(L11=0,0,K11/L11) -> 0 | AA11: Short / T debt | AC11: 0.07 | AF11: COGS | AG11: =Income!$E7 -> 4298.536 | AH11: =Income!$F7 -> 4527.109 | AI11: =Income!$G7 -> 4767.8362 | AJ11: =Income!$H7 -> 5021.364 | AK11: =Income!$I7 -> 5288.373
M12: =IF(L12=0,0,L12+J12-1) -> 0 | N12: =IF(L12=0,0,K12/L12) -> 0 | AA12: Long /T debt | AC12: 0.0875 | AF12: OpEx | AG12: =Income!E$12 -> 876.11038 | AH12: =Income!F$12 -> 896.31809 | AI12: =Income!G$12 -> 917.05377 | AJ12: =Income!H$12 -> 938.3323 | AK12: =Income!I$12 -> 960.16902
M13: =IF(L13=0,0,L13+J13-1) -> 0 | N13: =IF(L13=0,0,K13/L13) -> 0 | AA13: Ret on equity | AC13: 0.105 | AF13: Interest | AG13: =Income!$E21 -> 13.679167 | AH13: =Income!$F21 -> 18.725 | AI13: =Income!$G21 -> 18.725 | AJ13: =Income!$H21 -> 18.725 | AK13: =Income!$I21 -> 18.725
M14: =IF(L14=0,0,L14+J14-1) -> 0 | N14: =IF(L14=0,0,K14/L14) -> 0 | AA14: WACC | AC14: =((RateShort*Balance!F22)+(RateLong*Balance!F24)+(RateEquity*Balance!E28)) / SUM(Balance!F22,Balance!F24,Balance!E28) -> 0.095892273 | AF14: Earnings | AG14: =Income!$E23 -> 327.68084 | AH14: =Income!$F23 -> 362.4644 | AI14: =Income!$G23 -> 430.08636 | AJ14: =Income!$H23 -> 470.04471 | AK14: =Income!$I23 -> 512.47181
M15: =IF(L15=0,0,L15+J15-1) -> 0 | N15: =IF(L15=0,0,K15/L15) -> 0 | AA15: Valuation | AF15: Balance
M16: =IF(L16=0,0,L16+J16-1) -> 0 | N16: =IF(L16=0,0,K16/L16) -> 0 | AA16: Terminal gr. | AC16: 0.025 | AF16: Assets | AG16: =Balance!$E19 -> 775.83268 | AH16: =Balance!$F19 -> 1244.6345 | AI16: =Balance!$G19 -> 1688.0715 | AJ16: =Balance!$H19 -> 2172.211 | AK16: =Balance!$I19 -> 2699.5639
M17: =IF(L17=0,0,L17+J17-1) -> 0 | N17: =IF(L17=0,0,K17/L17) -> 0 | AA17: EV/EBITDA | AC17: 5 | AF17: Debt | AG17: =Balance!$E25 -> 410.18464 | AH17: =Balance!$F25 -> 472.83113 | AI17: =Balance!$G25 -> 486.18178 | AJ17: =Balance!$H25 -> 500.27652 | AK17: =Balance!$I25 -> 515.15761
M18: =IF(L18=0,0,L18+J18-1) -> 0 | N18: =IF(L18=0,0,K18/L18) -> 0 | AA18: Price/Earnings | AC18: 8 | AF18: Equity | AG18: =Balance!$E28 -> 365.64804 | AH18: =Balance!$F28 -> 771.8034 | AI18: =Balance!$G28 -> 1201.8898 | AJ18: =Balance!$H28 -> 1671.9345 | AK18: =Balance!$I28 -> 2184.4063
M19: =IF(L19=0,0,L19+J19-1) -> 0 | N19: =IF(L19=0,0,K19/L19) -> 0 | AA19: Income statement | AF19: Cash Flow
M20: =IF(L20=0,0,L20+J20-1) -> 0 | N20: =IF(L20=0,0,K20/L20) -> 0 | AA20: Salary load | AC20: 0.3 | AF20: Ops | AG20: =Cash!E37 -> 203.29618 | AH20: =Cash!F37 -> 396.47162 | AI20: =Cash!G37 -> 412.47034 | AJ20: =Cash!H37 -> 450.628 | AK20: =Cash!I37 -> 491.05683
M21: =IF(L21=0,0,L21+J21-1) -> 0 | N21: =IF(L21=0,0,K21/L21) -> 0 | AA21: Income tax | AC21: 0.4 | AF21: Invest | AG21: =Cash!E38 -> -154 | AH21: =Cash!F38 -> 0 | AI21: =Cash!G38 -> 0 | AJ21: =Cash!H38 -> 0 | AK21: =Cash!I38 -> 0
M22: =IF(L22=0,0,L22+J22-1) -> 0 | N22: =IF(L22=0,0,K22/L22) -> 0 | AA22: Balance sheet | AF22: Finance | AG22: =Cash!E39 -> 28 | AH22: =Cash!F39 -> 94 | AI22: =Cash!G39 -> 0 | AJ22: =Cash!H39 -> 0 | AK22: =Cash!I39 -> 0
M23: =IF(L23=0,0,L23+J23-1) -> 0 | N23: =IF(L23=0,0,K23/L23) -> 0 | AA23: Inventory/AP | AC23: 0.15 | AF23: In/out | AG23: =Cash!E40 -> 77.296182 | AH23: =Cash!F40 -> 490.47162 | AI23: =Cash!G40 -> 412.47034 | AJ23: =Cash!H40 -> 450.628 | AK23: =Cash!I40 -> 491.05683
M24: =IF(L24=0,0,L24+J24-1) -> 0 | N24: =IF(L24=0,0,K24/L24) -> 0 | AA24: Other C.A. | AF24: Valuaton
M25: =IF(L25=0,0,L25+J25-1) -> 0 | N25: =IF(L25=0,0,K25/L25) -> 0 | AA25: % of Sales | AC25: 0.21 | AF25: DCF | AG25: Enterprise | AH25: =Valuation!$H24 -> 5927.081
M26: =IF(L26=0,0,L26+J26-1) -> 0 | N26: =IF(L26=0,0,K26/L26) -> 0 | AA26: Incr/decr /yr | AC26: 0.06 | AG26: Equity | AH26: =Valuation!$H$27 -> 6454.507
M27: =IF(L27=0,0,L27+J27-1) -> 0 | N27: =IF(L27=0,0,K27/L27) -> 0 | AA27: Other C.L.
M28: =IF(L28=0,0,L28+J28-1) -> 0 | N28: =IF(L28=0,0,K28/L28) -> 0 | AA28: % of OpEx | AC28: 0.25 | AF28: Comps | AG28: EV/EBITDA | AH28: =ValEvEbitda*Income!$F13 -> 3364.1616
M29: =IF(L29=0,0,L29+J29-1) -> 0 | N29: =IF(L29=0,0,K29/L29) -> 0 | AA29: Incr/decr /yr | AC29: 0.05 | AG29: P/E | AH29: =ValPE*Income!F23 -> 2899.7152
M30: =IF(L30=0,0,L30+J30-1) -> 0 | N30: =IF(L30=0,0,K30/L30) -> 0
M31: =IF(L31=0,0,L31+J31-1) -> 0 | N31: =IF(L31=0,0,K31/L31) -> 0
M32: =IF(L32=0,0,L32+J32-1) -> 0 | N32: =IF(L32=0,0,K32/L32) -> 0
M33: =IF(L33=0,0,L33+J33-1) -> 0 | N33: =IF(L33=0,0,K33/L33) -> 0
M34: =IF(L34=0,0,L34+J34-1) -> 0 | N34: =IF(L34=0,0,K34/L34) -> 0
M35: =IF(L35=0,0,L35+J35-1) -> 0 | N35: =IF(L35=0,0,K35/L35) -> 0

Sheet CapEx
A1: info
C3: Capital Expense | E3: 1 | F3: 2 | G3: 3 | H3: 4 | I3: 5 | K3: 1 | L3: 2 | M3: 3 | N3: 4 | O3: 5 | P3: 6 | Q3: 7 | R3: 8 | S3: 9 | T3: 10 | U3: 11 | V3: 12 | W3: 13 | X3: 14 | Y3: 15 | Z3: 16 | AA3: 17 | AB3: 18 | AC3: 19 | AD3: 20 | AE3: 21 | AF3: 22 | AG3: 23 | AH3: 24 | AI3: 25 | AJ3: 26 | AK3: 27 | AL3: 28 | AM3: 29 | AN3: 30 | AO3: 31 | AP3: 32 | AQ3: 33 | AR3: 34 | AS3: 35 | AT3: 36 | AU3: 37 | AV3: 38 | AW3: 39 | AX3: 40 | AY3: 41 | AZ3: 42 | BA3: 43 | BB3: 44 | BC3: 45 | BD3: 46 | BE3: 47 | BF3: 48 | BG3: 49 | BH3: 50 | BI3: 51 | BJ3: 52 | BK3: 53 | BL3: 54 | BM3: 55 | BN3: 56 | BO3: 57 | BP3: 58 | BQ3: 59 | BR3: 60
C5: Facility | E5: =SUM(K5:V5) -> 0 | F5: =SUM(W5:AH5) -> 0 | G5: =SUM(AI5:AT5) -> 0 | H5: =SUM(AU5:BF5) -> 0 | I5: =SUM(BG5:BR5) -> 0 | K5: {=SUMPRODUCT(($C5=CapexCategory)*(K$3=CapexMonth)*CapexAmount)} -> 0 | L5: {=SUMPRODUCT(($C5=CapexCategory)*(L$3=CapexMonth)*CapexAmount)} -> 0 | M5: {=SUMPRODUCT(($C5=CapexCategory)*(M$3=CapexMonth)*CapexAmount)} -> 0 | N5: {=SUMPRODUCT(($C5=CapexCategory)*(N$3=CapexMonth)*CapexAmount)} -> 0 | O5: {=SUMPRODUCT(($C5=CapexCategory)*(O$3=CapexMonth)*CapexAmount)} -> 0 | P5: {=SUMPRODUCT(($C5=CapexCategory)*(P$3=CapexMonth)*CapexAmount)} -> 0 | Q5: {=SUMPRODUCT(($C5=CapexCategory)*(Q$3=CapexMonth)*CapexAmount)} -> 0 | R5: {=SUMPRODUCT(($C5=CapexCategory)*(R$3=CapexMonth)*CapexAmount)} -> 0 | ... BR5: {=SUMPRODUCT(($C5=CapexCategory)*(BR$3=CapexMonth)*CapexAmount)} -> 0
C6: Equip | E6: =SUM(K6:V6) -> 4 | F6: =SUM(W6:AH6) -> 0 | G6: =SUM(AI6:AT6) -> 0 | H6: =SUM(AU6:BF6) -> 0 | I6: =SUM(BG6:BR6) -> 0 | K6: {=SUMPRODUCT(($C6=CapexCategory)*(K$3=CapexMonth)*CapexAmount)} -> 4 | L6: {=SUMPRODUCT(($C6=CapexCategory)*(L$3=CapexMonth)*CapexAmount)} -> 0 | M6: {=SUMPRODUCT(($C6=CapexCategory)*(M$3=CapexMonth)*CapexAmount)} -> 0 | N6: {=SUMPRODUCT(($C6=CapexCategory)*(N$3=CapexMonth)*CapexAmount)} -> 0 | O6: {=SUMPRODUCT(($C6=CapexCategory)*(O$3=CapexMonth)*CapexAmount)} -> 0 | P6: {=SUMPRODUCT(($C6=CapexCategory)*(P$3=CapexMonth)*CapexAmount)} -> 0 | Q6: {=SUMPRODUCT(($C6=CapexCategory)*(Q$3=CapexMonth)*CapexAmount)} -> 0 | R6: {=SUMPRODUCT(($C6=CapexCategory)*(R$3=CapexMonth)*CapexAmount)} -> 0 | ... BR6: {=SUMPRODUCT(($C6=CapexCategory)*(BR$3=CapexMonth)*CapexAmount)} -> 0
C7: Fixture | E7: =SUM(K7:V7) -> 0 | F7: =SUM(W7:AH7) -> 0 | G7: =SUM(AI7:AT7) -> 0 | H7: =SUM(AU7:BF7) -> 0 | I7: =SUM(BG7:BR7) -> 0 | K7: {=SUMPRODUCT(($C7=CapexCategory)*(K$3=CapexMonth)*CapexAmount)} -> 0 | L7: {=SUMPRODUCT(($C7=CapexCategory)*(L$3=CapexMonth)*CapexAmount)} -> 0 | M7: {=SUMPRODUCT(($C7=CapexCategory)*(M$3=CapexMonth)*CapexAmount)} -> 0 | N7: {=SUMPRODUCT(($C7=CapexCategory)*(N$3=CapexMonth)*CapexAmount)} -> 0 | O7: {=SUMPRODUCT(($C7=CapexCategory)*(O$3=CapexMonth)*CapexAmount)} -> 0 | P7: {=SUMPRODUCT(($C7=CapexCategory)*(P$3=CapexMonth)*CapexAmount)} -> 0 | Q7: {=SUMPRODUCT(($C7=CapexCategory)*(Q$3=CapexMonth)*CapexAmount)} -> 0 | R7: {=SUMPRODUCT(($C7=CapexCategory)*(R$3=CapexMonth)*CapexAmount)} -> 0 | ... BR7: {=SUMPRODUCT(($C7=CapexCategory)*(BR$3=CapexMonth)*CapexAmount)} -> 0
C8: Intang | E8: =SUM(K8:V8) -> 100 | F8: =SUM(W8:AH8) -> 0 | G8: =SUM(AI8:AT8) -> 0 | H8: =SUM(AU8:BF8) -> 0 | I8: =SUM(BG8:BR8) -> 0 | K8: {=SUMPRODUCT(($C8=CapexCategory)*(K$3=CapexMonth)*CapexAmount)} -> 0 | L8: {=SUMPRODUCT(($C8=CapexCategory)*(L$3=CapexMonth)*CapexAmount)} -> 0 | M8: {=SUMPRODUCT(($C8=CapexCategory)*(M$3=CapexMonth)*CapexAmount)} -> 0 | N8: {=SUMPRODUCT(($C8=CapexCategory)*(N$3=CapexMonth)*CapexAmount)} -> 0 | O8: {=SUMPRODUCT(($C8=CapexCategory)*(O$3=CapexMonth)*CapexAmount)} -> 0 | P8: {=SUMPRODUCT(($C8=CapexCategory)*(P$3=CapexMonth)*CapexAmount)} -> 100 | Q8: {=SUMPRODUCT(($C8=CapexCategory)*(Q$3=CapexMonth)*CapexAmount)} -> 0 | R8: {=SUMPRODUCT(($C8=CapexCategory)*(R$3=CapexMonth)*CapexAmount)} -> 0 | ... BR8: {=SUMPRODUCT(($C8=CapexCategory)*(BR$3=CapexMonth)*CapexAmount)} -> 0
C9: Land | E9: =SUM(K9:V9) -> 50 | F9: =SUM(W9:AH9) -> 0 | G9: =SUM(AI9:AT9) -> 0 | H9: =SUM(AU9:BF9) -> 0 | I9: =SUM(BG9:BR9) -> 0 | K9: {=SUMPRODUCT(($C9=CapexCategory)*(K$3=CapexMonth)*CapexAmount)} -> 0 | L9: {=SUMPRODUCT(($C9=CapexCategory)*(L$3=CapexMonth)*CapexAmount)} -> 0 | M9: {=SUMPRODUCT(($C9=CapexCategory)*(M$3=CapexMonth)*CapexAmount)} -> 50 | N9: {=SUMPRODUCT(($C9=CapexCategory)*(N$3=CapexMonth)*CapexAmount)} -> 0 | O9: {=SUMPRODUCT(($C9=CapexCategory)*(O$3=CapexMonth)*CapexAmount)} -> 0 | P9: {=SUMPRODUCT(($C9=CapexCategory)*(P$3=CapexMonth)*CapexAmount)} -> 0 | Q9: {=SUMPRODUCT(($C9=CapexCategory)*(Q$3=CapexMonth)*CapexAmount)} -> 0 | R9: {=SUMPRODUCT(($C9=CapexCategory)*(R$3=CapexMonth)*CapexAmount)} -> 0 | ... BR9: {=SUMPRODUCT(($C9=CapexCategory)*(BR$3=CapexMonth)*CapexAmount)} -> 0
C10: All other | E10: =SUM(K10:V10) -> 0 | F10: =SUM(W10:AH10) -> 0 | G10: =SUM(AI10:AT10) -> 0 | H10: =SUM(AU10:BF10) -> 0 | I10: =SUM(BG10:BR10) -> 0 | K10: {=SUMPRODUCT( ((ISBLANK(CapexCategory) + (CapexCategory="Other"))>0) * (K$3=CapexMonth)*CapexAmount)} -> 0 | L10: {=SUMPRODUCT( ((ISBLANK(CapexCategory) + (CapexCategory="Other"))>0) * (L$3=CapexMonth)*CapexAmount)} -> 0 | M10: {=SUMPRODUCT( ((ISBLANK(CapexCategory) + (CapexCategory="Other"))>0) * (M$3=CapexMonth)*CapexAmount)} -> 0 | N10: {=SUMPRODUCT( ((ISBLANK(CapexCategory) + (CapexCategory="Other"))>0) * (N$3=CapexMonth)*CapexAmount)} -> 0 | O10: {=SUMPRODUCT( ((ISBLANK(CapexCategory) + (CapexCategory="Other"))>0) * (O$3=CapexMonth)*CapexAmount)} -> 0 | P10: {=SUMPRODUCT( ((ISBLANK(CapexCategory) + (CapexCategory="Other"))>0) * (P$3=CapexMonth)*CapexAmount)} -> 0 | Q10: {=SUMPRODUCT( ((ISBLANK(CapexCategory) + (CapexCategory="Other"))>0) * (Q$3=CapexMonth)*CapexAmount)} -> 0 | R10: {=SUMPRODUCT( ((ISBLANK(CapexCategory) + (CapexCategory="Other"))>0) * (R$3=CapexMonth)*CapexAmount)} -> 0 | ... BR10: {=SUMPRODUCT( ((ISBLANK(CapexCategory) + (CapexCategory="Other"))>0) * (BR$3=CapexMonth)*CapexAmount)} -> 0
C11: Expenditures | E11: =SUM(K11:V11) -> 154 | F11: =SUM(W11:AH11) -> 0 | G11: =SUM(AI11:AT11) -> 0 | H11: =SUM(AU11:BF11) -> 0 | I11: =SUM(BG11:BR11) -> 0 | K11: =SUM(K5:K10) -> 4 | L11: =SUM(L5:L10) -> 0 | M11: =SUM(M5:M10) -> 50 | N11: =SUM(N5:N10) -> 0 | O11: =SUM(O5:O10) -> 0 | P11: =SUM(P5:P10) -> 100 | Q11: =SUM(Q5:Q10) -> 0 | R11: =SUM(R5:R10) -> 0 | ... BR11: =SUM(BR5:BR10) -> 0
C13: Facility | E13: =SUM(K13:V13) -> 0 | F13: =SUM(W13:AH13) -> 0 | G13: =SUM(AI13:AT13) -> 0 | H13: =SUM(AU13:BF13) -> 0 | I13: =SUM(BG13:BR13) -> 0 | K13: {=SUMPRODUCT(( $C13=CapexCategory)*(K$3>=CapexMonth)*(K$3<=DeprecStop)*DeprecExp)} -> 0 | L13: {=SUMPRODUCT(( $C13=CapexCategory)*(L$3>=CapexMonth)*(L$3<=DeprecStop)*DeprecExp)} -> 0 | M13: {=SUMPRODUCT(( $C13=CapexCategory)*(M$3>=CapexMonth)*(M$3<=DeprecStop)*DeprecExp)} -> 0 | N13: {=SUMPRODUCT(( $C13=CapexCategory)*(N$3>=CapexMonth)*(N$3<=DeprecStop)*DeprecExp)} -> 0 | O13: {=SUMPRODUCT(( $C13=CapexCategory)*(O$3>=CapexMonth)*(O$3<=DeprecStop)*DeprecExp)} -> 0 | P13: {=SUMPRODUCT(( $C13=CapexCategory)*(P$3>=CapexMonth)*(P$3<=DeprecStop)*DeprecExp)} -> 0 | Q13: {=SUMPRODUCT(( $C13=CapexCategory)*(Q$3>=CapexMonth)*(Q$3<=DeprecStop)*DeprecExp)} -> 0 | R13: {=SUMPRODUCT(( $C13=CapexCategory)*(R$3>=CapexMonth)*(R$3<=DeprecStop)*DeprecExp)} -> 0 | ... BR13: {=SUMPRODUCT(( $C13=CapexCategory)*(BR$3>=CapexMonth)*(BR$3<=DeprecStop)*DeprecExp)} -> 0
C14: Equip | E14: =SUM(K14:V14) -> 4 | F14: =SUM(W14:AH14) -> 0 | G14: =SUM(AI14:AT14) -> 0 | H14: =SUM(AU14:BF14) -> 0 | I14: =SUM(BG14:BR14) -> 0 | K14: {=SUMPRODUCT(( $C14=CapexCategory)*(K$3>=CapexMonth)*(K$3<=DeprecStop)*DeprecExp)} -> 0.4 | L14: {=SUMPRODUCT(( $C14=CapexCategory)*(L$3>=CapexMonth)*(L$3<=DeprecStop)*DeprecExp)} -> 0.4 | M14: {=SUMPRODUCT(( $C14=CapexCategory)*(M$3>=CapexMonth)*(M$3<=DeprecStop)*DeprecExp)} -> 0.4 | N14: {=SUMPRODUCT(( $C14=CapexCategory)*(N$3>=CapexMonth)*(N$3<=DeprecStop)*DeprecExp)} -> 0.4 | O14: {=SUMPRODUCT(( $C14=CapexCategory)*(O$3>=CapexMonth)*(O$3<=DeprecStop)*DeprecExp)} -> 0.4 | P14: {=SUMPRODUCT(( $C14=CapexCategory)*(P$3>=CapexMonth)*(P$3<=DeprecStop)*DeprecExp)} -> 0.4 | Q14: {=SUMPRODUCT(( $C14=CapexCategory)*(Q$3>=CapexMonth)*(Q$3<=DeprecStop)*DeprecExp)} -> 0.4 | R14: {=SUMPRODUCT(( $C14=CapexCategory)*(R$3>=CapexMonth)*(R$3<=DeprecStop)*DeprecExp)} -> 0.4 | ... BR14: {=SUMPRODUCT(( $C14=CapexCategory)*(BR$3>=CapexMonth)*(BR$3<=DeprecStop)*DeprecExp)} -> 0
C15: Fixture | E15: =SUM(K15:V15) -> 0 | F15: =SUM(W15:AH15) -> 0 | G15: =SUM(AI15:AT15) -> 0 | H15: =SUM(AU15:BF15) -> 0 | I15: =SUM(BG15:BR15) -> 0 | K15: {=SUMPRODUCT(( $C15=CapexCategory)*(K$3>=CapexMonth)*(K$3<=DeprecStop)*DeprecExp)} -> 0 | L15: {=SUMPRODUCT(( $C15=CapexCategory)*(L$3>=CapexMonth)*(L$3<=DeprecStop)*DeprecExp)} -> 0 | M15: {=SUMPRODUCT(( $C15=CapexCategory)*(M$3>=CapexMonth)*(M$3<=DeprecStop)*DeprecExp)} -> 0 | N15: {=SUMPRODUCT(( $C15=CapexCategory)*(N$3>=CapexMonth)*(N$3<=DeprecStop)*DeprecExp)} -> 0 | O15: {=SUMPRODUCT(( $C15=CapexCategory)*(O$3>=CapexMonth)*(O$3<=DeprecStop)*DeprecExp)} -> 0 | P15: {=SUMPRODUCT(( $C15=CapexCategory)*(P$3>=CapexMonth)*(P$3<=DeprecStop)*DeprecExp)} -> 0 | Q15: {=SUMPRODUCT(( $C15=CapexCategory)*(Q$3>=CapexMonth)*(Q$3<=DeprecStop)*DeprecExp)} -> 0 | R15: {=SUMPRODUCT(( $C15=CapexCategory)*(R$3>=CapexMonth)*(R$3<=DeprecStop)*DeprecExp)} -> 0 | ... BR15: {=SUMPRODUCT(( $C15=CapexCategory)*(BR$3>=CapexMonth)*(BR$3<=DeprecStop)*DeprecExp)} -> 0
C16: Intang | E16: =SUM(K16:V16) -> 50 | F16: =SUM(W16:AH16) -> 50 | G16: =SUM(AI16:AT16) -> 0 | H16: =SUM(AU16:BF16) -> 0 | I16: =SUM(BG16:BR16) -> 0 | K16: {=SUMPRODUCT(( $C16=CapexCategory)*(K$3>=CapexMonth)*(K$3<=DeprecStop)*DeprecExp)} -> 0 | L16: {=SUMPRODUCT(( $C16=CapexCategory)*(L$3>=CapexMonth)*(L$3<=DeprecStop)*DeprecExp)} -> 0 | M16: {=SUMPRODUCT(( $C16=CapexCategory)*(M$3>=CapexMonth)*(M$3<=DeprecStop)*DeprecExp)} -> 0 | N16: {=SUMPRODUCT(( $C16=CapexCategory)*(N$3>=CapexMonth)*(N$3<=DeprecStop)*DeprecExp)} -> 0 | O16: {=SUMPRODUCT(( $C16=CapexCategory)*(O$3>=CapexMonth)*(O$3<=DeprecStop)*DeprecExp)} -> 0 | P16: {=SUMPRODUCT(( $C16=CapexCategory)*(P$3>=CapexMonth)*(P$3<=DeprecStop)*DeprecExp)} -> 7.1428571 | Q16: {=SUMPRODUCT(( $C16=CapexCategory)*(Q$3>=CapexMonth)*(Q$3<=DeprecStop)*DeprecExp)} -> 7.1428571 | R16: {=SUMPRODUCT(( $C16=CapexCategory)*(R$3>=CapexMonth)*(R$3<=DeprecStop)*DeprecExp)} -> 7.1428571 | ... BR16: {=SUMPRODUCT(( $C16=CapexCategory)*(BR$3>=CapexMonth)*(BR$3<=DeprecStop)*DeprecExp)} -> 0
C17: Land | K17: {=SUMPRODUCT(( $C17=CapexCategory)*(K$3>=CapexMonth)*DeprecExp)} -> 0 | L17: {=SUMPRODUCT(( $C17=CapexCategory)*(L$3>=CapexMonth)*DeprecExp)} -> 0 | M17: {=SUMPRODUCT(( $C17=CapexCategory)*(M$3>=CapexMonth)*DeprecExp)} -> 0 | N17: {=SUMPRODUCT(( $C17=CapexCategory)*(N$3>=CapexMonth)*DeprecExp)} -> 0 | O17: {=SUMPRODUCT(( $C17=CapexCategory)*(O$3>=CapexMonth)*DeprecExp)} -> 0 | P17: {=SUMPRODUCT(( $C17=CapexCategory)*(P$3>=CapexMonth)*DeprecExp)} -> 0 | Q17: {=SUMPRODUCT(( $C17=CapexCategory)*(Q$3>=CapexMonth)*DeprecExp)} -> 0 | R17: {=SUMPRODUCT(( $C17=CapexCategory)*(R$3>=CapexMonth)*DeprecExp)} -> 0 | ... BR17: {=SUMPRODUCT(( $C17=CapexCategory)*(BR$3>=CapexMonth)*DeprecExp)} -> 0
C18: All other | E18: =SUM(K18:V18) -> 0 | F18: =SUM(W18:AH18) -> 0 | G18: =SUM(AI18:AT18) -> 0 | H18: =SUM(AU18:BF18) -> 0 | I18: =SUM(BG18:BR18) -> 0 | K18: {=SUMPRODUCT( ((ISBLANK(CapexCategory) + (CapexCategory="Other"))>0) * (K$3>=CapexMonth)*(K$3<=DeprecStop)*DeprecExp)} -> 0 | L18: {=SUMPRODUCT( ((ISBLANK(CapexCategory) + (CapexCategory="Other"))>0) * (L$3>=CapexMonth)*(L$3<=DeprecStop)*DeprecExp)} -> 0 | M18: {=SUMPRODUCT( ((ISBLANK(CapexCategory) + (CapexCategory="Other"))>0) * (M$3>=CapexMonth)*(M$3<=DeprecStop)*DeprecExp)} -> 0 | N18: {=SUMPRODUCT( ((ISBLANK(CapexCategory) + (CapexCategory="Other"))>0) * (N$3>=CapexMonth)*(N$3<=DeprecStop)*DeprecExp)} -> 0 | O18: {=SUMPRODUCT( ((ISBLANK(CapexCategory) + (CapexCategory="Other"))>0) * (O$3>=CapexMonth)*(O$3<=DeprecStop)*DeprecExp)} -> 0 | P18: {=SUMPRODUCT( ((ISBLANK(CapexCategory) + (CapexCategory="Other"))>0) * (P$3>=CapexMonth)*(P$3<=DeprecStop)*DeprecExp)} -> 0 | Q18: {=SUMPRODUCT( ((ISBLANK(CapexCategory) + (CapexCategory="Other"))>0) * (Q$3>=CapexMonth)*(Q$3<=DeprecStop)*DeprecExp)} -> 0 | R18: {=SUMPRODUCT( ((ISBLANK(CapexCategory) + (CapexCategory="Other"))>0) * (R$3>=CapexMonth)*(R$3<=DeprecStop)*DeprecExp)} -> 0 | ... BR18: {=SUMPRODUCT( ((ISBLANK(CapexCategory) + (CapexCategory="Other"))>0) * (BR$3>=CapexMonth)*(BR$3<=DeprecStop)*DeprecExp)} -> 0
C19: Depreciation | E19: =SUM(K19:V19) -> 54 | F19: =SUM(W19:AH19) -> 50 | G19: =SUM(AI19:AT19) -> 0 | H19: =SUM(AU19:BF19) -> 0 | I19: =SUM(BG19:BR19) -> 0 | K19: =SUM(K13:K18) -> 0.4 | L19: =SUM(L13:L18) -> 0.4 | M19: =SUM(M13:M18) -> 0.4 | N19: =SUM(N13:N18) -> 0.4 | O19: =SUM(O13:O18) -> 0.4 | P19: =SUM(P13:P18) -> 7.5428571 | Q19: =SUM(Q13:Q18) -> 7.5428571 | R19: =SUM(R13:R18) -> 7.5428571 | ... BR19: =SUM(BR13:BR18) -> 0
C21: Facility | E21: =V21 -> 0 | F21: =AH21 -> 0 | G21: =AT21 -> 0 | H21: =BF21 -> 0 | I21: =BR21 -> 0 | K21: {=SUMPRODUCT( (CapexCategory=$C21)*(K$3>=CapexMonth) * (K$3<=DeprecStop)* ((K$3-CapexMonth+1)*-DeprecExp) )} -> 0 | L21: {=SUMPRODUCT( (CapexCategory=$C21)*(L$3>=CapexMonth) * (L$3<=DeprecStop)* ((L$3-CapexMonth+1)*-DeprecExp) )} -> 0 | M21: {=SUMPRODUCT( (CapexCategory=$C21)*(M$3>=CapexMonth) * (M$3<=DeprecStop)* ((M$3-CapexMonth+1)*-DeprecExp) )} -> 0 | N21: {=SUMPRODUCT( (CapexCategory=$C21)*(N$3>=CapexMonth) * (N$3<=DeprecStop)* ((N$3-CapexMonth+1)*-DeprecExp) )} -> 0 | O21: {=SUMPRODUCT( (CapexCategory=$C21)*(O$3>=CapexMonth) * (O$3<=DeprecStop)* ((O$3-CapexMonth+1)*-DeprecExp) )} -> 0 | P21: {=SUMPRODUCT( (CapexCategory=$C21)*(P$3>=CapexMonth) * (P$3<=DeprecStop)* ((P$3-CapexMonth+1)*-DeprecExp) )} -> 0 | Q21: {=SUMPRODUCT( (CapexCategory=$C21)*(Q$3>=CapexMonth) * (Q$3<=DeprecStop)* ((Q$3-CapexMonth+1)*-DeprecExp) )} -> 0 | R21: {=SUMPRODUCT( (CapexCategory=$C21)*(R$3>=CapexMonth) * (R$3<=DeprecStop)* ((R$3-CapexMonth+1)*-DeprecExp) )} -> 0 | ... BR21: {=SUMPRODUCT( (CapexCategory=$C21)*(BR$3>=CapexMonth) * (BR$3<=DeprecStop)* ((BR$3-CapexMonth+1)*-DeprecExp) )} -> 0
C22: Equip | E22: =V22 -> 0 | F22: =AH22 -> 0 | G22: =AT22 -> 0 | H22: =BF22 -> 0 | I22: =BR22 -> 0 | K22: {=SUMPRODUCT( (CapexCategory=$C22)*(K$3>=CapexMonth) * (K$3<=DeprecStop)* ((K$3-CapexMonth+1)*-DeprecExp) )} -> -0.4 | L22: {=SUMPRODUCT( (CapexCategory=$C22)*(L$3>=CapexMonth) * (L$3<=DeprecStop)* ((L$3-CapexMonth+1)*-DeprecExp) )} -> -0.8 | M22: {=SUMPRODUCT( (CapexCategory=$C22)*(M$3>=CapexMonth) * (M$3<=DeprecStop)* ((M$3-CapexMonth+1)*-DeprecExp) )} -> -1.2 | N22: {=SUMPRODUCT( (CapexCategory=$C22)*(N$3>=CapexMonth) * (N$3<=DeprecStop)* ((N$3-CapexMonth+1)*-DeprecExp) )} -> -1.6 | O22: {=SUMPRODUCT( (CapexCategory=$C22)*(O$3>=CapexMonth) * (O$3<=DeprecStop)* ((O$3-CapexMonth+1)*-DeprecExp) )} -> -2 | P22: {=SUMPRODUCT( (CapexCategory=$C22)*(P$3>=CapexMonth) * (P$3<=DeprecStop)* ((P$3-CapexMonth+1)*-DeprecExp) )} -> -2.4 | Q22: {=SUMPRODUCT( (CapexCategory=$C22)*(Q$3>=CapexMonth) * (Q$3<=DeprecStop)* ((Q$3-CapexMonth+1)*-DeprecExp) )} -> -2.8 | R22: {=SUMPRODUCT( (CapexCategory=$C22)*(R$3>=CapexMonth) * (R$3<=DeprecStop)* ((R$3-CapexMonth+1)*-DeprecExp) )} -> -3.2 | ... BR22: {=SUMPRODUCT( (CapexCategory=$C22)*(BR$3>=CapexMonth) * (BR$3<=DeprecStop)* ((BR$3-CapexMonth+1)*-DeprecExp) )} -> 0
C23: Fixture | E23: =V23 -> 0 | F23: =AH23 -> 0 | G23: =AT23 -> 0 | H23: =BF23 -> 0 | I23: =BR23 -> 0 | K23: {=SUMPRODUCT( (CapexCategory=$C23)*(K$3>=CapexMonth) * (K$3<=DeprecStop)* ((K$3-CapexMonth+1)*-DeprecExp) )} -> 0 | L23: {=SUMPRODUCT( (CapexCategory=$C23)*(L$3>=CapexMonth) * (L$3<=DeprecStop)* ((L$3-CapexMonth+1)*-DeprecExp) )} -> 0 | M23: {=SUMPRODUCT( (CapexCategory=$C23)*(M$3>=CapexMonth) * (M$3<=DeprecStop)* ((M$3-CapexMonth+1)*-DeprecExp) )} -> 0 | N23: {=SUMPRODUCT( (CapexCategory=$C23)*(N$3>=CapexMonth) * (N$3<=DeprecStop)* ((N$3-CapexMonth+1)*-DeprecExp) )} -> 0 | O23: {=SUMPRODUCT( (CapexCategory=$C23)*(O$3>=CapexMonth) * (O$3<=DeprecStop)* ((O$3-CapexMonth+1)*-DeprecExp) )} -> 0 | P23: {=SUMPRODUCT( (CapexCategory=$C23)*(P$3>=CapexMonth) * (P$3<=DeprecStop)* ((P$3-CapexMonth+1)*-DeprecExp) )} -> 0 | Q23: {=SUMPRODUCT( (CapexCategory=$C23)*(Q$3>=CapexMonth) * (Q$3<=DeprecStop)* ((Q$3-CapexMonth+1)*-DeprecExp) )} -> 0 | R23: {=SUMPRODUCT( (CapexCategory=$C23)*(R$3>=CapexMonth) * (R$3<=DeprecStop)* ((R$3-CapexMonth+1)*-DeprecExp) )} -> 0 | ... BR23: {=SUMPRODUCT( (CapexCategory=$C23)*(BR$3>=CapexMonth) * (BR$3<=DeprecStop)* ((BR$3-CapexMonth+1)*-DeprecExp) )} -> 0
C24: Intang | E24: =V24 -> -50 | F24: =AH24 -> 0 | G24: =AT24 -> 0 | H24: =BF24 -> 0 | I24: =BR24 -> 0 | K24: {=SUMPRODUCT( (CapexCategory=$C24)*(K$3>=CapexMonth) * (K$3<=DeprecStop)* ((K$3-CapexMonth+1)*-DeprecExp) )} -> 0 | L24: {=SUMPRODUCT( (CapexCategory=$C24)*(L$3>=CapexMonth) * (L$3<=DeprecStop)* ((L$3-CapexMonth+1)*-DeprecExp) )} -> 0 | M24: {=SUMPRODUCT( (CapexCategory=$C24)*(M$3>=CapexMonth) * (M$3<=DeprecStop)* ((M$3-CapexMonth+1)*-DeprecExp) )} -> 0 | N24: {=SUMPRODUCT( (CapexCategory=$C24)*(N$3>=CapexMonth) * (N$3<=DeprecStop)* ((N$3-CapexMonth+1)*-DeprecExp) )} -> 0 | O24: {=SUMPRODUCT( (CapexCategory=$C24)*(O$3>=CapexMonth) * (O$3<=DeprecStop)* ((O$3-CapexMonth+1)*-DeprecExp) )} -> 0 | P24: {=SUMPRODUCT( (CapexCategory=$C24)*(P$3>=CapexMonth) * (P$3<=DeprecStop)* ((P$3-CapexMonth+1)*-DeprecExp) )} -> -7.1428571 | Q24: {=SUMPRODUCT( (CapexCategory=$C24)*(Q$3>=CapexMonth) * (Q$3<=DeprecStop)* ((Q$3-CapexMonth+1)*-DeprecExp) )} -> -14.285714 | R24: {=SUMPRODUCT( (CapexCategory=$C24)*(R$3>=CapexMonth) * (R$3<=DeprecStop)* ((R$3-CapexMonth+1)*-DeprecExp) )} -> -21.428571 | ... BR24: {=SUMPRODUCT( (CapexCategory=$C24)*(BR$3>=CapexMonth) * (BR$3<=DeprecStop)* ((BR$3-CapexMonth+1)*-DeprecExp) )} -> 0
C25: Land | K25: {=SUMPRODUCT( (CapexCategory=$C25)*(K$3>=CapexMonth) * (K$3<=DeprecStop)* ((K$3-CapexMonth+1)*-DeprecExp) )} -> 0 | L25: {=SUMPRODUCT( (CapexCategory=$C25)*(L$3>=CapexMonth) * (L$3<=DeprecStop)* ((L$3-CapexMonth+1)*-DeprecExp) )} -> 0 | M25: {=SUMPRODUCT( (CapexCategory=$C25)*(M$3>=CapexMonth) * (M$3<=DeprecStop)* ((M$3-CapexMonth+1)*-DeprecExp) )} -> 0 | N25: {=SUMPRODUCT( (CapexCategory=$C25)*(N$3>=CapexMonth) * (N$3<=DeprecStop)* ((N$3-CapexMonth+1)*-DeprecExp) )} -> 0 | O25: {=SUMPRODUCT( (CapexCategory=$C25)*(O$3>=CapexMonth) * (O$3<=DeprecStop)* ((O$3-CapexMonth+1)*-DeprecExp) )} -> 0 | P25: {=SUMPRODUCT( (CapexCategory=$C25)*(P$3>=CapexMonth) * (P$3<=DeprecStop)* ((P$3-CapexMonth+1)*-DeprecExp) )} -> 0 | Q25: {=SUMPRODUCT( (CapexCategory=$C25)*(Q$3>=CapexMonth) * (Q$3<=DeprecStop)* ((Q$3-CapexMonth+1)*-DeprecExp) )} -> 0 | R25: {=SUMPRODUCT( (CapexCategory=$C25)*(R$3>=CapexMonth) * (R$3<=DeprecStop)* ((R$3-CapexMonth+1)*-DeprecExp) )} -> 0 | ... BR25: {=SUMPRODUCT( (CapexCategory=$C25)*(BR$3>=CapexMonth) * (BR$3<=DeprecStop)* ((BR$3-CapexMonth+1)*-DeprecExp) )} -> 0
C26: All other | E26: =V26 -> 0 | F26: =AH26 -> 0 | G26: =AT26 -> 0 | H26: =BF26 -> 0 | I26: =BR26 -> 0 | K26: {=SUMPRODUCT( ((ISBLANK(CapexCategory) + (CapexCategory="Other"))>0) *(K$3>=CapexMonth) * (K$3<=DeprecStop)* ((K$3-CapexMonth+1)*-DeprecExp) )} -> 0 | L26: {=SUMPRODUCT( ((ISBLANK(CapexCategory) + (CapexCategory="Other"))>0) *(L$3>=CapexMonth) * (L$3<=DeprecStop)* ((L$3-CapexMonth+1)*-DeprecExp) )} -> 0 | M26: {=SUMPRODUCT( ((ISBLANK(CapexCategory) + (CapexCategory="Other"))>0) *(M$3>=CapexMonth) * (M$3<=DeprecStop)* ((M$3-CapexMonth+1)*-DeprecExp) )} -> 0 | N26: {=SUMPRODUCT( ((ISBLANK(CapexCategory) + (CapexCategory="Other"))>0) *(N$3>=CapexMonth) * (N$3<=DeprecStop)* ((N$3-CapexMonth+1)*-DeprecExp) )} -> 0 | O26: {=SUMPRODUCT( ((ISBLANK(CapexCategory) + (CapexCategory="Other"))>0) *(O$3>=CapexMonth) * (O$3<=DeprecStop)* ((O$3-CapexMonth+1)*-DeprecExp) )} -> 0 | P26: {=SUMPRODUCT( ((ISBLANK(CapexCategory) + (CapexCategory="Other"))>0) *(P$3>=CapexMonth) * (P$3<=DeprecStop)* ((P$3-CapexMonth+1)*-DeprecExp) )} -> 0 | Q26: {=SUMPRODUCT( ((ISBLANK(CapexCategory) + (CapexCategory="Other"))>0) *(Q$3>=CapexMonth) * (Q$3<=DeprecStop)* ((Q$3-CapexMonth+1)*-DeprecExp) )} -> 0 | R26: {=SUMPRODUCT( ((ISBLANK(CapexCategory) + (CapexCategory="Other"))>0) *(R$3>=CapexMonth) * (R$3<=DeprecStop)* ((R$3-CapexMonth+1)*-DeprecExp) )} -> 0 | ... BR26: {=SUMPRODUCT( ((ISBLANK(CapexCategory) + (CapexCategory="Other"))>0) *(BR$3>=CapexMonth) * (BR$3<=DeprecStop)* ((BR$3-CapexMonth+1)*-DeprecExp) )} -> 0
C27: Accum. Depreciation | E27: =V27 -> -50 | F27: =AH27 -> 0 | G27: =AT27 -> 0 | H27: =BF27 -> 0 | I27: =BR27 -> 0 | K27: =SUM(K21:K26) -> -0.4 | L27: =SUM(L21:L26) -> -0.8 | M27: =SUM(M21:M26) -> -1.2 | N27: =SUM(N21:N26) -> -1.6 | O27: =SUM(O21:O26) -> -2 | P27: =SUM(P21:P26) -> -9.5428571 | Q27: =SUM(Q21:Q26) -> -17.085714 | R27: =SUM(R21:R26) -> -24.628571 | ... BR27: =SUM(BR21:BR26) -> 0
C29: Facility | E29: =V29 -> 0 | F29: =AH29 -> 0 | G29: =AT29 -> 0 | H29: =BF29 -> 0 | I29: =BR29 -> 0 | K29: {=SUMPRODUCT( (CapexCategory=$C29)* (K$3>=CapexMonth) * (K$3<=DeprecStop) * CapexAmount)} -> 0 | L29: {=SUMPRODUCT( (CapexCategory=$C29)* (L$3>=CapexMonth) * CapexAmount)} -> 0 | M29: {=SUMPRODUCT( (CapexCategory=$C29)* (M$3>=CapexMonth) * CapexAmount)} -> 0 | N29: {=SUMPRODUCT( (CapexCategory=$C29)* (N$3>=CapexMonth) * CapexAmount)} -> 0 | O29: {=SUMPRODUCT( (CapexCategory=$C29)* (O$3>=CapexMonth) * CapexAmount)} -> 0 | P29: {=SUMPRODUCT( (CapexCategory=$C29)* (P$3>=CapexMonth) * CapexAmount)} -> 0 | Q29: {=SUMPRODUCT( (CapexCategory=$C29)* (Q$3>=CapexMonth) * CapexAmount)} -> 0 | R29: {=SUMPRODUCT( (CapexCategory=$C29)* (R$3>=CapexMonth) * CapexAmount)} -> 0 | S29: {=SUMPRODUCT( (CapexCategory=$C29)* (S$3>=CapexMonth) * CapexAmount)} -> 0 | ... BR29: {=SUMPRODUCT( (CapexCategory=$C29)* (BR$3>=CapexMonth) * CapexAmount)} -> 0
C30: Equip | E30: =V30 -> 0 | F30: =AH30 -> 0 | G30: =AT30 -> 0 | H30: =BF30 -> 0 | I30: =BR30 -> 0 | K30: {=SUMPRODUCT( (CapexCategory=$C30)* (K$3>=CapexMonth) * (K$3<=DeprecStop) * CapexAmount)} -> 4 | L30: {=SUMPRODUCT( (CapexCategory=$C30)* (L$3>=CapexMonth) * (L$3<=DeprecStop) * CapexAmount)} -> 4 | M30: {=SUMPRODUCT( (CapexCategory=$C30)* (M$3>=CapexMonth) * (M$3<=DeprecStop) * CapexAmount)} -> 4 | N30: {=SUMPRODUCT( (CapexCategory=$C30)* (N$3>=CapexMonth) * (N$3<=DeprecStop) * CapexAmount)} -> 4 | O30: {=SUMPRODUCT( (CapexCategory=$C30)* (O$3>=CapexMonth) * (O$3<=DeprecStop) * CapexAmount)} -> 4 | P30: {=SUMPRODUCT( (CapexCategory=$C30)* (P$3>=CapexMonth) * (P$3<=DeprecStop) * CapexAmount)} -> 4 | Q30: {=SUMPRODUCT( (CapexCategory=$C30)* (Q$3>=CapexMonth) * (Q$3<=DeprecStop) * CapexAmount)} -> 4 | R30: {=SUMPRODUCT( (CapexCategory=$C30)* (R$3>=CapexMonth) * (R$3<=DeprecStop) * CapexAmount)} -> 4 | ... BR30: {=SUMPRODUCT( (CapexCategory=$C30)* (BR$3>=CapexMonth) * (BR$3<=DeprecStop) * CapexAmount)} -> 0
C31: Fixture | E31: =V31 -> 0 | F31: =AH31 -> 0 | G31: =AT31 -> 0 | H31: =BF31 -> 0 | I31: =BR31 -> 0 | K31: {=SUMPRODUCT( (CapexCategory=$C31)* (K$3>=CapexMonth) * (K$3<=DeprecStop) * CapexAmount)} -> 0 | L31: {=SUMPRODUCT( (CapexCategory=$C31)* (L$3>=CapexMonth) * (L$3<=DeprecStop) * CapexAmount)} -> 0 | M31: {=SUMPRODUCT( (CapexCategory=$C31)* (M$3>=CapexMonth) * (M$3<=DeprecStop) * CapexAmount)} -> 0 | N31: {=SUMPRODUCT( (CapexCategory=$C31)* (N$3>=CapexMonth) * (N$3<=DeprecStop) * CapexAmount)} -> 0 | O31: {=SUMPRODUCT( (CapexCategory=$C31)* (O$3>=CapexMonth) * (O$3<=DeprecStop) * CapexAmount)} -> 0 | P31: {=SUMPRODUCT( (CapexCategory=$C31)* (P$3>=CapexMonth) * (P$3<=DeprecStop) * CapexAmount)} -> 0 | Q31: {=SUMPRODUCT( (CapexCategory=$C31)* (Q$3>=CapexMonth) * (Q$3<=DeprecStop) * CapexAmount)} -> 0 | R31: {=SUMPRODUCT( (CapexCategory=$C31)* (R$3>=CapexMonth) * (R$3<=DeprecStop) * CapexAmount)} -> 0 | ... BR31: {=SUMPRODUCT( (CapexCategory=$C31)* (BR$3>=CapexMonth) * (BR$3<=DeprecStop) * CapexAmount)} -> 0
C32: Intang | E32: =V32 -> 100 | F32: =AH32 -> 0 | G32: =AT32 -> 0 | H32: =BF32 -> 0 | I32: =BR32 -> 0 | K32: {=SUMPRODUCT( (CapexCategory=$C32)* (K$3>=CapexMonth) * (K$3<=DeprecStop) * CapexAmount)} -> 0 | L32: {=SUMPRODUCT( (CapexCategory=$C32)* (L$3>=CapexMonth) * (L$3<=DeprecStop) * CapexAmount)} -> 0 | M32: {=SUMPRODUCT( (CapexCategory=$C32)* (M$3>=CapexMonth) * (M$3<=DeprecStop) * CapexAmount)} -> 0 | N32: {=SUMPRODUCT( (CapexCategory=$C32)* (N$3>=CapexMonth) * (N$3<=DeprecStop) * CapexAmount)} -> 0 | O32: {=SUMPRODUCT( (CapexCategory=$C32)* (O$3>=CapexMonth) * (O$3<=DeprecStop) * CapexAmount)} -> 0 | P32: {=SUMPRODUCT( (CapexCategory=$C32)* (P$3>=CapexMonth) * (P$3<=DeprecStop) * CapexAmount)} -> 100 | Q32: {=SUMPRODUCT( (CapexCategory=$C32)* (Q$3>=CapexMonth) * (Q$3<=DeprecStop) * CapexAmount)} -> 100 | R32: {=SUMPRODUCT( (CapexCategory=$C32)* (R$3>=CapexMonth) * (R$3<=DeprecStop) * CapexAmount)} -> 100 | ... BR32: {=SUMPRODUCT( (CapexCategory=$C32)* (BR$3>=CapexMonth) * (BR$3<=DeprecStop) * CapexAmount)} -> 0
C33: Land | E33: =V33 -> 50 | F33: =AH33 -> 50 | G33: =AT33 -> 50 | H33: =BF33 -> 50 | I33: =BR33 -> 50 | K33: {=SUMPRODUCT( (CapexCategory=$C33)* (K$3>=CapexMonth) * (K$3<=DeprecStop) * CapexAmount)} -> 0 | L33: {=SUMPRODUCT( (CapexCategory=$C33)* (L$3>=CapexMonth) * CapexAmount)} -> 0 | M33: {=SUMPRODUCT( (CapexCategory=$C33)* (M$3>=CapexMonth) * CapexAmount)} -> 50 | N33: {=SUMPRODUCT( (CapexCategory=$C33)* (N$3>=CapexMonth) * CapexAmount)} -> 50 | O33: {=SUMPRODUCT( (CapexCategory=$C33)* (O$3>=CapexMonth) * CapexAmount)} -> 50 | P33: {=SUMPRODUCT( (CapexCategory=$C33)* (P$3>=CapexMonth) * CapexAmount)} -> 50 | Q33: {=SUMPRODUCT( (CapexCategory=$C33)* (Q$3>=CapexMonth) * CapexAmount)} -> 50 | R33: {=SUMPRODUCT( (CapexCategory=$C33)* (R$3>=CapexMonth) * CapexAmount)} -> 50 | S33: {=SUMPRODUCT( (CapexCategory=$C33)* (S$3>=CapexMonth) * CapexAmount)} -> 50 | ... BR33: {=SUMPRODUCT( (CapexCategory=$C33)* (BR$3>=CapexMonth) * CapexAmount)} -> 50
C34: All other | E34: =V34 -> 0 | F34: =AH34 -> 0 | G34: =AT34 -> 0 | H34: =BF34 -> 0 | I34: =BR34 -> 0 | K34: {=SUMPRODUCT( ((ISBLANK(CapexCategory) + (CapexCategory="Other"))>0) * (K$3>=CapexMonth) * (K$3<=DeprecStop) * CapexAmount)} -> 0 | L34: {=SUMPRODUCT( ((ISBLANK(CapexCategory) + (CapexCategory="Other"))>0) * (L$3>=CapexMonth) * (L$3<=DeprecStop) * CapexAmount)} -> 0 | M34: {=SUMPRODUCT( ((ISBLANK(CapexCategory) + (CapexCategory="Other"))>0) * (M$3>=CapexMonth) * (M$3<=DeprecStop) * CapexAmount)} -> 0 | N34: {=SUMPRODUCT( ((ISBLANK(CapexCategory) + (CapexCategory="Other"))>0) * (N$3>=CapexMonth) * (N$3<=DeprecStop) * CapexAmount)} -> 0 | O34: {=SUMPRODUCT( ((ISBLANK(CapexCategory) + (CapexCategory="Other"))>0) * (O$3>=CapexMonth) * (O$3<=DeprecStop) * CapexAmount)} -> 0 | P34: {=SUMPRODUCT( ((ISBLANK(CapexCategory) + (CapexCategory="Other"))>0) * (P$3>=CapexMonth) * (P$3<=DeprecStop) * CapexAmount)} -> 0 | Q34: {=SUMPRODUCT( ((ISBLANK(CapexCategory) + (CapexCategory="Other"))>0) * (Q$3>=CapexMonth) * (Q$3<=DeprecStop) * CapexAmount)} -> 0 | R34: {=SUMPRODUCT( ((ISBLANK(CapexCategory) + (CapexCategory="Other"))>0) * (R$3>=CapexMonth) * (R$3<=DeprecStop) * CapexAmount)} -> 0 | ... BR34: {=SUMPRODUCT( ((ISBLANK(CapexCategory) + (CapexCategory="Other"))>0) * (BR$3>=CapexMonth) * (BR$3<=DeprecStop) * CapexAmount)} -> 0
C35: Balance | E35: =V35 -> 150 | F35: =AH35 -> 50 | G35: =AT35 -> 50 | H35: =BF35 -> 50 | I35: =BR35 -> 50 | K35: =SUM(K29:K34) -> 4 | L35: =SUM(L29:L34) -> 4 | M35: =SUM(M29:M34) -> 54 | N35: =SUM(N29:N34) -> 54 | O35: =SUM(O29:O34) -> 54 | P35: =SUM(P29:P34) -> 154 | Q35: =SUM(Q29:Q34) -> 154 | R35: =SUM(R29:R34) -> 154 | ... BR35: =SUM(BR29:BR34) -> 50

Sheet Income
A1: info
C3: Profit & Loss | E3: 1 | F3: 2 | G3: 3 | H3: 4 | I3: 5 | K3: 1 | L3: 2 | M3: 3 | N3: 4 | O3: 5 | P3: 6 | Q3: 7 | R3: 8 | S3: 9 | T3: 10 | U3: 11 | V3: 12 | W3: 13 | X3: 14 | Y3: 15 | Z3: 16 | AA3: 17 | AB3: 18 | AC3: 19 | AD3: 20 | AE3: 21 | AF3: 22 | AG3: 23 | AH3: 24 | AI3: 25 | AJ3: 26 | AK3: 27 | AL3: 28 | AM3: 29 | AN3: 30 | AO3: 31 | AP3: 32 | AQ3: 33 | AR3: 34 | AS3: 35 | AT3: 36 | AU3: 37 | AV3: 38 | AW3: 39 | AX3: 40 | AY3: 41 | AZ3: 42 | BA3: 43 | BB3: 44 | BC3: 45 | BD3: 46 | BE3: 47 | BF3: 48 | BG3: 49 | BH3: 50 | BI3: 51 | BJ3: 52 | BK3: 53 | BL3: 54 | BM3: 55 | BN3: 56 | BO3: 57 | BP3: 58 | BQ3: 59 | BR3: 60
C5: Units | K5: =SUM(Units)/12*(1+SUMPRODUCT(Units,UnitsCAGR)/SUM(Units))^((K3-1)/12) -> 52.5 | L5: =SUM(Units)/12*(1+SUMPRODUCT(Units,UnitsCAGR)/SUM(Units))^((L3-1)/12) -> 52.727155 | M5: =SUM(Units)/12*(1+SUMPRODUCT(Units,UnitsCAGR)/SUM(Units))^((M3-1)/12) -> 52.955292 | N5: =SUM(Units)/12*(1+SUMPRODUCT(Units,UnitsCAGR)/SUM(Units))^((N3-1)/12) -> 53.184416 | O5: =SUM(Units)/12*(1+SUMPRODUCT(Units,UnitsCAGR)/SUM(Units))^((O3-1)/12) -> 53.414532 | P5: =SUM(Units)/12*(1+SUMPRODUCT(Units,UnitsCAGR)/SUM(Units))^((P3-1)/12) -> 53.645644 | Q5: =SUM(Units)/12*(1+SUMPRODUCT(Units,UnitsCAGR)/SUM(Units))^((Q3-1)/12) -> 53.877755 | R5: =SUM(Units)/12*(1+SUMPRODUCT(Units,UnitsCAGR)/SUM(Units))^((R3-1)/12) -> 54.110871 | ... BR5: =SUM(Units)/12*(1+SUMPRODUCT(Units,UnitsCAGR)/SUM(Units))^((BR3-1)/12) -> 67.730793
C6: Revenue | E6: =SUM(K6:V6) -> 5788.4603 | F6: =SUM(W6:AH6) -> 6096.2594 | G6: =SUM(AI6:AT6) -> 6420.4256 | H6: =SUM(AU6:BF6) -> 6761.8291 | I6: =SUM(BG6:BR6) -> 7121.3867 | K6: =SUMPRODUCT(Price,Units)/SUM(Units)*K5 -> 471 | L6: =SUMPRODUCT(Price,Units)/SUM(Units)*L5 -> 473.0379 | M6: =SUMPRODUCT(Price,Units)/SUM(Units)*M5 -> 475.08462 | N6: =SUMPRODUCT(Price,Units)/SUM(Units)*N5 -> 477.14019 | O6: =SUMPRODUCT(Price,Units)/SUM(Units)*O5 -> 479.20466 | P6: =SUMPRODUCT(Price,Units)/SUM(Units)*P5 -> 481.27806 | Q6: =SUMPRODUCT(Price,Units)/SUM(Units)*Q5 -> 483.36043 | R6: =SUMPRODUCT(Price,Units)/SUM(Units)*R5 -> 485.45181 | ... BR6: =SUMPRODUCT(Price,Units)/SUM(Units)*BR5 -> 607.64197
C7: COGS | E7: =SUM(K7:V7) -> 4298.536 | F7: =SUM(W7:AH7) -> 4527.109 | G7: =SUM(AI7:AT7) -> 4767.8362 | H7: =SUM(AU7:BF7) -> 5021.364 | I7: =SUM(BG7:BR7) -> 5288.373 | K7: =SUMPRODUCT(COGS,Units)/SUM(Units)*K5 -> 349.76667 | L7: =SUMPRODUCT(COGS,Units)/SUM(Units)*L5 -> 351.28002 | M7: =SUMPRODUCT(COGS,Units)/SUM(Units)*M5 -> 352.79992 | N7: =SUMPRODUCT(COGS,Units)/SUM(Units)*N5 -> 354.3264 | O7: =SUMPRODUCT(COGS,Units)/SUM(Units)*O5 -> 355.85948 | P7: =SUMPRODUCT(COGS,Units)/SUM(Units)*P5 -> 357.3992 | Q7: =SUMPRODUCT(COGS,Units)/SUM(Units)*Q5 -> 358.94558 | R7: =SUMPRODUCT(COGS,Units)/SUM(Units)*R5 -> 360.49865 | ... BR7: =SUMPRODUCT(COGS,Units)/SUM(Units)*BR5 -> 451.23759
C8: Gross Margin | E8: =SUM(K8:V8) -> 1489.9243 | F8: =SUM(W8:AH8) -> 1569.1504 | G8: =SUM(AI8:AT8) -> 1652.5894 | H8: =SUM(AU8:BF8) -> 1740.4652 | I8: =SUM(BG8:BR8) -> 1833.0137 | K8: =K6-K7 -> 121.23333 | L8: =L6-L7 -> 121.75788 | M8: =M6-M7 -> 122.2847 | N8: =N6-N7 -> 122.81379 | O8: =O6-O7 -> 123.34518 | P8: =P6-P7 -> 123.87886 | Q8: =Q6-Q7 -> 124.41485 | R8: =R6-R7 -> 124.95317 | ... BR8: =BR6-BR7 -> 156.40438
C9: Gross Margin % | E9: =E8/E6 -> 0.25739561 | F9: =F8/F6 -> 0.25739561 | G9: =G8/G6 -> 0.25739561 | H9: =H8/H6 -> 0.25739561 | I9: =I8/I6 -> 0.25739561 | K9: =K8/K6 -> 0.25739561 | L9: =L8/L6 -> 0.25739561 | M9: =M8/M6 -> 0.25739561 | N9: =N8/N6 -> 0.25739561 | O9: =O8/O6 -> 0.25739561 | P9: =P8/P6 -> 0.25739561 | Q9: =Q8/Q6 -> 0.25739561 | R9: =R8/R6 -> 0.25739561 | ... BR9: =BR8/BR6 -> 0.25739561
C10: Payroll | E10: =SUM(K10:V10) -> 379.31815 | F10: =SUM(W10:AH10) -> 384.41932 | G10: =SUM(AI10:AT10) -> 389.5891 | H10: =SUM(AU10:BF10) -> 394.8284 | I10: =SUM(BG10:BR10) -> 400.13816 | K10: =SUMPRODUCT(PaySalary,PayFTE)/12*(1+PayLoad)*(1+SUMPRODUCT(PayFTE,PaySalary,PayCAGR)/SUMPRODUCT(PayFTE,PaySalary))^((K3-1)/12) -> 31.416667 | L10: =SUMPRODUCT(PaySalary,PayFTE)/12*(1+PayLoad)*(1+SUMPRODUCT(PayFTE,PaySalary,PayCAGR)/SUMPRODUCT(PayFTE,PaySalary))^((L3-1)/12) -> 31.45166 | M10: =SUMPRODUCT(PaySalary,PayFTE)/12*(1+PayLoad)*(1+SUMPRODUCT(PayFTE,PaySalary,PayCAGR)/SUMPRODUCT(PayFTE,PaySalary))^((M3-1)/12) -> 31.486692 | N10: =SUMPRODUCT(PaySalary,PayFTE)/12*(1+PayLoad)*(1+SUMPRODUCT(PayFTE,PaySalary,PayCAGR)/SUMPRODUCT(PayFTE,PaySalary))^((N3-1)/12) -> 31.521763 | O10: =SUMPRODUCT(PaySalary,PayFTE)/12*(1+PayLoad)*(1+SUMPRODUCT(PayFTE,PaySalary,PayCAGR)/SUMPRODUCT(PayFTE,PaySalary))^((O3-1)/12) -> 31.556873 | P10: =SUMPRODUCT(PaySalary,PayFTE)/12*(1+PayLoad)*(1+SUMPRODUCT(PayFTE,PaySalary,PayCAGR)/SUMPRODUCT(PayFTE,PaySalary))^((P3-1)/12) -> 31.592023 | Q10: =SUMPRODUCT(PaySalary,PayFTE)/12*(1+PayLoad)*(1+SUMPRODUCT(PayFTE,PaySalary,PayCAGR)/SUMPRODUCT(PayFTE,PaySalary))^((Q3-1)/12) -> 31.627211 | R10: =SUMPRODUCT(PaySalary,PayFTE)/12*(1+PayLoad)*(1+SUMPRODUCT(PayFTE,PaySalary,PayCAGR)/SUMPRODUCT(PayFTE,PaySalary))^((R3-1)/12) -> 31.662439 | ... BR10: =SUMPRODUCT(PaySalary,PayFTE)/12*(1+PayLoad)*(1+SUMPRODUCT(PayFTE,PaySalary,PayCAGR)/SUMPRODUCT(PayFTE,PaySalary))^((BR3-1)/12) -> 33.549386
C11: Overhead | E11: =SUM(K11:V11) -> 496.79223 | F11: =SUM(W11:AH11) -> 511.89877 | G11: =SUM(AI11:AT11) -> 527.46467 | H11: =SUM(AU11:BF11) -> 543.5039 | I11: =SUM(BG11:BR11) -> 560.03086 | K11: =SUM(Overhead)/12*(1+SUMPRODUCT(Overhead,OverheadCAGR)/SUM(Overhead))^((K3-1)/12) -> 40.833333 | L11: =SUM(Overhead)/12*(1+SUMPRODUCT(Overhead,OverheadCAGR)/SUM(Overhead))^((L3-1)/12) -> 40.935391 | M11: =SUM(Overhead)/12*(1+SUMPRODUCT(Overhead,OverheadCAGR)/SUM(Overhead))^((M3-1)/12) -> 41.037703 | N11: =SUM(Overhead)/12*(1+SUMPRODUCT(Overhead,OverheadCAGR)/SUM(Overhead))^((N3-1)/12) -> 41.140272 | O11: =SUM(Overhead)/12*(1+SUMPRODUCT(Overhead,OverheadCAGR)/SUM(Overhead))^((O3-1)/12) -> 41.243096 | P11: =SUM(Overhead)/12*(1+SUMPRODUCT(Overhead,OverheadCAGR)/SUM(Overhead))^((P3-1)/12) -> 41.346178 | Q11: =SUM(Overhead)/12*(1+SUMPRODUCT(Overhead,OverheadCAGR)/SUM(Overhead))^((Q3-1)/12) -> 41.449517 | R11: =SUM(Overhead)/12*(1+SUMPRODUCT(Overhead,OverheadCAGR)/SUM(Overhead))^((R3-1)/12) -> 41.553115 | ... BR11: =SUM(Overhead)/12*(1+SUMPRODUCT(Overhead,OverheadCAGR)/SUM(Overhead))^((BR3-1)/12) -> 47.31264
C12: Operating expense | E12: =SUM(K12:V12) -> 876.11038 | F12: =SUM(W12:AH12) -> 896.31809 | G12: =SUM(AI12:AT12) -> 917.05377 | H12: =SUM(AU12:BF12) -> 938.3323 | I12: =SUM(BG12:BR12) -> 960.16902 | K12: {=SUM(+K10:K11)} -> 72.25 | L12: =SUM(L10:L11) -> 72.387051 | M12: =SUM(M10:M11) -> 72.524395 | N12: =SUM(N10:N11) -> 72.662035 | O12: =SUM(O10:O11) -> 72.79997 | P12: =SUM(P10:P11) -> 72.938201 | Q12: =SUM(Q10:Q11) -> 73.076729 | R12: =SUM(R10:R11) -> 73.215554 | S12: =SUM(S10:S11) -> 73.354677 | ... BR12: =SUM(BR10:BR11) -> 80.862026
C13: EBITDA | E13: =SUM(K13:V13) -> 613.81391 | F13: =SUM(W13:AH13) -> 672.83233 | G13: =SUM(AI13:AT13) -> 735.5356 | H13: =SUM(AU13:BF13) -> 802.13285 | I13: =SUM(BG13:BR13) -> 872.84468 | K13: =K8-K12 -> 48.983333 | L13: =L8-L12 -> 49.370829 | M13: =M8-M12 -> 49.760301 | N13: =N8-N12 -> 50.151757 | O13: =O8-O12 -> 50.545207 | P13: =P8-P12 -> 50.94066 | Q13: =Q8-Q12 -> 51.338126 | R13: =R8-R12 -> 51.737613 | ... BR13: =BR8-BR12 -> 75.542351
C14: Facilities | E14: =SUM(K14:V14) -> 0 | F14: =SUM(W14:AH14) -> 0 | G14: =SUM(AI14:AT14) -> 0 | H14: =SUM(AU14:BF14) -> 0 | I14: =SUM(BG14:BR14) -> 0 | K14: =CapEx!K13 -> 0 | L14: =CapEx!L13 -> 0 | M14: =CapEx!M13 -> 0 | N14: =CapEx!N13 -> 0 | O14: =CapEx!O13 -> 0 | P14: =CapEx!P13 -> 0 | Q14: =CapEx!Q13 -> 0 | R14: =CapEx!R13 -> 0 | ... BR14: =CapEx!BR13 -> 0
C15: Equipment | E15: =SUM(K15:V15) -> 4 | F15: =SUM(W15:AH15) -> 0 | G15: =SUM(AI15:AT15) -> 0 | H15: =SUM(AU15:BF15) -> 0 | I15: =SUM(BG15:BR15) -> 0 | K15: =CapEx!K14 -> 0.4 | L15: =CapEx!L14 -> 0.4 | M15: =CapEx!M14 -> 0.4 | N15: =CapEx!N14 -> 0.4 | O15: =CapEx!O14 -> 0.4 | P15: =CapEx!P14 -> 0.4 | Q15: =CapEx!Q14 -> 0.4 | R15: =CapEx!R14 -> 0.4 | ... BR15: =CapEx!BR14 -> 0
C16: Fixtures | E16: =SUM(K16:V16) -> 0 | F16: =SUM(W16:AH16) -> 0 | G16: =SUM(AI16:AT16) -> 0 | H16: =SUM(AU16:BF16) -> 0 | I16: =SUM(BG16:BR16) -> 0 | K16: =CapEx!K15 -> 0 | L16: =CapEx!L15 -> 0 | M16: =CapEx!M15 -> 0 | N16: =CapEx!N15 -> 0 | O16: =CapEx!O15 -> 0 | P16: =CapEx!P15 -> 0 | Q16: =CapEx!Q15 -> 0 | R16: =CapEx!R15 -> 0 | ... BR16: =CapEx!BR15 -> 0
C17: Intangibles | E17: =SUM(K17:V17) -> 50 | F17: =SUM(W17:AH17) -> 50 | G17: =SUM(AI17:AT17) -> 0 | H17: =SUM(AU17:BF17) -> 0 | I17: =SUM(BG17:BR17) -> 0 | K17: =CapEx!K16 -> 0 | L17: =CapEx!L16 -> 0 | M17: =CapEx!M16 -> 0 | N17: =CapEx!N16 -> 0 | O17: =CapEx!O16 -> 0 | P17: =CapEx!P16 -> 7.1428571 | Q17: =CapEx!Q16 -> 7.1428571 | R17: =CapEx!R16 -> 7.1428571 | ... BR17: =CapEx!BR16 -> 0
C18: =CapEx!C18 -> All other | E18: =SUM(K18:V18) -> 0 | F18: =SUM(W18:AH18) -> 0 | G18: =SUM(AI18:AT18) -> 0 | H18: =SUM(AU18:BF18) -> 0 | I18: =SUM(BG18:BR18) -> 0 | K18: =CapEx!K18 -> 0 | L18: =CapEx!L18 -> 0 | M18: =CapEx!M18 -> 0 | N18: =CapEx!N18 -> 0 | O18: =CapEx!O18 -> 0 | P18: =CapEx!P18 -> 0 | Q18: =CapEx!Q18 -> 0 | R18: =CapEx!R18 -> 0 | ... BR18: =CapEx!BR18 -> 0
C19: Depreciation expense | E19: =SUM(K19:V19) -> 54 | F19: =SUM(W19:AH19) -> 50 | G19: =SUM(AI19:AT19) -> 0 | H19: =SUM(AU19:BF19) -> 0 | I19: =SUM(BG19:BR19) -> 0 | K19: =SUM(K14:K18) -> 0.4 | L19: =SUM(L14:L18) -> 0.4 | M19: =SUM(M14:M18) -> 0.4 | N19: =SUM(N14:N18) -> 0.4 | O19: =SUM(O14:O18) -> 0.4 | P19: =SUM(P14:P18) -> 7.5428571 | Q19: =SUM(Q14:Q18) -> 7.5428571 | R19: =SUM(R14:R18) -> 7.5428571 | ... BR19: =SUM(BR14:BR18) -> 0
C20: EBIT | E20: =SUM(K20:V20) -> 559.81391 | F20: =SUM(W20:AH20) -> 622.83233 | G20: =SUM(AI20:AT20) -> 735.5356 | H20: =SUM(AU20:BF20) -> 802.13285 | I20: =SUM(BG20:BR20) -> 872.84468 | K20: =K13-K19 -> 48.583333 | L20: =L13-L19 -> 48.970829 | M20: =M13-M19 -> 49.360301 | N20: =N13-N19 -> 49.751757 | O20: =O13-O19 -> 50.145207 | P20: =P13-P19 -> 43.397803 | Q20: =Q13-Q19 -> 43.795268 | R20: =R13-R19 -> 44.194756 | ... BR20: =BR13-BR19 -> 75.542351
C21: Interest expense | E21: =SUM(K21:V21) -> 13.679167 | F21: =SUM(W21:AH21) -> 18.725 | G21: =SUM(AI21:AT21) -> 18.725 | H21: =SUM(AU21:BF21) -> 18.725 | I21: =SUM(BG21:BR21) -> 18.725 | K21: =SUM(Cash!K24:K25) -> 1.0208333 | L21: =SUM(Cash!L24:L25) -> 1.0208333 | M21: =SUM(Cash!M24:M25) -> 1.0208333 | N21: =SUM(Cash!N24:N25) -> 1.0208333 | O21: =SUM(Cash!O24:O25) -> 1.0208333 | P21: =SUM(Cash!P24:P25) -> 1.225 | Q21: =SUM(Cash!Q24:Q25) -> 1.225 | R21: =SUM(Cash!R24:R25) -> 1.225 | ... BR21: =SUM(Cash!BR24:BR25) -> 1.5604167
C22: Income taxes | E22: =SUM(K22:V22) -> 218.4539 | F22: =SUM(W22:AH22) -> 241.64293 | G22: =SUM(AI22:AT22) -> 286.72424 | H22: =SUM(AU22:BF22) -> 313.36314 | I22: =SUM(BG22:BR22) -> 341.64787 | K22: =(SUM(K20:K20)-K21)*Taxes -> 19.025 | L22: =(SUM(L20:L20)-L21)*Taxes -> 19.179998 | M22: =(SUM(M20:M20)-M21)*Taxes -> 19.335787 | N22: =(SUM(N20:N20)-N21)*Taxes -> 19.492369 | O22: =(SUM(O20:O20)-O21)*Taxes -> 19.649749 | P22: =(SUM(P20:P20)-P21)*Taxes -> 16.869121 | Q22: =(SUM(Q20:Q20)-Q21)*Taxes -> 17.028107 | R22: =(SUM(R20:R20)-R21)*Taxes -> 17.187902 | ... BR22: =(SUM(BR20:BR20)-BR21)*Taxes -> 29.592774
C23: Net Earnings | E23: =SUM(K23:V23) -> 327.68084 | F23: =SUM(W23:AH23) -> 362.4644 | G23: =SUM(AI23:AT23) -> 430.08636 | H23: =SUM(AU23:BF23) -> 470.04471 | I23: =SUM(BG23:BR23) -> 512.47181 | K23: =SUM(K20:K20)-SUM(K21:K22) -> 28.5375 | L23: =SUM(L20:L20)-SUM(L21:L22) -> 28.769998 | M23: =SUM(M20:M20)-SUM(M21:M22) -> 29.003681 | N23: =SUM(N20:N20)-SUM(N21:N22) -> 29.238554 | O23: =SUM(O20:O20)-SUM(O21:O22) -> 29.474624 | P23: =SUM(P20:P20)-SUM(P21:P22) -> 25.303682 | Q23: =SUM(Q20:Q20)-SUM(Q21:Q22) -> 25.542161 | R23: =SUM(R20:R20)-SUM(R21:R22) -> 25.781853 | ... BR23: =SUM(BR20:BR20)-SUM(BR21:BR22) -> 44.389161
C24: Net Margin % | E24: =E23/E6 -> 0.056609327 | F24: =F23/F6 -> 0.059456853 | G24: =G23/G6 -> 0.066987204 | H24: =H23/H6 -> 0.069514432 | I24: =I23/I6 -> 0.071962361 | K24: =K23/K6 -> 0.060589172 | L24: =L23/L6 -> 0.060819646 | M24: =M23/M6 -> 0.061049504 | N24: =N23/N6 -> 0.061278749 | O24: =O23/O6 -> 0.061507382 | P24: =P23/P6 -> 0.052576014 | Q24: =Q23/Q6 -> 0.052842888 | R24: =R23/R6 -> 0.053108986 | ... BR24: =BR23/BR6 -> 0.073051505
C25: Dividends | E25: =SUM(K25:V25) -> 17.032804 | F25: =SUM(W25:AH25) -> 16.30904 | G25: =SUM(AI25:AT25) -> 0 | H25: =SUM(AU25:BF25) -> 0 | I25: =SUM(BG25:BR25) -> 0 | K25: =IFERROR(IF(SUM(K23:OFFSET(K23,0,MAX(-K3+1,-11)))<0,0,SUM(K23:OFFSET(K23,0,MAX(-K3+1,-11)))*VLOOKUP(K3,Drivers!$C$6:$G$35,5,FALSE)),0) -> 0 | L25: =IFERROR(IF(SUM(L23:OFFSET(L23,0,MAX(-L3+1,-11)))<0,0,SUM(L23:OFFSET(L23,0,MAX(-L3+1,-11)))*VLOOKUP(L3,Drivers!$C$6:$G$35,5,FALSE)),0) -> 0 | M25: =IFERROR(IF(SUM(M23:OFFSET(M23,0,MAX(-M3+1,-11)))<0,0,SUM(M23:OFFSET(M23,0,MAX(-M3+1,-11)))*VLOOKUP(M3,Drivers!$C$6:$G$35,5,FALSE)),0) -> 0 | N25: =IFERROR(IF(SUM(N23:OFFSET(N23,0,MAX(-N3+1,-11)))<0,0,SUM(N23:OFFSET(N23,0,MAX(-N3+1,-11)))*VLOOKUP(N3,Drivers!$C$6:$G$35,5,FALSE)),0) -> 0 | O25: =IFERROR(IF(SUM(O23:OFFSET(O23,0,MAX(-O3+1,-11)))<0,0,SUM(O23:OFFSET(O23,0,MAX(-O3+1,-11)))*VLOOKUP(O3,Drivers!$C$6:$G$35,5,FALSE)),0) -> 0 | P25: =IFERROR(IF(SUM(P23:OFFSET(P23,0,MAX(-P3+1,-11)))<0,0,SUM(P23:OFFSET(P23,0,MAX(-P3+1,-11)))*VLOOKUP(P3,Drivers!$C$6:$G$35,5,FALSE)),0) -> 17.032804 | Q25: =IFERROR(IF(SUM(Q23:OFFSET(Q23,0,MAX(-Q3+1,-11)))<0,0,SUM(Q23:OFFSET(Q23,0,MAX(-Q3+1,-11)))*VLOOKUP(Q3,Drivers!$C$6:$G$35,5,FALSE)),0) -> 0 | R25: =IFERROR(IF(SUM(R23:OFFSET(R23,0,MAX(-R3+1,-11)))<0,0,SUM(R23:OFFSET(R23,0,MAX(-R3+1,-11)))*VLOOKUP(R3,Drivers!$C$6:$G$35,5,FALSE)),0) -> 0 | ... BR25: =IFERROR(IF(SUM(BR23:OFFSET(BR23,0,MAX(-BR3+1,-11)))<0,0,SUM(BR23:OFFSET(BR23,0,MAX(-BR3+1,-11)))*VLOOKUP(BR3,Drivers!$C$6:$G$35,5,FALSE)),0) -> 0
C26: Retained Earnings | E26: =V26 -> 310.64804 | F26: =AH26 -> 656.8034 | G26: =AT26 -> 1086.8898 | H26: =BF26 -> 1556.9345 | I26: =BR26 -> 2069.4063 | K26: =K23-K25 -> 28.5375 | L26: =L23-L25+K26 -> 57.307498 | M26: =M23-M25+L26 -> 86.311178 | N26: =N23-N25+M26 -> 115.54973 | O26: =O23-O25+N26 -> 145.02436 | P26: =P23-P25+O26 -> 153.29523 | Q26: =Q23-Q25+P26 -> 178.8374 | R26: =R23-R25+Q26 -> 204.61925 | S26: =S23-S25+R26 -> 230.64201 | ... BR26: =BR23-BR25+BQ26 -> 2069.4063

Sheet Balance
A1: info
C3: Balance Sheet | E3: 1 | F3: 2 | G3: 3 | H3: 4 | I3: 5 | K3: 1 | L3: 2 | M3: 3 | N3: 4 | O3: 5 | P3: 6 | Q3: 7 | R3: 8 | S3: 9 | T3: 10 | U3: 11 | V3: 12 | W3: 13 | X3: 14 | Y3: 15 | Z3: 16 | AA3: 17 | AB3: 18 | AC3: 19 | AD3: 20 | AE3: 21 | AF3: 22 | AG3: 23 | AH3: 24 | AI3: 25 | AJ3: 26 | AK3: 27 | AL3: 28 | AM3: 29 | AN3: 30 | AO3: 31 | AP3: 32 | AQ3: 33 | AR3: 34 | AS3: 35 | AT3: 36 | AU3: 37 | AV3: 38 | AW3: 39 | AX3: 40 | AY3: 41 | AZ3: 42 | BA3: 43 | BB3: 44 | BC3: 45 | BD3: 46 | BE3: 47 | BF3: 48 | BG3: 49 | BH3: 50 | BI3: 51 | BJ3: 52 | BK3: 53 | BL3: 54 | BM3: 55 | BN3: 56 | BO3: 57 | BP3: 58 | BQ3: 59 | BR3: 60
C5: Cash | E5: =V5 -> 267.26338 | F5: =AH5 -> 757.42596 | G5: =AT5 -> 1169.8963 | H5: =BF5 -> 1620.5243 | I5: =BR5 -> 2111.5811 | K5: =Cash!K34 -> 49.923333 | L5: =Cash!L34 -> 77.925662 | M5: =Cash!M34 -> 56.152352 | N5: =Cash!N34 -> 84.604515 | O5: =Cash!O34 -> 113.28327 | P5: =Cash!P34 -> 72.891563 | Q5: =Cash!Q34 -> 104.7615 | R5: =Cash!R34 -> 136.86139 | ... BR5: =Cash!BR34 -> 2111.5811
C6: Accounts Receivable | E6: =V6 -> 271.64952 | F6: =AH6 -> 286.09438 | G6: =AT6 -> 301.30733 | H6: =BF6 -> 317.32923 | I6: =BR6 -> 334.20308 | K6: =Cash!K14 -> 259.05 | L6: =Cash!L14 -> 260.17085 | M6: =Cash!M14 -> 261.29654 | N6: =Cash!N14 -> 262.42711 | O6: =Cash!O14 -> 263.56256 | P6: =Cash!P14 -> 264.70293 | Q6: =Cash!Q14 -> 265.84824 | R6: =Cash!R14 -> 266.9985 | ... BR6: =Cash!BR14 -> 334.20308
C7: Inventory | E7: =V7 -> 27.508381 | F7: =AH7 -> 28.971128 | G7: =AT7 -> 30.511656 | H7: =BF7 -> 32.134101 | I7: =BR7 -> 33.84282 | K7: =Cash!K29 -> 26.2325 | L7: =Cash!L29 -> 26.346002 | M7: =Cash!M29 -> 26.459994 | N7: =Cash!N29 -> 26.57448 | O7: =Cash!O29 -> 26.689461 | P7: =Cash!P29 -> 26.80494 | Q7: =Cash!Q29 -> 26.920918 | R7: =Cash!R29 -> 27.037398 | ... BR7: =Cash!BR29 -> 33.84282
C8: Other Current Assets | E8: =V8 -> 109.4114 | F8: =AH8 -> 122.14307 | G8: =AT8 -> 136.35626 | H8: =BF8 -> 152.22337 | I8: =BR8 -> 169.93685 | K8: =OtherCA*Income!K6*(1+OtherCAcagr)^((K$3-1)/12) -> 98.91 | L8: =OtherCA*Income!L6*(1+OtherCAcagr)^((L$3-1)/12) -> 99.821492 | M8: =OtherCA*Income!M6*(1+OtherCAcagr)^((M$3-1)/12) -> 100.74138 | N8: =OtherCA*Income!N6*(1+OtherCAcagr)^((N$3-1)/12) -> 101.66975 | O8: =OtherCA*Income!O6*(1+OtherCAcagr)^((O$3-1)/12) -> 102.60668 | P8: =OtherCA*Income!P6*(1+OtherCAcagr)^((P$3-1)/12) -> 103.55223 | Q8: =OtherCA*Income!Q6*(1+OtherCAcagr)^((Q$3-1)/12) -> 104.5065 | R8: =OtherCA*Income!R6*(1+OtherCAcagr)^((R$3-1)/12) -> 105.46957 | ... BR8: =OtherCA*Income!BR6*(1+OtherCAcagr)^((BR$3-1)/12) -> 169.93685
C9: Current Assets | E9: =V9 -> 675.83268 | F9: =AH9 -> 1194.6345 | G9: =AT9 -> 1638.0715 | H9: =BF9 -> 2122.211 | I9: =BR9 -> 2649.5639 | K9: =SUM(K5:K8) -> 434.11583 | L9: =SUM(L5:L8) -> 464.264 | M9: =SUM(M5:M8) -> 444.65027 | N9: =SUM(N5:N8) -> 475.27585 | O9: =SUM(O5:O8) -> 506.14197 | P9: =SUM(P5:P8) -> 467.95167 | Q9: =SUM(Q5:Q8) -> 502.03716 | R9: =SUM(R5:R8) -> 536.36686 | ... BR9: =SUM(BR5:BR8) -> 2649.5639
C10: Facilities | E10: =V10 -> 0 | F10: =AH10 -> 0 | G10: =AT10 -> 0 | H10: =BF10 -> 0 | I10: =BR10 -> 0 | K10: =CapEx!K29 -> 0 | L10: =CapEx!L29 -> 0 | M10: =CapEx!M29 -> 0 | N10: =CapEx!N29 -> 0 | O10: =CapEx!O29 -> 0 | P10: =CapEx!P29 -> 0 | Q10: =CapEx!Q29 -> 0 | R10: =CapEx!R29 -> 0 | ... BR10: =CapEx!BR29 -> 0
C11: Equipment | E11: =V11 -> 0 | F11: =AH11 -> 0 | G11: =AT11 -> 0 | H11: =BF11 -> 0 | I11: =BR11 -> 0 | K11: =CapEx!K30 -> 4 | L11: =CapEx!L30 -> 4 | M11: =CapEx!M30 -> 4 | N11: =CapEx!N30 -> 4 | O11: =CapEx!O30 -> 4 | P11: =CapEx!P30 -> 4 | Q11: =CapEx!Q30 -> 4 | R11: =CapEx!R30 -> 4 | ... BR11: =CapEx!BR30 -> 0
C12: Fixtures | E12: =V12 -> 0 | F12: =AH12 -> 0 | G12: =AT12 -> 0 | H12: =BF12 -> 0 | I12: =BR12 -> 0 | K12: =CapEx!K31 -> 0 | L12: =CapEx!L31 -> 0 | M12: =CapEx!M31 -> 0 | N12: =CapEx!N31 -> 0 | O12: =CapEx!O31 -> 0 | P12: =CapEx!P31 -> 0 | Q12: =CapEx!Q31 -> 0 | R12: =CapEx!R31 -> 0 | ... BR12: =CapEx!BR31 -> 0
C13: Intangibles | E13: =V13 -> 100 | F13: =AH13 -> 0 | G13: =AT13 -> 0 | H13: =BF13 -> 0 | I13: =BR13 -> 0 | K13: =CapEx!K32 -> 0 | L13: =CapEx!L32 -> 0 | M13: =CapEx!M32 -> 0 | N13: =CapEx!N32 -> 0 | O13: =CapEx!O32 -> 0 | P13: =CapEx!P32 -> 100 | Q13: =CapEx!Q32 -> 100 | R13: =CapEx!R32 -> 100 | ... BR13: =CapEx!BR32 -> 0
C14: =CapEx!C9 -> Land | E14: =V14 -> 50 | F14: =AH14 -> 50 | G14: =AT14 -> 50 | H14: =BF14 -> 50 | I14: =BR14 -> 50 | K14: =CapEx!K33 -> 0 | L14: =CapEx!L33 -> 0 | M14: =CapEx!M33 -> 50 | N14: =CapEx!N33 -> 50 | O14: =CapEx!O33 -> 50 | P14: =CapEx!P33 -> 50 | Q14: =CapEx!Q33 -> 50 | R14: =CapEx!R33 -> 50 | ... BR14: =CapEx!BR33 -> 50
C15: =CapEx!C10 -> All other | E15: =V15 -> 0 | F15: =AH15 -> 0 | G15: =AT15 -> 0 | H15: =BF15 -> 0 | I15: =BR15 -> 0 | K15: =CapEx!K34 -> 0 | L15: =CapEx!L34 -> 0 | M15: =CapEx!M34 -> 0 | N15: =CapEx!N34 -> 0 | O15: =CapEx!O34 -> 0 | P15: =CapEx!P34 -> 0 | Q15: =CapEx!Q34 -> 0 | R15: =CapEx!R34 -> 0 | ... BR15: =CapEx!BR34 -> 0
C16: Capital Expenses | E16: =V16 -> 150 | F16: =AH16 -> 50 | G16: =AT16 -> 50 | H16: =BF16 -> 50 | I16: =BR16 -> 50 | K16: =SUM(K10:K15) -> 4 | L16: =SUM(L10:L15) -> 4 | M16: =SUM(M10:M15) -> 54 | N16: =SUM(N10:N15) -> 54 | O16: =SUM(O10:O15) -> 54 | P16: =SUM(P10:P15) -> 154 | Q16: =SUM(Q10:Q15) -> 154 | R16: =SUM(R10:R15) -> 154 | ... BR16: =SUM(BR10:BR15) -> 50
C17: Accumulated Deprec | E17: =V17 -> -50 | F17: =AH17 -> 0 | G17: =AT17 -> 0 | H17: =BF17 -> 0 | I17: =BR17 -> 0 | K17: =CapEx!K27 -> -0.4 | L17: =CapEx!L27 -> -0.8 | M17: =CapEx!M27 -> -1.2 | N17: =CapEx!N27 -> -1.6 | O17: =CapEx!O27 -> -2 | P17: =CapEx!P27 -> -9.5428571 | Q17: =CapEx!Q27 -> -17.085714 | R17: =CapEx!R27 -> -24.628571 | ... BR17: =CapEx!BR27 -> 0
C18: Net Fixed Assets | E18: =V18 -> 100 | F18: =AH18 -> 50 | G18: =AT18 -> 50 | H18: =BF18 -> 50 | I18: =BR18 -> 50 | K18: =SUM(K16:K17) -> 3.6 | L18: =SUM(L16:L17) -> 3.2 | M18: =SUM(M16:M17) -> 52.8 | N18: =SUM(N16:N17) -> 52.4 | O18: =SUM(O16:O17) -> 52 | P18: =SUM(P16:P17) -> 144.45714 | Q18: =SUM(Q16:Q17) -> 136.91429 | R18: =SUM(R16:R17) -> 129.37143 | ... BR18: =SUM(BR16:BR17) -> 50
C19: Assets | E19: =V19 -> 775.83268 | F19: =AH19 -> 1244.6345 | G19: =AT19 -> 1688.0715 | H19: =BF19 -> 2172.211 | I19: =BR19 -> 2699.5639 | K19: =SUM(K9,K18:K18) -> 437.71583 | L19: =SUM(L9,L18:L18) -> 467.464 | M19: =SUM(M9,M18:M18) -> 497.45027 | N19: =SUM(N9,N18:N18) -> 527.67585 | O19: =SUM(O9,O18:O18) -> 558.14197 | P19: =SUM(P9,P18:P18) -> 612.40881 | Q19: =SUM(Q9,Q18:Q18) -> 638.95144 | R19: =SUM(R9,R18:R18) -> 665.73829 | ... BR19: =SUM(BR9,BR18:BR18) -> 2699.5639
C20: Accounts Payable | E20: =V20 -> 210.89759 | F20: =AH20 -> 222.11198 | G20: =AT20 -> 233.9227 | H20: =BF20 -> 246.36144 | I20: =BR20 -> 259.46162 | K20: =SUM(Cash!K20,Cash!K29) -> 201.11583 | L20: =SUM(Cash!L20,Cash!L29) -> 201.98601 | M20: =SUM(Cash!M20,Cash!M29) -> 202.85996 | N20: =SUM(Cash!N20,Cash!N29) -> 203.73768 | O20: =SUM(Cash!O20,Cash!O29) -> 204.6192 | P20: =SUM(Cash!P20,Cash!P29) -> 205.50454 | Q20: =SUM(Cash!Q20,Cash!Q29) -> 206.39371 | R20: =SUM(Cash!R20,Cash!R29) -> 207.28672 | ... BR20: =SUM(Cash!BR20,Cash!BR29) -> 259.46162
C21: Other Current Liabilities | E21: =V21 -> 19.287056 | F21: =AH21 -> 20.719152 | G21: =AT21 -> 22.259082 | H21: =BF21 -> 23.915075 | I21: =BR21 -> 25.69599 | K21: =OtherCL*Income!K12*(1+OtherCLcagr)^((K$3-1)/12) -> 18.0625 | L21: =OtherCL*Income!L12*(1+OtherCLcagr)^((L$3-1)/12) -> 18.170491 | M21: =OtherCL*Income!M12*(1+OtherCLcagr)^((M$3-1)/12) -> 18.279136 | N21: =OtherCL*Income!N12*(1+OtherCLcagr)^((N$3-1)/12) -> 18.38844 | O21: =OtherCL*Income!O12*(1+OtherCLcagr)^((O$3-1)/12) -> 18.498406 | P21: =OtherCL*Income!P12*(1+OtherCLcagr)^((P$3-1)/12) -> 18.609038 | Q21: =OtherCL*Income!Q12*(1+OtherCLcagr)^((Q$3-1)/12) -> 18.720341 | R21: =OtherCL*Income!R12*(1+OtherCLcagr)^((R$3-1)/12) -> 18.832318 | ... BR21: =OtherCL*Income!BR12*(1+OtherCLcagr)^((BR$3-1)/12) -> 25.69599
C22: Short-term Debt | E22: =V22 -> 60 | F22: =AH22 -> 80 | G22: =AT22 -> 80 | H22: =BF22 -> 80 | I22: =BR22 -> 80 | K22: =Drivers!$E$6+Cash!K7 -> 50 | L22: =Cash!L7+K22 -> 50 | M22: =Cash!M7+L22 -> 50 | N22: =Cash!N7+M22 -> 50 | O22: =Cash!O7+N22 -> 50 | P22: =Cash!P7+O22 -> 60 | Q22: =Cash!Q7+P22 -> 60 | R22: =Cash!R7+Q22 -> 60 | S22: =Cash!S7+R22 -> 60 | ... BR22: =Cash!BR7+BQ22 -> 80
C23: Current Liabilities | E23: =V23 -> 290.18464 | F23: =AH23 -> 322.83113 | G23: =AT23 -> 336.18178 | H23: =BF23 -> 350.27652 | I23: =BR23 -> 365.15761 | K23: =SUM(K20:K22) -> 269.17833 | L23: =SUM(L20:L22) -> 270.1565 | M23: =SUM(M20:M22) -> 271.13909 | N23: =SUM(N20:N22) -> 272.12612 | O23: =SUM(O20:O22) -> 273.11761 | P23: =SUM(P20:P22) -> 284.11358 | Q23: =SUM(Q20:Q22) -> 285.11405 | R23: =SUM(R20:R22) -> 286.11904 | ... BR23: =SUM(BR20:BR22) -> 365.15761
C24: Long-term Debt | E24: =V24 -> 120 | F24: =AH24 -> 150 | G24: =AT24 -> 150 | H24: =BF24 -> 150 | I24: =BR24 -> 150 | K24: =Drivers!$F$6+Cash!K8 -> 100 | L24: =Cash!L8+K24 -> 100 | M24: =Cash!M8+L24 -> 100 | N24: =Cash!N8+M24 -> 100 | O24: =Cash!O8+N24 -> 100 | P24: =Cash!P8+O24 -> 120 | Q24: =Cash!Q8+P24 -> 120 | R24: =Cash!R8+Q24 -> 120 | S24: =Cash!S8+R24 -> 120 | ... BR24: =Cash!BR8+BQ24 -> 150
