Workbook

Sheet ℹ️ 
A1: info
C5: Income | D5: Balance | E5: Cash & Activity | F5: Market Cap | G5: Comparables
C6: Gross Margin | D6: Assets | E6: Operating Activities | F6: Shares outstanding | G6: 10 industry comps
C7: EBITDA | D7: Liabilities | E7: Investing Activities | F7: Options & warrants | G7: Price/Earnings ratios
C8: Net Earnings | D8: Equity | E8: Financing Activities | F8: Convertible notes | G8: EV/EBITDA ratios
C9: Earnings per Share | D9: Working capital | E9: Reconciliation | F9: Fully-diluted shares | G9: Equity Value
C10: Discountinued Ops | D10: Cash Conversion | E10: Supplemental Disclosures | F10: Market capitalization | G10: Enterprise Value
C21: Notes:
C22: Model is designed to inform certified professionals responsible for preparing final reporting documents
C23: Tabs are populated with sample data. Select > Delete to clear driver cells.

Sheet Income
A1: info
C3: Income Statement
C4: In millions except as indicated | E4: Q current | F4: Q ⎯1 | G4: Q prior | I4: YTD current | J4: YTD prior | L4: Q / Q | M4: Q / Q % | O4: Y / Y | P4: Y / Y % | R4: YTD | S4: YTD %
C6: Net Sales | E6: 9.2 | F6: 8 | G6: 10.6 | I6: 9.8 | J6: 8.2 | L6: =IF(E6+F6=0,0,E6-F6) -> 1.2 | M6: =IFERROR(IF(E6/F6-1<=-5,"<-500%",IF(E6/F6-1>5,">500%",IF(ABS(E6/F6-1)<1%,0,E6/F6-1))),"") -> 0.15 | O6: =IF(E6+G6=0,0,E6-G6) -> -1.4 | P6: =IFERROR(IF(E6/G6-1<=-5,"<-500%",IF(E6/G6-1>5,">500%",IF(ABS(E6/G6-1)<1%,0,E6/G6-1))),"") -> -0.13207547 | R6: =IF(I6+J6=0,0,I6-J6) -> 1.6 | S6: =IFERROR(IF(I6/J6-1<=-5,"<-500%",IF(I6/J6-1>5,">500%",IF(ABS(I6/J6-1)<1%,0,I6/J6-1))),"") -> 0.19512195
C7: Cost of goods sold | L7: =IF(E7+F7=0,0,E7-F7) -> 0 | M7: =IFERROR(IF(E7/F7-1<=-5,"<-500%",IF(E7/F7-1>5,">500%",IF(ABS(E7/F7-1)<1%,0,E7/F7-1))),"") | O7: =IF(E7+G7=0,0,E7-G7) -> 0 | P7: =IFERROR(IF(E7/G7-1<=-5,"<-500%",IF(E7/G7-1>5,">500%",IF(ABS(E7/G7-1)<1%,0,E7/G7-1))),"") | R7: =IF(I7+J7=0,0,I7-J7) -> 0 | S7: =IFERROR(IF(I7/J7-1<=-5,"<-500%",IF(I7/J7-1>5,">500%",IF(ABS(I7/J7-1)<1%,0,I7/J7-1))),"")
C8: Gross Margin | E8: =E6-E7 -> 9.2 | F8: =F6-F7 -> 8 | G8: =G6-G7 -> 10.6 | I8: =I6-I7 -> 9.8 | J8: =J6-J7 -> 8.2 | L8: =IF(E8+F8=0,0,E8-F8) -> 1.2 | M8: =IFERROR(IF(E8/F8-1<=-5,"<-500%",IF(E8/F8-1>5,">500%",IF(ABS(E8/F8-1)<1%,0,E8/F8-1))),"") -> 0.15 | O8: =IF(E8+G8=0,0,E8-G8) -> -1.4 | P8: =IFERROR(IF(E8/G8-1<=-5,"<-500%",IF(E8/G8-1>5,">500%",IF(ABS(E8/G8-1)<1%,0,E8/G8-1))),"") -> -0.13207547 | R8: =IF(I8+J8=0,0,I8-J8) -> 1.6 | S8: =IFERROR(IF(I8/J8-1<=-5,"<-500%",IF(I8/J8-1>5,">500%",IF(ABS(I8/J8-1)<1%,0,I8/J8-1))),"") -> 0.19512195
C10: Selling, general & administrative | E10: 9.7 | F10: 7.5 | G10: 5 | I10: 4.8 | J10: 4.9 | L10: =IF(E10+F10=0,0,E10-F10) -> 2.2 | M10: =IFERROR(IF(E10/F10-1<=-5,"<-500%",IF(E10/F10-1>5,">500%",IF(ABS(E10/F10-1)<1%,0,E10/F10-1))),"") -> 0.29333333 | O10: =IF(E10+G10=0,0,E10-G10) -> 4.7 | P10: =IFERROR(IF(E10/G10-1<=-5,"<-500%",IF(E10/G10-1>5,">500%",IF(ABS(E10/G10-1)<1%,0,E10/G10-1))),"") -> 0.94 | R10: =IF(I10+J10=0,0,I10-J10) -> -0.1 | S10: =IFERROR(IF(I10/J10-1<=-5,"<-500%",IF(I10/J10-1>5,">500%",IF(ABS(I10/J10-1)<1%,0,I10/J10-1))),"") -> -0.020408163
C11: Corporate expense | L11: =IF(E11+F11=0,0,E11-F11) -> 0 | M11: =IFERROR(IF(E11/F11-1<=-5,"<-500%",IF(E11/F11-1>5,">500%",IF(ABS(E11/F11-1)<1%,0,E11/F11-1))),"") | O11: =IF(E11+G11=0,0,E11-G11) -> 0 | P11: =IFERROR(IF(E11/G11-1<=-5,"<-500%",IF(E11/G11-1>5,">500%",IF(ABS(E11/G11-1)<1%,0,E11/G11-1))),"") | R11: =IF(I11+J11=0,0,I11-J11) -> 0 | S11: =IFERROR(IF(I11/J11-1<=-5,"<-500%",IF(I11/J11-1>5,">500%",IF(ABS(I11/J11-1)<1%,0,I11/J11-1))),"")
C12: Amortization of stock-based compensation | L12: =IF(E12+F12=0,0,E12-F12) -> 0 | M12: =IFERROR(IF(E12/F12-1<=-5,"<-500%",IF(E12/F12-1>5,">500%",IF(ABS(E12/F12-1)<1%,0,E12/F12-1))),"") | O12: =IF(E12+G12=0,0,E12-G12) -> 0 | P12: =IFERROR(IF(E12/G12-1<=-5,"<-500%",IF(E12/G12-1>5,">500%",IF(ABS(E12/G12-1)<1%,0,E12/G12-1))),"") | R12: =IF(I12+J12=0,0,I12-J12) -> 0 | S12: =IFERROR(IF(I12/J12-1<=-5,"<-500%",IF(I12/J12-1>5,">500%",IF(ABS(I12/J12-1)<1%,0,I12/J12-1))),"")
C13: Operating Expense | E13: =SUM(E10:E12) -> 9.7 | F13: =SUM(F10:F12) -> 7.5 | G13: =SUM(G10:G12) -> 5 | I13: =SUM(I10:I12) -> 4.8 | J13: =SUM(J10:J12) -> 4.9 | L13: =IF(E13+F13=0,0,E13-F13) -> 2.2 | M13: =IFERROR(IF(E13/F13-1<=-5,"<-500%",IF(E13/F13-1>5,">500%",IF(ABS(E13/F13-1)<1%,0,E13/F13-1))),"") -> 0.29333333 | O13: =IF(E13+G13=0,0,E13-G13) -> 4.7 | P13: =IFERROR(IF(E13/G13-1<=-5,"<-500%",IF(E13/G13-1>5,">500%",IF(ABS(E13/G13-1)<1%,0,E13/G13-1))),"") -> 0.94 | R13: =IF(I13+J13=0,0,I13-J13) -> -0.1 | S13: =IFERROR(IF(I13/J13-1<=-5,"<-500%",IF(I13/J13-1>5,">500%",IF(ABS(I13/J13-1)<1%,0,I13/J13-1))),"") -> -0.020408163
C14: EBITDA | E14: =E8-E13 -> -0.5 | F14: =F8-F13 -> 0.5 | G14: =G8-G13 -> 5.6 | I14: =I8-I13 -> 5 | J14: =J8-J13 -> 3.3 | L14: =IF(E14+F14=0,0,E14-F14) -> 0 | M14: =IFERROR(IF(E14/F14-1<=-5,"<-500%",IF(E14/F14-1>5,">500%",IF(ABS(E14/F14-1)<1%,0,E14/F14-1))),"") -> -2 | O14: =IF(E14+G14=0,0,E14-G14) -> -6.1 | P14: =IFERROR(IF(E14/G14-1<=-5,"<-500%",IF(E14/G14-1>5,">500%",IF(ABS(E14/G14-1)<1%,0,E14/G14-1))),"") -> -1.0892857 | R14: =IF(I14+J14=0,0,I14-J14) -> 1.7 | S14: =IFERROR(IF(I14/J14-1<=-5,"<-500%",IF(I14/J14-1>5,">500%",IF(ABS(I14/J14-1)<1%,0,I14/J14-1))),"") -> 0.51515152
C16: Depreciation and amortization | E16: 0.5 | F16: 0.6 | G16: 6.6 | I16: 6 | J16: 6 | L16: =IF(E16+F16=0,0,E16-F16) -> -0.1 | M16: =IFERROR(IF(E16/F16-1<=-5,"<-500%",IF(E16/F16-1>5,">500%",IF(ABS(E16/F16-1)<1%,0,E16/F16-1))),"") -> -0.16666667 | O16: =IF(E16+G16=0,0,E16-G16) -> -6.1 | P16: =IFERROR(IF(E16/G16-1<=-5,"<-500%",IF(E16/G16-1>5,">500%",IF(ABS(E16/G16-1)<1%,0,E16/G16-1))),"") -> -0.92424242 | R16: =IF(I16+J16=0,0,I16-J16) -> 0 | S16: =IFERROR(IF(I16/J16-1<=-5,"<-500%",IF(I16/J16-1>5,">500%",IF(ABS(I16/J16-1)<1%,0,I16/J16-1))),"") -> 0
C17: Interest expense, net | L17: =IF(E17+F17=0,0,E17-F17) -> 0 | M17: =IFERROR(IF(E17/F17-1<=-5,"<-500%",IF(E17/F17-1>5,">500%",IF(ABS(E17/F17-1)<1%,0,E17/F17-1))),"") | O17: =IF(E17+G17=0,0,E17-G17) -> 0 | P17: =IFERROR(IF(E17/G17-1<=-5,"<-500%",IF(E17/G17-1>5,">500%",IF(ABS(E17/G17-1)<1%,0,E17/G17-1))),"") | R17: =IF(I17+J17=0,0,I17-J17) -> 0 | S17: =IFERROR(IF(I17/J17-1<=-5,"<-500%",IF(I17/J17-1>5,">500%",IF(ABS(I17/J17-1)<1%,0,I17/J17-1))),"")
C18: Other income/expense, net | L18: =IF(E18+F18=0,0,E18-F18) -> 0 | M18: =IFERROR(IF(E18/F18-1<=-5,"<-500%",IF(E18/F18-1>5,">500%",IF(ABS(E18/F18-1)<1%,0,E18/F18-1))),"") | O18: =IF(E18+G18=0,0,E18-G18) -> 0 | P18: =IFERROR(IF(E18/G18-1<=-5,"<-500%",IF(E18/G18-1>5,">500%",IF(ABS(E18/G18-1)<1%,0,E18/G18-1))),"") | R18: =IF(I18+J18=0,0,I18-J18) -> 0 | S18: =IFERROR(IF(I18/J18-1<=-5,"<-500%",IF(I18/J18-1>5,">500%",IF(ABS(I18/J18-1)<1%,0,I18/J18-1))),"")
C19: Income taxes | L19: =IF(E19+F19=0,0,E19-F19) -> 0 | M19: =IFERROR(IF(E19/F19-1<=-5,"<-500%",IF(E19/F19-1>5,">500%",IF(ABS(E19/F19-1)<1%,0,E19/F19-1))),"") | O19: =IF(E19+G19=0,0,E19-G19) -> 0 | P19: =IFERROR(IF(E19/G19-1<=-5,"<-500%",IF(E19/G19-1>5,">500%",IF(ABS(E19/G19-1)<1%,0,E19/G19-1))),"") | R19: =IF(I19+J19=0,0,I19-J19) -> 0 | S19: =IFERROR(IF(I19/J19-1<=-5,"<-500%",IF(I19/J19-1>5,">500%",IF(ABS(I19/J19-1)<1%,0,I19/J19-1))),"")
C20: Gain/Loss from Continuing Operations | E20: =SUM(E16:E19) -> 0.5 | F20: =SUM(F16:F19) -> 0.6 | G20: =SUM(G16:G19) -> 6.6 | I20: =SUM(I16:I19) -> 6 | J20: =SUM(J16:J19) -> 6 | L20: =IF(E20+F20=0,0,E20-F20) -> -0.1 | M20: =IFERROR(IF(E20/F20-1<=-5,"<-500%",IF(E20/F20-1>5,">500%",IF(ABS(E20/F20-1)<1%,0,E20/F20-1))),"") -> -0.16666667 | O20: =IF(E20+G20=0,0,E20-G20) -> -6.1 | P20: =IFERROR(IF(E20/G20-1<=-5,"<-500%",IF(E20/G20-1>5,">500%",IF(ABS(E20/G20-1)<1%,0,E20/G20-1))),"") -> -0.92424242 | R20: =IF(I20+J20=0,0,I20-J20) -> 0 | S20: =IFERROR(IF(I20/J20-1<=-5,"<-500%",IF(I20/J20-1>5,">500%",IF(ABS(I20/J20-1)<1%,0,I20/J20-1))),"") -> 0
C21: Gain/Loss from Discontinued Operations | E21: =Income!E44 -> 47.3 | F21: =Income!F44 -> 59.9 | G21: =Income!G44 -> 88.3 | I21: =Income!H44 -> 0 | J21: =Income!I44 -> 59.3 | L21: =IF(E21+F21=0,0,E21-F21) -> -12.6 | M21: =IFERROR(IF(E21/F21-1<=-5,"<-500%",IF(E21/F21-1>5,">500%",IF(ABS(E21/F21-1)<1%,0,E21/F21-1))),"") -> -0.21035058 | O21: =IF(E21+G21=0,0,E21-G21) -> -41 | P21: =IFERROR(IF(E21/G21-1<=-5,"<-500%",IF(E21/G21-1>5,">500%",IF(ABS(E21/G21-1)<1%,0,E21/G21-1))),"") -> -0.46432616 | R21: =IF(I21+J21=0,0,I21-J21) -> -59.3 | S21: =IFERROR(IF(I21/J21-1<=-5,"<-500%",IF(I21/J21-1>5,">500%",IF(ABS(I21/J21-1)<1%,0,I21/J21-1))),"") -> -1
C22: Net Earnings | E22: =SUM(E20:E21) -> 47.8 | F22: =SUM(F20:F21) -> 60.5 | G22: =SUM(G20:G21) -> 94.9 | I22: =SUM(I20:I21) -> 6 | J22: =SUM(J20:J21) -> 65.3 | L22: =IF(E22+F22=0,0,E22-F22) -> -12.7 | M22: =IFERROR(IF(E22/F22-1<=-5,"<-500%",IF(E22/F22-1>5,">500%",IF(ABS(E22/F22-1)<1%,0,E22/F22-1))),"") -> -0.20991736 | O22: =IF(E22+G22=0,0,E22-G22) -> -47.1 | P22: =IFERROR(IF(E22/G22-1<=-5,"<-500%",IF(E22/G22-1>5,">500%",IF(ABS(E22/G22-1)<1%,0,E22/G22-1))),"") -> -0.49631191 | R22: =IF(I22+J22=0,0,I22-J22) -> -59.3 | S22: =IFERROR(IF(I22/J22-1<=-5,"<-500%",IF(I22/J22-1>5,">500%",IF(ABS(I22/J22-1)<1%,0,I22/J22-1))),"") -> -0.90811639
C24: Preferred stock dividends | E24: 8.1 | F24: 0.8 | G24: 3.3 | I24: 7.3 | J24: 0.1 | L24: =IF(E24+F24=0,0,E24-F24) -> 7.3 | M24: =IFERROR(IF(E24/F24-1<=-5,"<-500%",IF(E24/F24-1>5,">500%",IF(ABS(E24/F24-1)<1%,0,E24/F24-1))),"") -> >500% | O24: =IF(E24+G24=0,0,E24-G24) -> 4.8 | P24: =IFERROR(IF(E24/G24-1<=-5,"<-500%",IF(E24/G24-1>5,">500%",IF(ABS(E24/G24-1)<1%,0,E24/G24-1))),"") -> 1.4545455 | R24: =IF(I24+J24=0,0,I24-J24) -> 7.2 | S24: =IFERROR(IF(I24/J24-1<=-5,"<-500%",IF(I24/J24-1>5,">500%",IF(ABS(I24/J24-1)<1%,0,I24/J24-1))),"") -> >500%
C25: Net Earnings Attributable to Common | E25: =E22-E24 -> 39.7 | F25: =F22-F24 -> 59.7 | G25: =G22-G24 -> 91.6 | I25: =I22-I24 -> -1.3 | J25: =J22-J24 -> 65.2 | L25: =IF(E25+F25=0,0,E25-F25) -> -20 | M25: =IFERROR(IF(E25/F25-1<=-5,"<-500%",IF(E25/F25-1>5,">500%",IF(ABS(E25/F25-1)<1%,0,E25/F25-1))),"") -> -0.33500838 | O25: =IF(E25+G25=0,0,E25-G25) -> -51.9 | P25: =IFERROR(IF(E25/G25-1<=-5,"<-500%",IF(E25/G25-1>5,">500%",IF(ABS(E25/G25-1)<1%,0,E25/G25-1))),"") -> -0.56659389 | R25: =IF(I25+J25=0,0,I25-J25) -> -66.5 | S25: =IFERROR(IF(I25/J25-1<=-5,"<-500%",IF(I25/J25-1>5,">500%",IF(ABS(I25/J25-1)<1%,0,I25/J25-1))),"") -> -1.0199387
C27: Earnings per Share in dollars except shares
C28: Fully diluted shares outstanding | E28: =Cap!E42 -> 530.66336 | F28: =Cap!F42 -> 500 | G28: =Cap!G42 -> 0 | L28: =IF(E28+F28=0,0,E28-F28) -> 30.663364 | M28: =IFERROR(IF(E28/F28-1<=-5,"<-500%",IF(E28/F28-1>5,">500%",IF(ABS(E28/F28-1)<1%,0,E28/F28-1))),"") -> 0.061326727 | O28: =IF(E28+G28=0,0,E28-G28) -> 530.66336 | P28: =IFERROR(IF(E28/G28-1<=-5,"<-500%",IF(E28/G28-1>5,">500%",IF(ABS(E28/G28-1)<1%,0,E28/G28-1))),"")
C29: Continuing operations/share | E29: =IFERROR(E20/E28,0) -> 0.00094221692 | F29: =IFERROR(F20/F28,0) -> 0.0012 | G29: =IFERROR(G20/G28,0) -> 0 | L29: =IF(E29+F29=0,0,E29-F29) -> -0.00025778308 | M29: =IFERROR(IF(E29/F29-1<=-5,"<-500%",IF(E29/F29-1>5,">500%",IF(ABS(E29/F29-1)<1%,0,E29/F29-1))),"") -> -0.21481923 | O29: =IF(E29+G29=0,0,E29-G29) -> 0.00094221692 | P29: =IFERROR(IF(E29/G29-1<=-5,"<-500%",IF(E29/G29-1>5,">500%",IF(ABS(E29/G29-1)<1%,0,E29/G29-1))),"")
C30: Discontinued operations/share | E30: =IFERROR(E21/E28,0) -> 0.089133721 | F30: =IFERROR(F21/F28,0) -> 0.1198 | G30: =IFERROR(G21/G28,0) -> 0 | L30: =IF(E30+F30=0,0,E30-F30) -> -0.030666279 | M30: =IFERROR(IF(E30/F30-1<=-5,"<-500%",IF(E30/F30-1>5,">500%",IF(ABS(E30/F30-1)<1%,0,E30/F30-1))),"") -> -0.25597896 | O30: =IF(E30+G30=0,0,E30-G30) -> 0.089133721 | P30: =IFERROR(IF(E30/G30-1<=-5,"<-500%",IF(E30/G30-1>5,">500%",IF(ABS(E30/G30-1)<1%,0,E30/G30-1))),"")
C31: Preferred stock dividends/share | E31: =IFERROR(E24/E28,0) -> 0.015263914 | F31: =IFERROR(F24/F28,0) -> 0.0016 | G31: =IFERROR(G24/G28,0) -> 0 | I31: =IFERROR(I24/I28,0) -> 0 | J31: =IFERROR(J24/J28,0) -> 0 | L31: =IF(E31+F31=0,0,E31-F31) -> 0.013663914 | M31: =IFERROR(IF(E31/F31-1<=-5,"<-500%",IF(E31/F31-1>5,">500%",IF(ABS(E31/F31-1)<1%,0,E31/F31-1))),"") -> >500% | O31: =IF(E31+G31=0,0,E31-G31) -> 0.015263914 | P31: =IFERROR(IF(E31/G31-1<=-5,"<-500%",IF(E31/G31-1>5,">500%",IF(ABS(E31/G31-1)<1%,0,E31/G31-1))),"")
C32: Net Earnings attributable to Common/share | E32: =IFERROR(E25/E28,0) -> 0.074812023 | F32: =IFERROR(F25/F28,0) -> 0.1194 | G32: =IFERROR(G25/G28,0) -> 0 | I32: =IFERROR(I25/I28,0) -> 0 | J32: =IFERROR(J25/J28,0) -> 0 | L32: =IF(E32+F32=0,0,E32-F32) -> -0.044587977 | M32: =IFERROR(IF(E32/F32-1<=-5,"<-500%",IF(E32/F32-1>5,">500%",IF(ABS(E32/F32-1)<1%,0,E32/F32-1))),"") -> -0.37343364 | O32: =IF(E32+G32=0,0,E32-G32) -> 0.074812023 | P32: =IFERROR(IF(E32/G32-1<=-5,"<-500%",IF(E32/G32-1>5,">500%",IF(ABS(E32/G32-1)<1%,0,E32/G32-1))),"")
C34: Discountinued Operatons
C35: Net Sales | E35: 47.8 | F35: 69.4 | G35: 95.8 | I35: 59.8 | J35: 46.3 | L35: =IF(E35+F35=0,0,E35-F35) -> -21.6 | M35: =IFERROR(IF(E35/F35-1<=-5,"<-500%",IF(E35/F35-1>5,">500%",IF(ABS(E35/F35-1)<1%,0,E35/F35-1))),"") -> -0.31123919 | O35: =IF(E35+G35=0,0,E35-G35) -> -48 | P35: =IFERROR(IF(E35/G35-1<=-5,"<-500%",IF(E35/G35-1>5,">500%",IF(ABS(E35/G35-1)<1%,0,E35/G35-1))),"") -> -0.50104384 | R35: =IF(I35+J35=0,0,I35-J35) -> 13.5 | S35: =IFERROR(IF(I35/J35-1<=-5,"<-500%",IF(I35/J35-1>5,">500%",IF(ABS(I35/J35-1)<1%,0,I35/J35-1))),"") -> 0.29157667
C36: Cost of goods sold | L36: =IF(E36+F36=0,0,E36-F36) -> 0 | M36: =IFERROR(IF(E36/F36-1<=-5,"<-500%",IF(E36/F36-1>5,">500%",IF(ABS(E36/F36-1)<1%,0,E36/F36-1))),"") | O36: =IF(E36+G36=0,0,E36-G36) -> 0 | P36: =IFERROR(IF(E36/G36-1<=-5,"<-500%",IF(E36/G36-1>5,">500%",IF(ABS(E36/G36-1)<1%,0,E36/G36-1))),"") | R36: =IF(I36+J36=0,0,I36-J36) -> 0 | S36: =IFERROR(IF(I36/J36-1<=-5,"<-500%",IF(I36/J36-1>5,">500%",IF(ABS(I36/J36-1)<1%,0,I36/J36-1))),"")
C37: Gross Margin | E37: =E35-E36 -> 47.8 | F37: =F35-F36 -> 69.4 | G37: =G35-G36 -> 95.8 | I37: =I35-I36 -> 59.8 | J37: =J35-J36 -> 46.3 | L37: =IF(E37+F37=0,0,E37-F37) -> -21.6 | M37: =IFERROR(IF(E37/F37-1<=-5,"<-500%",IF(E37/F37-1>5,">500%",IF(ABS(E37/F37-1)<1%,0,E37/F37-1))),"") -> -0.31123919 | O37: =IF(E37+G37=0,0,E37-G37) -> -48 | P37: =IFERROR(IF(E37/G37-1<=-5,"<-500%",IF(E37/G37-1>5,">500%",IF(ABS(E37/G37-1)<1%,0,E37/G37-1))),"") -> -0.50104384 | R37: =IF(I37+J37=0,0,I37-J37) -> 13.5 | S37: =IFERROR(IF(I37/J37-1<=-5,"<-500%",IF(I37/J37-1>5,">500%",IF(ABS(I37/J37-1)<1%,0,I37/J37-1))),"") -> 0.29157667
C38: SG&A | E38: 0.5 | F38: 9.5 | G38: 7.5 | I38: 0.5 | J38: 9.4 | L38: =IF(E38+F38=0,0,E38-F38) -> -9 | M38: =IFERROR(IF(E38/F38-1<=-5,"<-500%",IF(E38/F38-1>5,">500%",IF(ABS(E38/F38-1)<1%,0,E38/F38-1))),"") -> -0.94736842 | O38: =IF(E38+G38=0,0,E38-G38) -> -7 | P38: =IFERROR(IF(E38/G38-1<=-5,"<-500%",IF(E38/G38-1>5,">500%",IF(ABS(E38/G38-1)<1%,0,E38/G38-1))),"") -> -0.93333333 | R38: =IF(I38+J38=0,0,I38-J38) -> -8.9 | S38: =IFERROR(IF(I38/J38-1<=-5,"<-500%",IF(I38/J38-1>5,">500%",IF(ABS(I38/J38-1)<1%,0,I38/J38-1))),"") -> -0.94680851
C39: Corporate | L39: =IF(E39+F39=0,0,E39-F39) -> 0 | M39: =IFERROR(IF(E39/F39-1<=-5,"<-500%",IF(E39/F39-1>5,">500%",IF(ABS(E39/F39-1)<1%,0,E39/F39-1))),"") | O39: =IF(E39+G39=0,0,E39-G39) -> 0 | P39: =IFERROR(IF(E39/G39-1<=-5,"<-500%",IF(E39/G39-1>5,">500%",IF(ABS(E39/G39-1)<1%,0,E39/G39-1))),"") | R39: =IF(I39+J39=0,0,I39-J39) -> 0 | S39: =IFERROR(IF(I39/J39-1<=-5,"<-500%",IF(I39/J39-1>5,">500%",IF(ABS(I39/J39-1)<1%,0,I39/J39-1))),"")
C40: Impairment | L40: =IF(E40+F40=0,0,E40-F40) -> 0 | M40: =IFERROR(IF(E40/F40-1<=-5,"<-500%",IF(E40/F40-1>5,">500%",IF(ABS(E40/F40-1)<1%,0,E40/F40-1))),"") | O40: =IF(E40+G40=0,0,E40-G40) -> 0 | P40: =IFERROR(IF(E40/G40-1<=-5,"<-500%",IF(E40/G40-1>5,">500%",IF(ABS(E40/G40-1)<1%,0,E40/G40-1))),"") | R40: =IF(I40+J40=0,0,I40-J40) -> 0 | S40: =IFERROR(IF(I40/J40-1<=-5,"<-500%",IF(I40/J40-1>5,">500%",IF(ABS(I40/J40-1)<1%,0,I40/J40-1))),"")
C41: Stock-based comp | L41: =IF(E41+F41=0,0,E41-F41) -> 0 | M41: =IFERROR(IF(E41/F41-1<=-5,"<-500%",IF(E41/F41-1>5,">500%",IF(ABS(E41/F41-1)<1%,0,E41/F41-1))),"") | O41: =IF(E41+G41=0,0,E41-G41) -> 0 | P41: =IFERROR(IF(E41/G41-1<=-5,"<-500%",IF(E41/G41-1>5,">500%",IF(ABS(E41/G41-1)<1%,0,E41/G41-1))),"") | R41: =IF(I41+J41=0,0,I41-J41) -> 0 | S41: =IFERROR(IF(I41/J41-1<=-5,"<-500%",IF(I41/J41-1>5,">500%",IF(ABS(I41/J41-1)<1%,0,I41/J41-1))),"")
C42: Depreciation & Amortization | L42: =IF(E42+F42=0,0,E42-F42) -> 0 | M42: =IFERROR(IF(E42/F42-1<=-5,"<-500%",IF(E42/F42-1>5,">500%",IF(ABS(E42/F42-1)<1%,0,E42/F42-1))),"") | O42: =IF(E42+G42=0,0,E42-G42) -> 0 | P42: =IFERROR(IF(E42/G42-1<=-5,"<-500%",IF(E42/G42-1>5,">500%",IF(ABS(E42/G42-1)<1%,0,E42/G42-1))),"") | R42: =IF(I42+J42=0,0,I42-J42) -> 0 | S42: =IFERROR(IF(I42/J42-1<=-5,"<-500%",IF(I42/J42-1>5,">500%",IF(ABS(I42/J42-1)<1%,0,I42/J42-1))),"")
C43: Operating expense | E43: =SUM(E38:E42) -> 0.5 | F43: =SUM(F38:F42) -> 9.5 | G43: =SUM(G38:G42) -> 7.5 | I43: =SUM(I38:I42) -> 0.5 | J43: =SUM(J38:J42) -> 9.4 | L43: =IF(E43+F43=0,0,E43-F43) -> -9 | M43: =IFERROR(IF(E43/F43-1<=-5,"<-500%",IF(E43/F43-1>5,">500%",IF(ABS(E43/F43-1)<1%,0,E43/F43-1))),"") -> -0.94736842 | O43: =IF(E43+G43=0,0,E43-G43) -> -7 | P43: =IFERROR(IF(E43/G43-1<=-5,"<-500%",IF(E43/G43-1>5,">500%",IF(ABS(E43/G43-1)<1%,0,E43/G43-1))),"") -> -0.93333333 | R43: =IF(I43+J43=0,0,I43-J43) -> -8.9 | S43: =IFERROR(IF(I43/J43-1<=-5,"<-500%",IF(I43/J43-1>5,">500%",IF(ABS(I43/J43-1)<1%,0,I43/J43-1))),"") -> -0.94680851
C44: Gain/Loss on Discontinued Ops | E44: =E37-E43 -> 47.3 | F44: =F37-F43 -> 59.9 | G44: =G37-G43 -> 88.3 | I44: =I37-I43 -> 59.3 | J44: =J37-J43 -> 36.9 | L44: =IF(E44+F44=0,0,E44-F44) -> -12.6 | M44: =IFERROR(IF(E44/F44-1<=-5,"<-500%",IF(E44/F44-1>5,">500%",IF(ABS(E44/F44-1)<1%,0,E44/F44-1))),"") -> -0.21035058 | O44: =IF(E44+G44=0,0,E44-G44) -> -41 | P44: =IFERROR(IF(E44/G44-1<=-5,"<-500%",IF(E44/G44-1>5,">500%",IF(ABS(E44/G44-1)<1%,0,E44/G44-1))),"") -> -0.46432616 | R44: =IF(I44+J44=0,0,I44-J44) -> 22.4 | S44: =IFERROR(IF(I44/J44-1<=-5,"<-500%",IF(I44/J44-1>5,">500%",IF(ABS(I44/J44-1)<1%,0,I44/J44-1))),"") -> 0.60704607

Sheet Balance
A1: info
C3: Balance Sheet
C4: In millions except as indicated | E4: Q current | F4: Q ⎯1 | G4: Q prior | I4: YTD current | J4: YTD prior | L4: Q / Q | M4: Q / Q % | O4: Y / Y | P4: Y / Y % | R4: YTD | S4: YTD %
C6: Current Assets
C7: Cash and cash equivalents | E7: 2.5 | F7: 1.2 | G7: 3.6 | I7: 5.1 | J7: 3.7 | L7: =IF(E7+F7=0,0,E7-F7) -> 1.3 | M7: =IFERROR(IF(E7/F7-1<=-5,"<-500%",IF(E7/F7-1>5,">500%",IF(ABS(E7/F7-1)<1%,0,E7/F7-1))),"") -> 1.0833333 | O7: =IF(E7+G7=0,0,E7-G7) -> -1.1 | P7: =IFERROR(IF(E7/G7-1<=-5,"<-500%",IF(E7/G7-1>5,">500%",IF(ABS(E7/G7-1)<1%,0,E7/G7-1))),"") -> -0.30555556 | R7: =IF(I7+J7=0,0,I7-J7) -> 1.4 | S7: =IFERROR(IF(I7/J7-1<=-5,"<-500%",IF(I7/J7-1>5,">500%",IF(ABS(I7/J7-1)<1%,0,I7/J7-1))),"") -> 0.37837838
C8: Accounts receivable, net | L8: =IF(E8+F8=0,0,E8-F8) -> 0 | M8: =IFERROR(IF(E8/F8-1<=-5,"<-500%",IF(E8/F8-1>5,">500%",IF(ABS(E8/F8-1)<1%,0,E8/F8-1))),"") | O8: =IF(E8+G8=0,0,E8-G8) -> 0 | P8: =IFERROR(IF(E8/G8-1<=-5,"<-500%",IF(E8/G8-1>5,">500%",IF(ABS(E8/G8-1)<1%,0,E8/G8-1))),"") | R8: =IF(I8+J8=0,0,I8-J8) -> 0 | S8: =IFERROR(IF(I8/J8-1<=-5,"<-500%",IF(I8/J8-1>5,">500%",IF(ABS(I8/J8-1)<1%,0,I8/J8-1))),"")
C9: Uncompleted Contracts | L9: =IF(E9+F9=0,0,E9-F9) -> 0 | M9: =IFERROR(IF(E9/F9-1<=-5,"<-500%",IF(E9/F9-1>5,">500%",IF(ABS(E9/F9-1)<1%,0,E9/F9-1))),"") | O9: =IF(E9+G9=0,0,E9-G9) -> 0 | P9: =IFERROR(IF(E9/G9-1<=-5,"<-500%",IF(E9/G9-1>5,">500%",IF(ABS(E9/G9-1)<1%,0,E9/G9-1))),"") | R9: =IF(I9+J9=0,0,I9-J9) -> 0 | S9: =IFERROR(IF(I9/J9-1<=-5,"<-500%",IF(I9/J9-1>5,">500%",IF(ABS(I9/J9-1)<1%,0,I9/J9-1))),"")
C10: Inventories, net | L10: =IF(E10+F10=0,0,E10-F10) -> 0 | M10: =IFERROR(IF(E10/F10-1<=-5,"<-500%",IF(E10/F10-1>5,">500%",IF(ABS(E10/F10-1)<1%,0,E10/F10-1))),"") | O10: =IF(E10+G10=0,0,E10-G10) -> 0 | P10: =IFERROR(IF(E10/G10-1<=-5,"<-500%",IF(E10/G10-1>5,">500%",IF(ABS(E10/G10-1)<1%,0,E10/G10-1))),"") | R10: =IF(I10+J10=0,0,I10-J10) -> 0 | S10: =IFERROR(IF(I10/J10-1<=-5,"<-500%",IF(I10/J10-1>5,">500%",IF(ABS(I10/J10-1)<1%,0,I10/J10-1))),"")
C11: Assets held for sale | L11: =IF(E11+F11=0,0,E11-F11) -> 0 | M11: =IFERROR(IF(E11/F11-1<=-5,"<-500%",IF(E11/F11-1>5,">500%",IF(ABS(E11/F11-1)<1%,0,E11/F11-1))),"") | O11: =IF(E11+G11=0,0,E11-G11) -> 0 | P11: =IFERROR(IF(E11/G11-1<=-5,"<-500%",IF(E11/G11-1>5,">500%",IF(ABS(E11/G11-1)<1%,0,E11/G11-1))),"") | R11: =IF(I11+J11=0,0,I11-J11) -> 0 | S11: =IFERROR(IF(I11/J11-1<=-5,"<-500%",IF(I11/J11-1>5,">500%",IF(ABS(I11/J11-1)<1%,0,I11/J11-1))),"")
C12: Prepaid expenses and other current | L12: =IF(E12+F12=0,0,E12-F12) -> 0 | M12: =IFERROR(IF(E12/F12-1<=-5,"<-500%",IF(E12/F12-1>5,">500%",IF(ABS(E12/F12-1)<1%,0,E12/F12-1))),"") | O12: =IF(E12+G12=0,0,E12-G12) -> 0 | P12: =IFERROR(IF(E12/G12-1<=-5,"<-500%",IF(E12/G12-1>5,">500%",IF(ABS(E12/G12-1)<1%,0,E12/G12-1))),"") | R12: =IF(I12+J12=0,0,I12-J12) -> 0 | S12: =IFERROR(IF(I12/J12-1<=-5,"<-500%",IF(I12/J12-1>5,">500%",IF(ABS(I12/J12-1)<1%,0,I12/J12-1))),"")
C13: Total Current Assets | E13: =SUM(E7:E12) -> 2.5 | F13: =SUM(F7:F12) -> 1.2 | G13: =SUM(G7:G12) -> 3.6 | I13: =SUM(I7:I12) -> 5.1 | J13: =SUM(J7:J12) -> 3.7 | L13: =IF(E13+F13=0,0,E13-F13) -> 1.3 | M13: =IFERROR(IF(E13/F13-1<=-5,"<-500%",IF(E13/F13-1>5,">500%",IF(ABS(E13/F13-1)<1%,0,E13/F13-1))),"") -> 1.0833333 | O13: =IF(E13+G13=0,0,E13-G13) -> -1.1 | P13: =IFERROR(IF(E13/G13-1<=-5,"<-500%",IF(E13/G13-1>5,">500%",IF(ABS(E13/G13-1)<1%,0,E13/G13-1))),"") -> -0.30555556 | R13: =IF(I13+J13=0,0,I13-J13) -> 1.4 | S13: =IFERROR(IF(I13/J13-1<=-5,"<-500%",IF(I13/J13-1>5,">500%",IF(ABS(I13/J13-1)<1%,0,I13/J13-1))),"") -> 0.37837838
C15: Fixed Assets | E15: =E12-E13 -> -2.5 | F15: =F12-F13 -> -1.2 | G15: =G12-G13 -> -3.6 | I15: =I12-I13 -> -5.1 | J15: =J12-J13 -> -3.7 | L15: =IF(E15+F15=0,0,E15-F15) -> -1.3 | M15: =IFERROR(IF(E15/F15-1<=-5,"<-500%",IF(E15/F15-1>5,">500%",IF(ABS(E15/F15-1)<1%,0,E15/F15-1))),"") -> 1.0833333 | O15: =IF(E15+G15=0,0,E15-G15) -> 1.1 | P15: =IFERROR(IF(E15/G15-1<=-5,"<-500%",IF(E15/G15-1>5,">500%",IF(ABS(E15/G15-1)<1%,0,E15/G15-1))),"") -> -0.30555556 | R15: =IF(I15+J15=0,0,I15-J15) -> -1.4 | S15: =IFERROR(IF(I15/J15-1<=-5,"<-500%",IF(I15/J15-1>5,">500%",IF(ABS(I15/J15-1)<1%,0,I15/J15-1))),"") -> 0.37837838
C16: Capital expenditures | E16: 33.6 | F16: 29.9 | G16: 33.4 | I16: 35.3 | J16: 12.5 | L16: =IF(E16+F16=0,0,E16-F16) -> 3.7 | M16: =IFERROR(IF(E16/F16-1<=-5,"<-500%",IF(E16/F16-1>5,">500%",IF(ABS(E16/F16-1)<1%,0,E16/F16-1))),"") -> 0.12374582 | O16: =IF(E16+G16=0,0,E16-G16) -> 0.2 | P16: =IFERROR(IF(E16/G16-1<=-5,"<-500%",IF(E16/G16-1>5,">500%",IF(ABS(E16/G16-1)<1%,0,E16/G16-1))),"") -> 0 | R16: =IF(I16+J16=0,0,I16-J16) -> 22.8 | S16: =IFERROR(IF(I16/J16-1<=-5,"<-500%",IF(I16/J16-1>5,">500%",IF(ABS(I16/J16-1)<1%,0,I16/J16-1))),"") -> 1.824
C17: (Accumulated Depreciation) | L17: =IF(E17+F17=0,0,E17-F17) -> 0 | M17: =IFERROR(IF(E17/F17-1<=-5,"<-500%",IF(E17/F17-1>5,">500%",IF(ABS(E17/F17-1)<1%,0,E17/F17-1))),"") | O17: =IF(E17+G17=0,0,E17-G17) -> 0 | P17: =IFERROR(IF(E17/G17-1<=-5,"<-500%",IF(E17/G17-1>5,">500%",IF(ABS(E17/G17-1)<1%,0,E17/G17-1))),"") | R17: =IF(I17+J17=0,0,I17-J17) -> 0 | S17: =IFERROR(IF(I17/J17-1<=-5,"<-500%",IF(I17/J17-1>5,">500%",IF(ABS(I17/J17-1)<1%,0,I17/J17-1))),"")
C18: Net Fixed Assets | E18: =E16-E17 -> 33.6 | F18: =F16-F17 -> 29.9 | G18: =G16-G17 -> 33.4 | I18: =I16-I17 -> 35.3 | J18: =J16-J17 -> 12.5 | L18: =IF(E18+F18=0,0,E18-F18) -> 3.7 | M18: =IFERROR(IF(E18/F18-1<=-5,"<-500%",IF(E18/F18-1>5,">500%",IF(ABS(E18/F18-1)<1%,0,E18/F18-1))),"") -> 0.12374582 | O18: =IF(E18+G18=0,0,E18-G18) -> 0.2 | P18: =IFERROR(IF(E18/G18-1<=-5,"<-500%",IF(E18/G18-1>5,">500%",IF(ABS(E18/G18-1)<1%,0,E18/G18-1))),"") -> 0 | R18: =IF(I18+J18=0,0,I18-J18) -> 22.8 | S18: =IFERROR(IF(I18/J18-1<=-5,"<-500%",IF(I18/J18-1>5,">500%",IF(ABS(I18/J18-1)<1%,0,I18/J18-1))),"") -> 1.824
C20: Goodwill, net | E20: 7.1 | F20: 1.9 | G20: 0.1 | I20: 2.5 | J20: 3.6 | L20: =IF(E20+F20=0,0,E20-F20) -> 5.2 | M20: =IFERROR(IF(E20/F20-1<=-5,"<-500%",IF(E20/F20-1>5,">500%",IF(ABS(E20/F20-1)<1%,0,E20/F20-1))),"") -> 2.7368421 | O20: =IF(E20+G20=0,0,E20-G20) -> 7 | P20: =IFERROR(IF(E20/G20-1<=-5,"<-500%",IF(E20/G20-1>5,">500%",IF(ABS(E20/G20-1)<1%,0,E20/G20-1))),"") -> >500% | R20: =IF(I20+J20=0,0,I20-J20) -> -1.1 | S20: =IFERROR(IF(I20/J20-1<=-5,"<-500%",IF(I20/J20-1>5,">500%",IF(ABS(I20/J20-1)<1%,0,I20/J20-1))),"") -> -0.30555556
C21: Other intangible assets, net | L21: =IF(E21+F21=0,0,E21-F21) -> 0 | M21: =IFERROR(IF(E21/F21-1<=-5,"<-500%",IF(E21/F21-1>5,">500%",IF(ABS(E21/F21-1)<1%,0,E21/F21-1))),"") | O21: =IF(E21+G21=0,0,E21-G21) -> 0 | P21: =IFERROR(IF(E21/G21-1<=-5,"<-500%",IF(E21/G21-1>5,">500%",IF(ABS(E21/G21-1)<1%,0,E21/G21-1))),"") | R21: =IF(I21+J21=0,0,I21-J21) -> 0 | S21: =IFERROR(IF(I21/J21-1<=-5,"<-500%",IF(I21/J21-1>5,">500%",IF(ABS(I21/J21-1)<1%,0,I21/J21-1))),"")
C22: Other/Miscellaneous | L22: =IF(E22+F22=0,0,E22-F22) -> 0 | M22: =IFERROR(IF(E22/F22-1<=-5,"<-500%",IF(E22/F22-1>5,">500%",IF(ABS(E22/F22-1)<1%,0,E22/F22-1))),"") | O22: =IF(E22+G22=0,0,E22-G22) -> 0 | P22: =IFERROR(IF(E22/G22-1<=-5,"<-500%",IF(E22/G22-1>5,">500%",IF(ABS(E22/G22-1)<1%,0,E22/G22-1))),"") | R22: =IF(I22+J22=0,0,I22-J22) -> 0 | S22: =IFERROR(IF(I22/J22-1<=-5,"<-500%",IF(I22/J22-1>5,">500%",IF(ABS(I22/J22-1)<1%,0,I22/J22-1))),"")
C23: Other Assets | E23: =SUM(E20:E22) -> 7.1 | F23: =SUM(F20:F22) -> 1.9 | G23: =SUM(G16:G22) -> 66.9 | I23: =SUM(I20:I22) -> 2.5 | J23: =SUM(J20:J22) -> 3.6 | L23: =IF(E23+F23=0,0,E23-F23) -> 5.2 | M23: =IFERROR(IF(E23/F23-1<=-5,"<-500%",IF(E23/F23-1>5,">500%",IF(ABS(E23/F23-1)<1%,0,E23/F23-1))),"") -> 2.7368421 | O23: =IF(E23+G23=0,0,E23-G23) -> -59.8 | P23: =IFERROR(IF(E23/G23-1<=-5,"<-500%",IF(E23/G23-1>5,">500%",IF(ABS(E23/G23-1)<1%,0,E23/G23-1))),"") -> -0.89387145 | R23: =IF(I23+J23=0,0,I23-J23) -> -1.1 | S23: =IFERROR(IF(I23/J23-1<=-5,"<-500%",IF(I23/J23-1>5,">500%",IF(ABS(I23/J23-1)<1%,0,I23/J23-1))),"") -> -0.30555556
C24: Total Assets | E24: =SUM(E13,E18,E23) -> 43.2 | F24: =SUM(F13,F18,F23) -> 33 | G24: =SUM(G13,G18,G23) -> 103.9 | I24: =SUM(I13,I18,I23) -> 42.9 | J24: =SUM(J13,J18,J23) -> 19.8 | L24: =IF(E24+F24=0,0,E24-F24) -> 10.2 | M24: =IFERROR(IF(E24/F24-1<=-5,"<-500%",IF(E24/F24-1>5,">500%",IF(ABS(E24/F24-1)<1%,0,E24/F24-1))),"") -> 0.30909091 | O24: =IF(E24+G24=0,0,E24-G24) -> -60.7 | P24: =IFERROR(IF(E24/G24-1<=-5,"<-500%",IF(E24/G24-1>5,">500%",IF(ABS(E24/G24-1)<1%,0,E24/G24-1))),"") -> -0.58421559 | R24: =IF(I24+J24=0,0,I24-J24) -> 23.1 | S24: =IFERROR(IF(I24/J24-1<=-5,"<-500%",IF(I24/J24-1>5,">500%",IF(ABS(I24/J24-1)<1%,0,I24/J24-1))),"") -> 1.1666667
C26: Current Liabilities
C27: Accounts payable and accrued expenses | E27: 1.2 | F27: 5.2 | G27: 4.8 | I27: 6.5 | J27: 5 | L27: =IF(E27+F27=0,0,E27-F27) -> -4 | M27: =IFERROR(IF(E27/F27-1<=-5,"<-500%",IF(E27/F27-1>5,">500%",IF(ABS(E27/F27-1)<1%,0,E27/F27-1))),"") -> -0.76923077 | O27: =IF(E27+G27=0,0,E27-G27) -> -3.6 | P27: =IFERROR(IF(E27/G27-1<=-5,"<-500%",IF(E27/G27-1>5,">500%",IF(ABS(E27/G27-1)<1%,0,E27/G27-1))),"") -> -0.75 | R27: =IF(I27+J27=0,0,I27-J27) -> 1.5 | S27: =IFERROR(IF(I27/J27-1<=-5,"<-500%",IF(I27/J27-1>5,">500%",IF(ABS(I27/J27-1)<1%,0,I27/J27-1))),"") -> 0.3
C28: Dividends payable | L28: =IF(E28+F28=0,0,E28-F28) -> 0 | M28: =IFERROR(IF(E28/F28-1<=-5,"<-500%",IF(E28/F28-1>5,">500%",IF(ABS(E28/F28-1)<1%,0,E28/F28-1))),"") | O28: =IF(E28+G28=0,0,E28-G28) -> 0 | P28: =IFERROR(IF(E28/G28-1<=-5,"<-500%",IF(E28/G28-1>5,">500%",IF(ABS(E28/G28-1)<1%,0,E28/G28-1))),"") | R28: =IF(I28+J28=0,0,I28-J28) -> 0 | S28: =IFERROR(IF(I28/J28-1<=-5,"<-500%",IF(I28/J28-1>5,">500%",IF(ABS(I28/J28-1)<1%,0,I28/J28-1))),"")
C29: Notes payable, current | L29: =IF(E29+F29=0,0,E29-F29) -> 0 | M29: =IFERROR(IF(E29/F29-1<=-5,"<-500%",IF(E29/F29-1>5,">500%",IF(ABS(E29/F29-1)<1%,0,E29/F29-1))),"") | O29: =IF(E29+G29=0,0,E29-G29) -> 0 | P29: =IFERROR(IF(E29/G29-1<=-5,"<-500%",IF(E29/G29-1>5,">500%",IF(ABS(E29/G29-1)<1%,0,E29/G29-1))),"") | R29: =IF(I29+J29=0,0,I29-J29) -> 0 | S29: =IFERROR(IF(I29/J29-1<=-5,"<-500%",IF(I29/J29-1>5,">500%",IF(ABS(I29/J29-1)<1%,0,I29/J29-1))),"")
C30: Capital leases, current | L30: =IF(E30+F30=0,0,E30-F30) -> 0 | M30: =IFERROR(IF(E30/F30-1<=-5,"<-500%",IF(E30/F30-1>5,">500%",IF(ABS(E30/F30-1)<1%,0,E30/F30-1))),"") | O30: =IF(E30+G30=0,0,E30-G30) -> 0 | P30: =IFERROR(IF(E30/G30-1<=-5,"<-500%",IF(E30/G30-1>5,">500%",IF(ABS(E30/G30-1)<1%,0,E30/G30-1))),"") | R30: =IF(I30+J30=0,0,I30-J30) -> 0 | S30: =IFERROR(IF(I30/J30-1<=-5,"<-500%",IF(I30/J30-1>5,">500%",IF(ABS(I30/J30-1)<1%,0,I30/J30-1))),"")
C31: Uncompleted Contracts | L31: =IF(E31+F31=0,0,E31-F31) -> 0 | M31: =IFERROR(IF(E31/F31-1<=-5,"<-500%",IF(E31/F31-1>5,">500%",IF(ABS(E31/F31-1)<1%,0,E31/F31-1))),"") | O31: =IF(E31+G31=0,0,E31-G31) -> 0 | P31: =IFERROR(IF(E31/G31-1<=-5,"<-500%",IF(E31/G31-1>5,">500%",IF(ABS(E31/G31-1)<1%,0,E31/G31-1))),"") | R31: =IF(I31+J31=0,0,I31-J31) -> 0 | S31: =IFERROR(IF(I31/J31-1<=-5,"<-500%",IF(I31/J31-1>5,">500%",IF(ABS(I31/J31-1)<1%,0,I31/J31-1))),"")
C32: Customer advances | L32: =IF(E32+F32=0,0,E32-F32) -> 0 | M32: =IFERROR(IF(E32/F32-1<=-5,"<-500%",IF(E32/F32-1>5,">500%",IF(ABS(E32/F32-1)<1%,0,E32/F32-1))),"") | O32: =IF(E32+G32=0,0,E32-G32) -> 0 | P32: =IFERROR(IF(E32/G32-1<=-5,"<-500%",IF(E32/G32-1>5,">500%",IF(ABS(E32/G32-1)<1%,0,E32/G32-1))),"") | R32: =IF(I32+J32=0,0,I32-J32) -> 0 | S32: =IFERROR(IF(I32/J32-1<=-5,"<-500%",IF(I32/J32-1>5,">500%",IF(ABS(I32/J32-1)<1%,0,I32/J32-1))),"")
C33: Liabilites related to assets held for sale | L33: =IF(E33+F33=0,0,E33-F33) -> 0 | M33: =IFERROR(IF(E33/F33-1<=-5,"<-500%",IF(E33/F33-1>5,">500%",IF(ABS(E33/F33-1)<1%,0,E33/F33-1))),"") | O33: =IF(E33+G33=0,0,E33-G33) -> 0 | P33: =IFERROR(IF(E33/G33-1<=-5,"<-500%",IF(E33/G33-1>5,">500%",IF(ABS(E33/G33-1)<1%,0,E33/G33-1))),"") | R33: =IF(I33+J33=0,0,I33-J33) -> 0 | S33: =IFERROR(IF(I33/J33-1<=-5,"<-500%",IF(I33/J33-1>5,">500%",IF(ABS(I33/J33-1)<1%,0,I33/J33-1))),"")
C34: Deferred revenue, current | L34: =IF(E34+F34=0,0,E34-F34) -> 0 | M34: =IFERROR(IF(E34/F34-1<=-5,"<-500%",IF(E34/F34-1>5,">500%",IF(ABS(E34/F34-1)<1%,0,E34/F34-1))),"") | O34: =IF(E34+G34=0,0,E34-G34) -> 0 | P34: =IFERROR(IF(E34/G34-1<=-5,"<-500%",IF(E34/G34-1>5,">500%",IF(ABS(E34/G34-1)<1%,0,E34/G34-1))),"") | R34: =IF(I34+J34=0,0,I34-J34) -> 0 | S34: =IFERROR(IF(I34/J34-1<=-5,"<-500%",IF(I34/J34-1>5,">500%",IF(ABS(I34/J34-1)<1%,0,I34/J34-1))),"")
C35: Total Current Liabilities | E35: =SUM(E27:E34) -> 1.2 | F35: =SUM(F27:F34) -> 5.2 | G35: =SUM(G27:G34) -> 4.8 | I35: =SUM(I27:I34) -> 6.5 | J35: =SUM(J27:J34) -> 5 | L35: =IF(E35+F35=0,0,E35-F35) -> -4 | M35: =IFERROR(IF(E35/F35-1<=-5,"<-500%",IF(E35/F35-1>5,">500%",IF(ABS(E35/F35-1)<1%,0,E35/F35-1))),"") -> -0.76923077 | O35: =IF(E35+G35=0,0,E35-G35) -> -3.6 | P35: =IFERROR(IF(E35/G35-1<=-5,"<-500%",IF(E35/G35-1>5,">500%",IF(ABS(E35/G35-1)<1%,0,E35/G35-1))),"") -> -0.75 | R35: =IF(I35+J35=0,0,I35-J35) -> 1.5 | S35: =IFERROR(IF(I35/J35-1<=-5,"<-500%",IF(I35/J35-1>5,">500%",IF(ABS(I35/J35-1)<1%,0,I35/J35-1))),"") -> 0.3
C37: Long-term Liabilities
C38: Notes payable, long term | E38: 2.8 | F38: 6.4 | G38: 8.8 | I38: 7.7 | J38: 4.6 | L38: =IF(E38+F38=0,0,E38-F38) -> -3.6 | M38: =IFERROR(IF(E38/F38-1<=-5,"<-500%",IF(E38/F38-1>5,">500%",IF(ABS(E38/F38-1)<1%,0,E38/F38-1))),"") -> -0.5625 | O38: =IF(E38+G38=0,0,E38-G38) -> -6 | P38: =IFERROR(IF(E38/G38-1<=-5,"<-500%",IF(E38/G38-1>5,">500%",IF(ABS(E38/G38-1)<1%,0,E38/G38-1))),"") -> -0.68181818 | R38: =IF(I38+J38=0,0,I38-J38) -> 3.1 | S38: =IFERROR(IF(I38/J38-1<=-5,"<-500%",IF(I38/J38-1>5,">500%",IF(ABS(I38/J38-1)<1%,0,I38/J38-1))),"") -> 0.67391304
C39: Capital leases, long term | L39: =IF(E39+F39=0,0,E39-F39) -> 0 | M39: =IFERROR(IF(E39/F39-1<=-5,"<-500%",IF(E39/F39-1>5,">500%",IF(ABS(E39/F39-1)<1%,0,E39/F39-1))),"") | O39: =IF(E39+G39=0,0,E39-G39) -> 0 | P39: =IFERROR(IF(E39/G39-1<=-5,"<-500%",IF(E39/G39-1>5,">500%",IF(ABS(E39/G39-1)<1%,0,E39/G39-1))),"") | R39: =IF(I39+J39=0,0,I39-J39) -> 0 | S39: =IFERROR(IF(I39/J39-1<=-5,"<-500%",IF(I39/J39-1>5,">500%",IF(ABS(I39/J39-1)<1%,0,I39/J39-1))),"")
C40: Deferred revenue, long term | L40: =IF(E40+F40=0,0,E40-F40) -> 0 | M40: =IFERROR(IF(E40/F40-1<=-5,"<-500%",IF(E40/F40-1>5,">500%",IF(ABS(E40/F40-1)<1%,0,E40/F40-1))),"") | O40: =IF(E40+G40=0,0,E40-G40) -> 0 | P40: =IFERROR(IF(E40/G40-1<=-5,"<-500%",IF(E40/G40-1>5,">500%",IF(ABS(E40/G40-1)<1%,0,E40/G40-1))),"") | R40: =IF(I40+J40=0,0,I40-J40) -> 0 | S40: =IFERROR(IF(I40/J40-1<=-5,"<-500%",IF(I40/J40-1>5,">500%",IF(ABS(I40/J40-1)<1%,0,I40/J40-1))),"")
C41: Total Long-Term Liabilities | E41: =SUM(E38:E40) -> 2.8 | F41: =SUM(F38:F40) -> 6.4 | G41: =SUM(G38:G40) -> 8.8 | I41: =SUM(I38:I40) -> 7.7 | J41: =SUM(J38:J40) -> 4.6 | L41: =IF(E41+F41=0,0,E41-F41) -> -3.6 | M41: =IFERROR(IF(E41/F41-1<=-5,"<-500%",IF(E41/F41-1>5,">500%",IF(ABS(E41/F41-1)<1%,0,E41/F41-1))),"") -> -0.5625 | O41: =IF(E41+G41=0,0,E41-G41) -> -6 | P41: =IFERROR(IF(E41/G41-1<=-5,"<-500%",IF(E41/G41-1>5,">500%",IF(ABS(E41/G41-1)<1%,0,E41/G41-1))),"") -> -0.68181818 | R41: =IF(I41+J41=0,0,I41-J41) -> 3.1 | S41: =IFERROR(IF(I41/J41-1<=-5,"<-500%",IF(I41/J41-1>5,">500%",IF(ABS(I41/J41-1)<1%,0,I41/J41-1))),"") -> 0.67391304
C42: Total Liabilities | E42: =+E35+E41 -> 4 | F42: =+F35+F41 -> 11.6 | G42: =+G35+G41 -> 13.6 | I42: =+I35+I41 -> 14.2 | J42: =+J35+J41 -> 9.6 | L42: =IF(E42+F42=0,0,E42-F42) -> -7.6 | M42: =IFERROR(IF(E42/F42-1<=-5,"<-500%",IF(E42/F42-1>5,">500%",IF(ABS(E42/F42-1)<1%,0,E42/F42-1))),"") -> -0.65517241 | O42: =IF(E42+G42=0,0,E42-G42) -> -9.6 | P42: =IFERROR(IF(E42/G42-1<=-5,"<-500%",IF(E42/G42-1>5,">500%",IF(ABS(E42/G42-1)<1%,0,E42/G42-1))),"") -> -0.70588235 | R42: =IF(I42+J42=0,0,I42-J42) -> 4.6 | S42: =IFERROR(IF(I42/J42-1<=-5,"<-500%",IF(I42/J42-1>5,">500%",IF(ABS(I42/J42-1)<1%,0,I42/J42-1))),"") -> 0.47916667
C44: Equity
C45: Common Stock | E45: 3.6 | F45: 5.8 | G45: 7.8 | I45: 3.4 | J45: 2.2 | L45: =IF(E45+F45=0,0,E45-F45) -> -2.2 | M45: =IFERROR(IF(E45/F45-1<=-5,"<-500%",IF(E45/F45-1>5,">500%",IF(ABS(E45/F45-1)<1%,0,E45/F45-1))),"") -> -0.37931034 | O45: =IF(E45+G45=0,0,E45-G45) -> -4.2 | P45: =IFERROR(IF(E45/G45-1<=-5,"<-500%",IF(E45/G45-1>5,">500%",IF(ABS(E45/G45-1)<1%,0,E45/G45-1))),"") -> -0.53846154 | R45: =IF(I45+J45=0,0,I45-J45) -> 1.2 | S45: =IFERROR(IF(I45/J45-1<=-5,"<-500%",IF(I45/J45-1>5,">500%",IF(ABS(I45/J45-1)<1%,0,I45/J45-1))),"") -> 0.54545455
C46: Preferred - Series B | L46: =IF(E46+F46=0,0,E46-F46) -> 0 | M46: =IFERROR(IF(E46/F46-1<=-5,"<-500%",IF(E46/F46-1>5,">500%",IF(ABS(E46/F46-1)<1%,0,E46/F46-1))),"") | O46: =IF(E46+G46=0,0,E46-G46) -> 0 | P46: =IFERROR(IF(E46/G46-1<=-5,"<-500%",IF(E46/G46-1>5,">500%",IF(ABS(E46/G46-1)<1%,0,E46/G46-1))),"") | R46: =IF(I46+J46=0,0,I46-J46) -> 0 | S46: =IFERROR(IF(I46/J46-1<=-5,"<-500%",IF(I46/J46-1>5,">500%",IF(ABS(I46/J46-1)<1%,0,I46/J46-1))),"")
C47: Preferred - Series D | L47: =IF(E47+F47=0,0,E47-F47) -> 0 | M47: =IFERROR(IF(E47/F47-1<=-5,"<-500%",IF(E47/F47-1>5,">500%",IF(ABS(E47/F47-1)<1%,0,E47/F47-1))),"") | O47: =IF(E47+G47=0,0,E47-G47) -> 0 | P47: =IFERROR(IF(E47/G47-1<=-5,"<-500%",IF(E47/G47-1>5,">500%",IF(ABS(E47/G47-1)<1%,0,E47/G47-1))),"") | R47: =IF(I47+J47=0,0,I47-J47) -> 0 | S47: =IFERROR(IF(I47/J47-1<=-5,"<-500%",IF(I47/J47-1>5,">500%",IF(ABS(I47/J47-1)<1%,0,I47/J47-1))),"")
...

Sheet Cash
A1: info
C3: Cash Flow Statement
C4: In millions except as indicated | E4: Q current | F4: Q ⎯1 | G4: Q prior | I4: YTD current | J4: YTD prior | L4: Q / Q | M4: Q / Q % | O4: Y / Y | P4: Y / Y % | R4: YTD | S4: YTD %
C6: Operating Activities
C7: Gain/Loss from Continuing Operations | E7: 9.5 | F7: 13.5 | G7: 17 | I7: 17 | J7: 14.6 | L7: =IF(E7+F7=0,0,E7-F7) -> -4 | M7: =IFERROR(IF(E7/F7-1<=-5,"<-500%",IF(E7/F7-1>5,">500%",IF(ABS(E7/F7-1)<1%,0,E7/F7-1))),"") -> -0.2962963 | O7: =IF(E7+G7=0,0,E7-G7) -> -7.5 | P7: =IFERROR(IF(E7/G7-1<=-5,"<-500%",IF(E7/G7-1>5,">500%",IF(ABS(E7/G7-1)<1%,0,E7/G7-1))),"") -> -0.44117647 | R7: =IF(I7+J7=0,0,I7-J7) -> 2.4 | S7: =IFERROR(IF(I7/J7-1<=-5,"<-500%",IF(I7/J7-1>5,">500%",IF(ABS(I7/J7-1)<1%,0,I7/J7-1))),"") -> 0.16438356
C8: =Income!C16 -> Depreciation and amortization | L8: =IF(E8+F8=0,0,E8-F8) -> 0 | M8: =IFERROR(IF(E8/F8-1<=-5,"<-500%",IF(E8/F8-1>5,">500%",IF(ABS(E8/F8-1)<1%,0,E8/F8-1))),"") | O8: =IF(E8+G8=0,0,E8-G8) -> 0 | P8: =IFERROR(IF(E8/G8-1<=-5,"<-500%",IF(E8/G8-1>5,">500%",IF(ABS(E8/G8-1)<1%,0,E8/G8-1))),"") | R8: =IF(I8+J8=0,0,I8-J8) -> 0 | S8: =IFERROR(IF(I8/J8-1<=-5,"<-500%",IF(I8/J8-1>5,">500%",IF(ABS(I8/J8-1)<1%,0,I8/J8-1))),"")
C9: Adjustments to reconcile net earnings:
C10: Standard Activities
C11: Accounts receivable, net | E11: 7.6 | F11: -8.3 | G11: 0.5 | I11: -2.9 | J11: -1.7 | L11: =IF(E11+F11=0,0,E11-F11) -> 15.9 | M11: =IFERROR(IF(E11/F11-1<=-5,"<-500%",IF(E11/F11-1>5,">500%",IF(ABS(E11/F11-1)<1%,0,E11/F11-1))),"") -> -1.9156627 | O11: =IF(E11+G11=0,0,E11-G11) -> 7.1 | P11: =IFERROR(IF(E11/G11-1<=-5,"<-500%",IF(E11/G11-1>5,">500%",IF(ABS(E11/G11-1)<1%,0,E11/G11-1))),"") -> >500% | R11: =IF(I11+J11=0,0,I11-J11) -> -1.2 | S11: =IFERROR(IF(I11/J11-1<=-5,"<-500%",IF(I11/J11-1>5,">500%",IF(ABS(I11/J11-1)<1%,0,I11/J11-1))),"") -> 0.70588235
C12: Inventories, net | L12: =IF(E12+F12=0,0,E12-F12) -> 0 | M12: =IFERROR(IF(E12/F12-1<=-5,"<-500%",IF(E12/F12-1>5,">500%",IF(ABS(E12/F12-1)<1%,0,E12/F12-1))),"") | O12: =IF(E12+G12=0,0,E12-G12) -> 0 | P12: =IFERROR(IF(E12/G12-1<=-5,"<-500%",IF(E12/G12-1>5,">500%",IF(ABS(E12/G12-1)<1%,0,E12/G12-1))),"") | R12: =IF(I12+J12=0,0,I12-J12) -> 0 | S12: =IFERROR(IF(I12/J12-1<=-5,"<-500%",IF(I12/J12-1>5,">500%",IF(ABS(I12/J12-1)<1%,0,I12/J12-1))),"")
C13: Other assets | L13: =IF(E13+F13=0,0,E13-F13) -> 0 | M13: =IFERROR(IF(E13/F13-1<=-5,"<-500%",IF(E13/F13-1>5,">500%",IF(ABS(E13/F13-1)<1%,0,E13/F13-1))),"") | O13: =IF(E13+G13=0,0,E13-G13) -> 0 | P13: =IFERROR(IF(E13/G13-1<=-5,"<-500%",IF(E13/G13-1>5,">500%",IF(ABS(E13/G13-1)<1%,0,E13/G13-1))),"") | R13: =IF(I13+J13=0,0,I13-J13) -> 0 | S13: =IFERROR(IF(I13/J13-1<=-5,"<-500%",IF(I13/J13-1>5,">500%",IF(ABS(I13/J13-1)<1%,0,I13/J13-1))),"")
C14: Prepaid expenses and other current assets | L14: =IF(E14+F14=0,0,E14-F14) -> 0 | M14: =IFERROR(IF(E14/F14-1<=-5,"<-500%",IF(E14/F14-1>5,">500%",IF(ABS(E14/F14-1)<1%,0,E14/F14-1))),"") | O14: =IF(E14+G14=0,0,E14-G14) -> 0 | P14: =IFERROR(IF(E14/G14-1<=-5,"<-500%",IF(E14/G14-1>5,">500%",IF(ABS(E14/G14-1)<1%,0,E14/G14-1))),"") | R14: =IF(I14+J14=0,0,I14-J14) -> 0 | S14: =IFERROR(IF(I14/J14-1<=-5,"<-500%",IF(I14/J14-1>5,">500%",IF(ABS(I14/J14-1)<1%,0,I14/J14-1))),"")
C15: Accounts payable and accrued expenses | L15: =IF(E15+F15=0,0,E15-F15) -> 0 | M15: =IFERROR(IF(E15/F15-1<=-5,"<-500%",IF(E15/F15-1>5,">500%",IF(ABS(E15/F15-1)<1%,0,E15/F15-1))),"") | O15: =IF(E15+G15=0,0,E15-G15) -> 0 | P15: =IFERROR(IF(E15/G15-1<=-5,"<-500%",IF(E15/G15-1>5,">500%",IF(ABS(E15/G15-1)<1%,0,E15/G15-1))),"") | R15: =IF(I15+J15=0,0,I15-J15) -> 0 | S15: =IFERROR(IF(I15/J15-1<=-5,"<-500%",IF(I15/J15-1>5,">500%",IF(ABS(I15/J15-1)<1%,0,I15/J15-1))),"")
C16: Dividends payable | L16: =IF(E16+F16=0,0,E16-F16) -> 0 | M16: =IFERROR(IF(E16/F16-1<=-5,"<-500%",IF(E16/F16-1>5,">500%",IF(ABS(E16/F16-1)<1%,0,E16/F16-1))),"") | O16: =IF(E16+G16=0,0,E16-G16) -> 0 | P16: =IFERROR(IF(E16/G16-1<=-5,"<-500%",IF(E16/G16-1>5,">500%",IF(ABS(E16/G16-1)<1%,0,E16/G16-1))),"") | R16: =IF(I16+J16=0,0,I16-J16) -> 0 | S16: =IFERROR(IF(I16/J16-1<=-5,"<-500%",IF(I16/J16-1>5,">500%",IF(ABS(I16/J16-1)<1%,0,I16/J16-1))),"")
C17: Supplemental Activities
C18: =Activity!C8 -> Stock-based compensation | E18: -1 | F18: -1.6 | G18: -2.9 | I18: 5 | J18: 8.1 | L18: =IF(E18+F18=0,0,E18-F18) -> 0.6 | M18: =IFERROR(IF(E18/F18-1<=-5,"<-500%",IF(E18/F18-1>5,">500%",IF(ABS(E18/F18-1)<1%,0,E18/F18-1))),"") -> -0.375 | O18: =IF(E18+G18=0,0,E18-G18) -> 1.9 | P18: =IFERROR(IF(E18/G18-1<=-5,"<-500%",IF(E18/G18-1>5,">500%",IF(ABS(E18/G18-1)<1%,0,E18/G18-1))),"") -> -0.65517241 | R18: =IF(I18+J18=0,0,I18-J18) -> -3.1 | S18: =IFERROR(IF(I18/J18-1<=-5,"<-500%",IF(I18/J18-1>5,">500%",IF(ABS(I18/J18-1)<1%,0,I18/J18-1))),"") -> -0.38271605
C19: =Activity!C9 -> Stock and warrants issued for services | L19: =IF(E19+F19=0,0,E19-F19) -> 0 | M19: =IFERROR(IF(E19/F19-1<=-5,"<-500%",IF(E19/F19-1>5,">500%",IF(ABS(E19/F19-1)<1%,0,E19/F19-1))),"") | O19: =IF(E19+G19=0,0,E19-G19) -> 0 | P19: =IFERROR(IF(E19/G19-1<=-5,"<-500%",IF(E19/G19-1>5,">500%",IF(ABS(E19/G19-1)<1%,0,E19/G19-1))),"") | R19: =IF(I19+J19=0,0,I19-J19) -> 0 | S19: =IFERROR(IF(I19/J19-1<=-5,"<-500%",IF(I19/J19-1>5,">500%",IF(ABS(I19/J19-1)<1%,0,I19/J19-1))),"")
C20: =Activity!C10 -> Treasury share adjustment | L20: =IF(E20+F20=0,0,E20-F20) -> 0 | M20: =IFERROR(IF(E20/F20-1<=-5,"<-500%",IF(E20/F20-1>5,">500%",IF(ABS(E20/F20-1)<1%,0,E20/F20-1))),"") | O20: =IF(E20+G20=0,0,E20-G20) -> 0 | P20: =IFERROR(IF(E20/G20-1<=-5,"<-500%",IF(E20/G20-1>5,">500%",IF(ABS(E20/G20-1)<1%,0,E20/G20-1))),"") | R20: =IF(I20+J20=0,0,I20-J20) -> 0 | S20: =IFERROR(IF(I20/J20-1<=-5,"<-500%",IF(I20/J20-1>5,">500%",IF(ABS(I20/J20-1)<1%,0,I20/J20-1))),"")
C21: Gain/loss on sale of data storage assets | L21: =IF(E21+F21=0,0,E21-F21) -> 0 | M21: =IFERROR(IF(E21/F21-1<=-5,"<-500%",IF(E21/F21-1>5,">500%",IF(ABS(E21/F21-1)<1%,0,E21/F21-1))),"") | O21: =IF(E21+G21=0,0,E21-G21) -> 0 | P21: =IFERROR(IF(E21/G21-1<=-5,"<-500%",IF(E21/G21-1>5,">500%",IF(ABS(E21/G21-1)<1%,0,E21/G21-1))),"") | R21: =IF(I21+J21=0,0,I21-J21) -> 0 | S21: =IFERROR(IF(I21/J21-1<=-5,"<-500%",IF(I21/J21-1>5,">500%",IF(ABS(I21/J21-1)<1%,0,I21/J21-1))),"")
C22: =Activity!C12 -> Impairment charge | L22: =IF(E22+F22=0,0,E22-F22) -> 0 | M22: =IFERROR(IF(E22/F22-1<=-5,"<-500%",IF(E22/F22-1>5,">500%",IF(ABS(E22/F22-1)<1%,0,E22/F22-1))),"") | O22: =IF(E22+G22=0,0,E22-G22) -> 0 | P22: =IFERROR(IF(E22/G22-1<=-5,"<-500%",IF(E22/G22-1>5,">500%",IF(ABS(E22/G22-1)<1%,0,E22/G22-1))),"") | R22: =IF(I22+J22=0,0,I22-J22) -> 0 | S22: =IFERROR(IF(I22/J22-1<=-5,"<-500%",IF(I22/J22-1>5,">500%",IF(ABS(I22/J22-1)<1%,0,I22/J22-1))),"")
C23: Notes payable/receivable write-off | L23: =IF(E23+F23=0,0,E23-F23) -> 0 | M23: =IFERROR(IF(E23/F23-1<=-5,"<-500%",IF(E23/F23-1>5,">500%",IF(ABS(E23/F23-1)<1%,0,E23/F23-1))),"") | O23: =IF(E23+G23=0,0,E23-G23) -> 0 | P23: =IFERROR(IF(E23/G23-1<=-5,"<-500%",IF(E23/G23-1>5,">500%",IF(ABS(E23/G23-1)<1%,0,E23/G23-1))),"") | R23: =IF(I23+J23=0,0,I23-J23) -> 0 | S23: =IFERROR(IF(I23/J23-1<=-5,"<-500%",IF(I23/J23-1>5,">500%",IF(ABS(I23/J23-1)<1%,0,I23/J23-1))),"")
C24: =Activity!C14 -> Interest converted to equity | L24: =IF(E24+F24=0,0,E24-F24) -> 0 | M24: =IFERROR(IF(E24/F24-1<=-5,"<-500%",IF(E24/F24-1>5,">500%",IF(ABS(E24/F24-1)<1%,0,E24/F24-1))),"") | O24: =IF(E24+G24=0,0,E24-G24) -> 0 | P24: =IFERROR(IF(E24/G24-1<=-5,"<-500%",IF(E24/G24-1>5,">500%",IF(ABS(E24/G24-1)<1%,0,E24/G24-1))),"") | R24: =IF(I24+J24=0,0,I24-J24) -> 0 | S24: =IFERROR(IF(I24/J24-1<=-5,"<-500%",IF(I24/J24-1>5,">500%",IF(ABS(I24/J24-1)<1%,0,I24/J24-1))),"")
C25: =Activity!C15 -> Fees and interest paid with debt | L25: =IF(E25+F25=0,0,E25-F25) -> 0 | M25: =IFERROR(IF(E25/F25-1<=-5,"<-500%",IF(E25/F25-1>5,">500%",IF(ABS(E25/F25-1)<1%,0,E25/F25-1))),"") | O25: =IF(E25+G25=0,0,E25-G25) -> 0 | P25: =IFERROR(IF(E25/G25-1<=-5,"<-500%",IF(E25/G25-1>5,">500%",IF(ABS(E25/G25-1)<1%,0,E25/G25-1))),"") | R25: =IF(I25+J25=0,0,I25-J25) -> 0 | S25: =IFERROR(IF(I25/J25-1<=-5,"<-500%",IF(I25/J25-1>5,">500%",IF(ABS(I25/J25-1)<1%,0,I25/J25-1))),"")
C26: Changes in operating assets and liabilities:
C27: Costs > billings on uncompleted contracts | E27: 3.1 | F27: -2.6 | G27: 2.8 | I27: 1 | J27: 4.5 | L27: =IF(E27+F27=0,0,E27-F27) -> 5.7 | M27: =IFERROR(IF(E27/F27-1<=-5,"<-500%",IF(E27/F27-1>5,">500%",IF(ABS(E27/F27-1)<1%,0,E27/F27-1))),"") -> -2.1923077 | O27: =IF(E27+G27=0,0,E27-G27) -> 0.3 | P27: =IFERROR(IF(E27/G27-1<=-5,"<-500%",IF(E27/G27-1>5,">500%",IF(ABS(E27/G27-1)<1%,0,E27/G27-1))),"") -> 0.10714286 | R27: =IF(I27+J27=0,0,I27-J27) -> -3.5 | S27: =IFERROR(IF(I27/J27-1<=-5,"<-500%",IF(I27/J27-1>5,">500%",IF(ABS(I27/J27-1)<1%,0,I27/J27-1))),"") -> -0.77777778
C28: Deferred revenue | L28: =IF(E28+F28=0,0,E28-F28) -> 0 | M28: =IFERROR(IF(E28/F28-1<=-5,"<-500%",IF(E28/F28-1>5,">500%",IF(ABS(E28/F28-1)<1%,0,E28/F28-1))),"") | O28: =IF(E28+G28=0,0,E28-G28) -> 0 | P28: =IFERROR(IF(E28/G28-1<=-5,"<-500%",IF(E28/G28-1>5,">500%",IF(ABS(E28/G28-1)<1%,0,E28/G28-1))),"") | R28: =IF(I28+J28=0,0,I28-J28) -> 0 | S28: =IFERROR(IF(I28/J28-1<=-5,"<-500%",IF(I28/J28-1>5,">500%",IF(ABS(I28/J28-1)<1%,0,I28/J28-1))),"")
C29: Billings > costs on uncompleted contracts | L29: =IF(E29+F29=0,0,E29-F29) -> 0 | M29: =IFERROR(IF(E29/F29-1<=-5,"<-500%",IF(E29/F29-1>5,">500%",IF(ABS(E29/F29-1)<1%,0,E29/F29-1))),"") | O29: =IF(E29+G29=0,0,E29-G29) -> 0 | P29: =IFERROR(IF(E29/G29-1<=-5,"<-500%",IF(E29/G29-1>5,">500%",IF(ABS(E29/G29-1)<1%,0,E29/G29-1))),"") | R29: =IF(I29+J29=0,0,I29-J29) -> 0 | S29: =IFERROR(IF(I29/J29-1<=-5,"<-500%",IF(I29/J29-1>5,">500%",IF(ABS(I29/J29-1)<1%,0,I29/J29-1))),"")
C30: Customer advances | L30: =IF(E30+F30=0,0,E30-F30) -> 0 | M30: =IFERROR(IF(E30/F30-1<=-5,"<-500%",IF(E30/F30-1>5,">500%",IF(ABS(E30/F30-1)<1%,0,E30/F30-1))),"") | O30: =IF(E30+G30=0,0,E30-G30) -> 0 | P30: =IFERROR(IF(E30/G30-1<=-5,"<-500%",IF(E30/G30-1>5,">500%",IF(ABS(E30/G30-1)<1%,0,E30/G30-1))),"") | R30: =IF(I30+J30=0,0,I30-J30) -> 0 | S30: =IFERROR(IF(I30/J30-1<=-5,"<-500%",IF(I30/J30-1>5,">500%",IF(ABS(I30/J30-1)<1%,0,I30/J30-1))),"")
C31: Cash in/out from Operations | E31: =SUM(E7:E30) -> 19.2 | F31: =SUM(F7:F30) -> 1 | G31: =SUM(G7:G30) -> 17.4 | I31: =SUM(I7:I30) -> 20.1 | J31: =SUM(J7:J30) -> 25.5 | L31: =IF(E31+F31=0,0,E31-F31) -> 18.2 | M31: =IFERROR(IF(E31/F31-1<=-5,"<-500%",IF(E31/F31-1>5,">500%",IF(ABS(E31/F31-1)<1%,0,E31/F31-1))),"") -> >500% | O31: =IF(E31+G31=0,0,E31-G31) -> 1.8 | P31: =IFERROR(IF(E31/G31-1<=-5,"<-500%",IF(E31/G31-1>5,">500%",IF(ABS(E31/G31-1)<1%,0,E31/G31-1))),"") -> 0.10344828 | R31: =IF(I31+J31=0,0,I31-J31) -> -5.4 | S31: =IFERROR(IF(I31/J31-1<=-5,"<-500%",IF(I31/J31-1>5,">500%",IF(ABS(I31/J31-1)<1%,0,I31/J31-1))),"") -> -0.21176471
C33: Investing Activities
C34: Capital Expenditures | E34: -3.7 | F34: 3.5 | G34: 1.9 | I34: -22.8 | J34: -12.5 | L34: =IF(E34+F34=0,0,E34-F34) -> -7.2 | M34: =IFERROR(IF(E34/F34-1<=-5,"<-500%",IF(E34/F34-1>5,">500%",IF(ABS(E34/F34-1)<1%,0,E34/F34-1))),"") -> -2.0571429 | O34: =IF(E34+G34=0,0,E34-G34) -> -5.6 | P34: =IFERROR(IF(E34/G34-1<=-5,"<-500%",IF(E34/G34-1>5,">500%",IF(ABS(E34/G34-1)<1%,0,E34/G34-1))),"") -> -2.9473684 | R34: =IF(I34+J34=0,0,I34-J34) -> -10.3 | S34: =IFERROR(IF(I34/J34-1<=-5,"<-500%",IF(I34/J34-1>5,">500%",IF(ABS(I34/J34-1)<1%,0,I34/J34-1))),"") -> 0.824
C35: Cash from sale of data storage assets | L35: =IF(E35+F35=0,0,E35-F35) -> 0 | M35: =IFERROR(IF(E35/F35-1<=-5,"<-500%",IF(E35/F35-1>5,">500%",IF(ABS(E35/F35-1)<1%,0,E35/F35-1))),"") | O35: =IF(E35+G35=0,0,E35-G35) -> 0 | P35: =IFERROR(IF(E35/G35-1<=-5,"<-500%",IF(E35/G35-1>5,">500%",IF(ABS(E35/G35-1)<1%,0,E35/G35-1))),"") | R35: =IF(I35+J35=0,0,I35-J35) -> 0 | S35: =IFERROR(IF(I35/J35-1<=-5,"<-500%",IF(I35/J35-1>5,">500%",IF(ABS(I35/J35-1)<1%,0,I35/J35-1))),"")
C36: Patent renewal and other | L36: =IF(E36+F36=0,0,E36-F36) -> 0 | M36: =IFERROR(IF(E36/F36-1<=-5,"<-500%",IF(E36/F36-1>5,">500%",IF(ABS(E36/F36-1)<1%,0,E36/F36-1))),"") | O36: =IF(E36+G36=0,0,E36-G36) -> 0 | P36: =IFERROR(IF(E36/G36-1<=-5,"<-500%",IF(E36/G36-1>5,">500%",IF(ABS(E36/G36-1)<1%,0,E36/G36-1))),"") | R36: =IF(I36+J36=0,0,I36-J36) -> 0 | S36: =IFERROR(IF(I36/J36-1<=-5,"<-500%",IF(I36/J36-1>5,">500%",IF(ABS(I36/J36-1)<1%,0,I36/J36-1))),"")
C37: Cash in/out from Investing | E37: =SUM(E34:E36) -> -3.7 | F37: =SUM(F34:F36) -> 3.5 | G37: =SUM(G34:G36) -> 1.9 | I37: =SUM(I34:I36) -> -22.8 | J37: =SUM(J34:J36) -> -12.5 | L37: =IF(E37+F37=0,0,E37-F37) -> -7.2 | M37: =IFERROR(IF(E37/F37-1<=-5,"<-500%",IF(E37/F37-1>5,">500%",IF(ABS(E37/F37-1)<1%,0,E37/F37-1))),"") -> -2.0571429 | O37: =IF(E37+G37=0,0,E37-G37) -> -5.6 | P37: =IFERROR(IF(E37/G37-1<=-5,"<-500%",IF(E37/G37-1>5,">500%",IF(ABS(E37/G37-1)<1%,0,E37/G37-1))),"") -> -2.9473684 | R37: =IF(I37+J37=0,0,I37-J37) -> -10.3 | S37: =IFERROR(IF(I37/J37-1<=-5,"<-500%",IF(I37/J37-1>5,">500%",IF(ABS(I37/J37-1)<1%,0,I37/J37-1))),"") -> 0.824
C39: Financing Activities
C40: Net repayments/advances on LoC | E40: -0.8 | F40: -4.9 | G40: 3.6 | I40: 3.1 | J40: 3 | L40: =IF(E40+F40=0,0,E40-F40) -> 4.1 | M40: =IFERROR(IF(E40/F40-1<=-5,"<-500%",IF(E40/F40-1>5,">500%",IF(ABS(E40/F40-1)<1%,0,E40/F40-1))),"") -> -0.83673469 | O40: =IF(E40+G40=0,0,E40-G40) -> -4.4 | P40: =IFERROR(IF(E40/G40-1<=-5,"<-500%",IF(E40/G40-1>5,">500%",IF(ABS(E40/G40-1)<1%,0,E40/G40-1))),"") -> -1.2222222 | R40: =IF(I40+J40=0,0,I40-J40) -> 0.1 | S40: =IFERROR(IF(I40/J40-1<=-5,"<-500%",IF(I40/J40-1>5,">500%",IF(ABS(I40/J40-1)<1%,0,I40/J40-1))),"") -> 0.033333333
C41: =Activity!C30 -> Repayment on borrowings | L41: =IF(E41+F41=0,0,E41-F41) -> 0 | M41: =IFERROR(IF(E41/F41-1<=-5,"<-500%",IF(E41/F41-1>5,">500%",IF(ABS(E41/F41-1)<1%,0,E41/F41-1))),"") | O41: =IF(E41+G41=0,0,E41-G41) -> 0 | P41: =IFERROR(IF(E41/G41-1<=-5,"<-500%",IF(E41/G41-1>5,">500%",IF(ABS(E41/G41-1)<1%,0,E41/G41-1))),"") | R41: =IF(I41+J41=0,0,I41-J41) -> 0 | S41: =IFERROR(IF(I41/J41-1<=-5,"<-500%",IF(I41/J41-1>5,">500%",IF(ABS(I41/J41-1)<1%,0,I41/J41-1))),"")
C42: =Activity!C31 -> Proceeds from debt | L42: =IF(E42+F42=0,0,E42-F42) -> 0 | M42: =IFERROR(IF(E42/F42-1<=-5,"<-500%",IF(E42/F42-1>5,">500%",IF(ABS(E42/F42-1)<1%,0,E42/F42-1))),"") | O42: =IF(E42+G42=0,0,E42-G42) -> 0 | P42: =IFERROR(IF(E42/G42-1<=-5,"<-500%",IF(E42/G42-1>5,">500%",IF(ABS(E42/G42-1)<1%,0,E42/G42-1))),"") | R42: =IF(I42+J42=0,0,I42-J42) -> 0 | S42: =IFERROR(IF(I42/J42-1<=-5,"<-500%",IF(I42/J42-1>5,">500%",IF(ABS(I42/J42-1)<1%,0,I42/J42-1))),"")
C43: =Activity!C32 -> Repayment of capital leases | L43: =IF(E43+F43=0,0,E43-F43) -> 0 | M43: =IFERROR(IF(E43/F43-1<=-5,"<-500%",IF(E43/F43-1>5,">500%",IF(ABS(E43/F43-1)<1%,0,E43/F43-1))),"") | O43: =IF(E43+G43=0,0,E43-G43) -> 0 | P43: =IFERROR(IF(E43/G43-1<=-5,"<-500%",IF(E43/G43-1>5,">500%",IF(ABS(E43/G43-1)<1%,0,E43/G43-1))),"") | R43: =IF(I43+J43=0,0,I43-J43) -> 0 | S43: =IFERROR(IF(I43/J43-1<=-5,"<-500%",IF(I43/J43-1>5,">500%",IF(ABS(I43/J43-1)<1%,0,I43/J43-1))),"")
C44: =Activity!C33 -> Proceeds from sale of equity instruments | L44: =IF(E44+F44=0,0,E44-F44) -> 0 | M44: =IFERROR(IF(E44/F44-1<=-5,"<-500%",IF(E44/F44-1>5,">500%",IF(ABS(E44/F44-1)<1%,0,E44/F44-1))),"") | O44: =IF(E44+G44=0,0,E44-G44) -> 0 | P44: =IFERROR(IF(E44/G44-1<=-5,"<-500%",IF(E44/G44-1>5,">500%",IF(ABS(E44/G44-1)<1%,0,E44/G44-1))),"") | R44: =IF(I44+J44=0,0,I44-J44) -> 0 | S44: =IFERROR(IF(I44/J44-1<=-5,"<-500%",IF(I44/J44-1>5,">500%",IF(ABS(I44/J44-1)<1%,0,I44/J44-1))),"")
...

Sheet Activity
A1: info
C3: Supplemental Cash Activity
C4: In millions except as indicated | E4: Q current | F4: Q ⎯1 | G4: Q prior | I4: YTD current | J4: YTD prior | L4: Q / Q | M4: Q / Q % | O4: Y / Y | P4: Y / Y % | R4: YTD | S4: YTD %
C6: Operating Activity
C7: Adjustments to reconcile net earnings
C8: Stock-based compensation | E8: 2.6 | F8: 3.6 | G8: 5.2 | I8: 8.1 | J8: 8.1 | L8: =IF(E8+F8=0,0,E8-F8) -> -1 | M8: =IFERROR(IF(E8/F8-1<=-5,"<-500%",IF(E8/F8-1>5,">500%",IF(ABS(E8/F8-1)<1%,0,E8/F8-1))),"") -> -0.27777778 | O8: =IF(E8+G8=0,0,E8-G8) -> -2.6 | P8: =IFERROR(IF(E8/G8-1<=-5,"<-500%",IF(E8/G8-1>5,">500%",IF(ABS(E8/G8-1)<1%,0,E8/G8-1))),"") -> -0.5 | R8: =IF(I8+J8=0,0,I8-J8) -> 0 | S8: =IFERROR(IF(I8/J8-1<=-5,"<-500%",IF(I8/J8-1>5,">500%",IF(ABS(I8/J8-1)<1%,0,I8/J8-1))),"") -> 0
C9: Stock and warrants issued for services | L9: =IF(E9+F9=0,0,E9-F9) -> 0 | M9: =IFERROR(IF(E9/F9-1<=-5,"<-500%",IF(E9/F9-1>5,">500%",IF(ABS(E9/F9-1)<1%,0,E9/F9-1))),"") | O9: =IF(E9+G9=0,0,E9-G9) -> 0 | P9: =IFERROR(IF(E9/G9-1<=-5,"<-500%",IF(E9/G9-1>5,">500%",IF(ABS(E9/G9-1)<1%,0,E9/G9-1))),"") | R9: =IF(I9+J9=0,0,I9-J9) -> 0 | S9: =IFERROR(IF(I9/J9-1<=-5,"<-500%",IF(I9/J9-1>5,">500%",IF(ABS(I9/J9-1)<1%,0,I9/J9-1))),"")
C10: Treasury share adjustment | L10: =IF(E10+F10=0,0,E10-F10) -> 0 | M10: =IFERROR(IF(E10/F10-1<=-5,"<-500%",IF(E10/F10-1>5,">500%",IF(ABS(E10/F10-1)<1%,0,E10/F10-1))),"") | O10: =IF(E10+G10=0,0,E10-G10) -> 0 | P10: =IFERROR(IF(E10/G10-1<=-5,"<-500%",IF(E10/G10-1>5,">500%",IF(ABS(E10/G10-1)<1%,0,E10/G10-1))),"") | R10: =IF(I10+J10=0,0,I10-J10) -> 0 | S10: =IFERROR(IF(I10/J10-1<=-5,"<-500%",IF(I10/J10-1>5,">500%",IF(ABS(I10/J10-1)<1%,0,I10/J10-1))),"")
C11: Gain/loss on sale of data storage assets | L11: =IF(E11+F11=0,0,E11-F11) -> 0 | M11: =IFERROR(IF(E11/F11-1<=-5,"<-500%",IF(E11/F11-1>5,">500%",IF(ABS(E11/F11-1)<1%,0,E11/F11-1))),"") | O11: =IF(E11+G11=0,0,E11-G11) -> 0 | P11: =IFERROR(IF(E11/G11-1<=-5,"<-500%",IF(E11/G11-1>5,">500%",IF(ABS(E11/G11-1)<1%,0,E11/G11-1))),"") | R11: =IF(I11+J11=0,0,I11-J11) -> 0 | S11: =IFERROR(IF(I11/J11-1<=-5,"<-500%",IF(I11/J11-1>5,">500%",IF(ABS(I11/J11-1)<1%,0,I11/J11-1))),"")
C12: Impairment charge | L12: =IF(E12+F12=0,0,E12-F12) -> 0 | M12: =IFERROR(IF(E12/F12-1<=-5,"<-500%",IF(E12/F12-1>5,">500%",IF(ABS(E12/F12-1)<1%,0,E12/F12-1))),"") | O12: =IF(E12+G12=0,0,E12-G12) -> 0 | P12: =IFERROR(IF(E12/G12-1<=-5,"<-500%",IF(E12/G12-1>5,">500%",IF(ABS(E12/G12-1)<1%,0,E12/G12-1))),"") | R12: =IF(I12+J12=0,0,I12-J12) -> 0 | S12: =IFERROR(IF(I12/J12-1<=-5,"<-500%",IF(I12/J12-1>5,">500%",IF(ABS(I12/J12-1)<1%,0,I12/J12-1))),"")
C13: Notes payable/receivable write-off | L13: =IF(E13+F13=0,0,E13-F13) -> 0 | M13: =IFERROR(IF(E13/F13-1<=-5,"<-500%",IF(E13/F13-1>5,">500%",IF(ABS(E13/F13-1)<1%,0,E13/F13-1))),"") | O13: =IF(E13+G13=0,0,E13-G13) -> 0 | P13: =IFERROR(IF(E13/G13-1<=-5,"<-500%",IF(E13/G13-1>5,">500%",IF(ABS(E13/G13-1)<1%,0,E13/G13-1))),"") | R13: =IF(I13+J13=0,0,I13-J13) -> 0 | S13: =IFERROR(IF(I13/J13-1<=-5,"<-500%",IF(I13/J13-1>5,">500%",IF(ABS(I13/J13-1)<1%,0,I13/J13-1))),"")
C14: Interest converted to equity | L14: =IF(E14+F14=0,0,E14-F14) -> 0 | M14: =IFERROR(IF(E14/F14-1<=-5,"<-500%",IF(E14/F14-1>5,">500%",IF(ABS(E14/F14-1)<1%,0,E14/F14-1))),"") | O14: =IF(E14+G14=0,0,E14-G14) -> 0 | P14: =IFERROR(IF(E14/G14-1<=-5,"<-500%",IF(E14/G14-1>5,">500%",IF(ABS(E14/G14-1)<1%,0,E14/G14-1))),"") | R14: =IF(I14+J14=0,0,I14-J14) -> 0 | S14: =IFERROR(IF(I14/J14-1<=-5,"<-500%",IF(I14/J14-1>5,">500%",IF(ABS(I14/J14-1)<1%,0,I14/J14-1))),"")
C15: Fees and interest paid with debt | L15: =IF(E15+F15=0,0,E15-F15) -> 0 | M15: =IFERROR(IF(E15/F15-1<=-5,"<-500%",IF(E15/F15-1>5,">500%",IF(ABS(E15/F15-1)<1%,0,E15/F15-1))),"") | O15: =IF(E15+G15=0,0,E15-G15) -> 0 | P15: =IFERROR(IF(E15/G15-1<=-5,"<-500%",IF(E15/G15-1>5,">500%",IF(ABS(E15/G15-1)<1%,0,E15/G15-1))),"") | R15: =IF(I15+J15=0,0,I15-J15) -> 0 | S15: =IFERROR(IF(I15/J15-1<=-5,"<-500%",IF(I15/J15-1>5,">500%",IF(ABS(I15/J15-1)<1%,0,I15/J15-1))),"")
C16: Changes in operating assets and liabilities:
C17: Costs > billings on uncompleted contracts | E17: 7.8 | F17: 4.7 | G17: 7.3 | I17: 4.5 | J17: 4.5 | L17: =IF(E17+F17=0,0,E17-F17) -> 3.1 | M17: =IFERROR(IF(E17/F17-1<=-5,"<-500%",IF(E17/F17-1>5,">500%",IF(ABS(E17/F17-1)<1%,0,E17/F17-1))),"") -> 0.65957447 | O17: =IF(E17+G17=0,0,E17-G17) -> 0.5 | P17: =IFERROR(IF(E17/G17-1<=-5,"<-500%",IF(E17/G17-1>5,">500%",IF(ABS(E17/G17-1)<1%,0,E17/G17-1))),"") -> 0.068493151 | R17: =IF(I17+J17=0,0,I17-J17) -> 0 | S17: =IFERROR(IF(I17/J17-1<=-5,"<-500%",IF(I17/J17-1>5,">500%",IF(ABS(I17/J17-1)<1%,0,I17/J17-1))),"") -> 0
C18: Deferred revenue | L18: =IF(E18+F18=0,0,E18-F18) -> 0 | M18: =IFERROR(IF(E18/F18-1<=-5,"<-500%",IF(E18/F18-1>5,">500%",IF(ABS(E18/F18-1)<1%,0,E18/F18-1))),"") | O18: =IF(E18+G18=0,0,E18-G18) -> 0 | P18: =IFERROR(IF(E18/G18-1<=-5,"<-500%",IF(E18/G18-1>5,">500%",IF(ABS(E18/G18-1)<1%,0,E18/G18-1))),"") | R18: =IF(I18+J18=0,0,I18-J18) -> 0 | S18: =IFERROR(IF(I18/J18-1<=-5,"<-500%",IF(I18/J18-1>5,">500%",IF(ABS(I18/J18-1)<1%,0,I18/J18-1))),"")
C19: Billings > costs on uncompleted contracts | L19: =IF(E19+F19=0,0,E19-F19) -> 0 | M19: =IFERROR(IF(E19/F19-1<=-5,"<-500%",IF(E19/F19-1>5,">500%",IF(ABS(E19/F19-1)<1%,0,E19/F19-1))),"") | O19: =IF(E19+G19=0,0,E19-G19) -> 0 | P19: =IFERROR(IF(E19/G19-1<=-5,"<-500%",IF(E19/G19-1>5,">500%",IF(ABS(E19/G19-1)<1%,0,E19/G19-1))),"") | R19: =IF(I19+J19=0,0,I19-J19) -> 0 | S19: =IFERROR(IF(I19/J19-1<=-5,"<-500%",IF(I19/J19-1>5,">500%",IF(ABS(I19/J19-1)<1%,0,I19/J19-1))),"")
C20: Customer advances | L20: =IF(E20+F20=0,0,E20-F20) -> 0 | M20: =IFERROR(IF(E20/F20-1<=-5,"<-500%",IF(E20/F20-1>5,">500%",IF(ABS(E20/F20-1)<1%,0,E20/F20-1))),"") | O20: =IF(E20+G20=0,0,E20-G20) -> 0 | P20: =IFERROR(IF(E20/G20-1<=-5,"<-500%",IF(E20/G20-1>5,">500%",IF(ABS(E20/G20-1)<1%,0,E20/G20-1))),"") | R20: =IF(I20+J20=0,0,I20-J20) -> 0 | S20: =IFERROR(IF(I20/J20-1<=-5,"<-500%",IF(I20/J20-1>5,">500%",IF(ABS(I20/J20-1)<1%,0,I20/J20-1))),"")
C21: Supplemental Operating Activity | E21: =SUM(E8:E20) -> 10.4 | F21: =SUM(F8:F20) -> 8.3 | G21: =SUM(G8:G20) -> 12.5 | I21: =SUM(I8:I20) -> 12.6 | J21: =SUM(J8:J20) -> 12.6 | L21: =IF(E21+F21=0,0,E21-F21) -> 2.1 | M21: =IFERROR(IF(E21/F21-1<=-5,"<-500%",IF(E21/F21-1>5,">500%",IF(ABS(E21/F21-1)<1%,0,E21/F21-1))),"") -> 0.25301205 | O21: =IF(E21+G21=0,0,E21-G21) -> -2.1 | P21: =IFERROR(IF(E21/G21-1<=-5,"<-500%",IF(E21/G21-1>5,">500%",IF(ABS(E21/G21-1)<1%,0,E21/G21-1))),"") -> -0.168 | R21: =IF(I21+J21=0,0,I21-J21) -> 0 | S21: =IFERROR(IF(I21/J21-1<=-5,"<-500%",IF(I21/J21-1>5,">500%",IF(ABS(I21/J21-1)<1%,0,I21/J21-1))),"") -> 0
C23: Investing Activity
C24: Cash from sale of data storage assets | E24: 6.7 | F24: 6 | G24: 2 | I24: 4.7 | J24: 0.3 | L24: =IF(E24+F24=0,0,E24-F24) -> 0.7 | M24: =IFERROR(IF(E24/F24-1<=-5,"<-500%",IF(E24/F24-1>5,">500%",IF(ABS(E24/F24-1)<1%,0,E24/F24-1))),"") -> 0.11666667 | O24: =IF(E24+G24=0,0,E24-G24) -> 4.7 | P24: =IFERROR(IF(E24/G24-1<=-5,"<-500%",IF(E24/G24-1>5,">500%",IF(ABS(E24/G24-1)<1%,0,E24/G24-1))),"") -> 2.35 | R24: =IF(I24+J24=0,0,I24-J24) -> 4.4 | S24: =IFERROR(IF(I24/J24-1<=-5,"<-500%",IF(I24/J24-1>5,">500%",IF(ABS(I24/J24-1)<1%,0,I24/J24-1))),"") -> >500%
C25: Patent renewal and other | L25: =IF(E25+F25=0,0,E25-F25) -> 0 | M25: =IFERROR(IF(E25/F25-1<=-5,"<-500%",IF(E25/F25-1>5,">500%",IF(ABS(E25/F25-1)<1%,0,E25/F25-1))),"") | O25: =IF(E25+G25=0,0,E25-G25) -> 0 | P25: =IFERROR(IF(E25/G25-1<=-5,"<-500%",IF(E25/G25-1>5,">500%",IF(ABS(E25/G25-1)<1%,0,E25/G25-1))),"") | R25: =IF(I25+J25=0,0,I25-J25) -> 0 | S25: =IFERROR(IF(I25/J25-1<=-5,"<-500%",IF(I25/J25-1>5,">500%",IF(ABS(I25/J25-1)<1%,0,I25/J25-1))),"")
C26: Supplemental Investing Activity | E26: =SUM(E24:E25) -> 6.7 | F26: =SUM(F24:F25) -> 6 | G26: =SUM(G24:G25) -> 2 | I26: =SUM(I24:I25) -> 4.7 | J26: =SUM(J24:J25) -> 0.3 | L26: =IF(E26+F26=0,0,E26-F26) -> 0.7 | M26: =IFERROR(IF(E26/F26-1<=-5,"<-500%",IF(E26/F26-1>5,">500%",IF(ABS(E26/F26-1)<1%,0,E26/F26-1))),"") -> 0.11666667 | O26: =IF(E26+G26=0,0,E26-G26) -> 4.7 | P26: =IFERROR(IF(E26/G26-1<=-5,"<-500%",IF(E26/G26-1>5,">500%",IF(ABS(E26/G26-1)<1%,0,E26/G26-1))),"") -> 2.35 | R26: =IF(I26+J26=0,0,I26-J26) -> 4.4 | S26: =IFERROR(IF(I26/J26-1<=-5,"<-500%",IF(I26/J26-1>5,">500%",IF(ABS(I26/J26-1)<1%,0,I26/J26-1))),"") -> >500%
C28: Financing Activity
C29: Net repayments/advances on line of credit | E29: 4 | F29: 4.8 | G29: 9.7 | I29: 6.1 | J29: 3 | L29: =IF(E29+F29=0,0,E29-F29) -> -0.8 | M29: =IFERROR(IF(E29/F29-1<=-5,"<-500%",IF(E29/F29-1>5,">500%",IF(ABS(E29/F29-1)<1%,0,E29/F29-1))),"") -> -0.16666667 | O29: =IF(E29+G29=0,0,E29-G29) -> -5.7 | P29: =IFERROR(IF(E29/G29-1<=-5,"<-500%",IF(E29/G29-1>5,">500%",IF(ABS(E29/G29-1)<1%,0,E29/G29-1))),"") -> -0.58762887 | R29: =IF(I29+J29=0,0,I29-J29) -> 3.1 | S29: =IFERROR(IF(I29/J29-1<=-5,"<-500%",IF(I29/J29-1>5,">500%",IF(ABS(I29/J29-1)<1%,0,I29/J29-1))),"") -> 1.0333333
C30: Repayment on borrowings | L30: =IF(E30+F30=0,0,E30-F30) -> 0 | M30: =IFERROR(IF(E30/F30-1<=-5,"<-500%",IF(E30/F30-1>5,">500%",IF(ABS(E30/F30-1)<1%,0,E30/F30-1))),"") | O30: =IF(E30+G30=0,0,E30-G30) -> 0 | P30: =IFERROR(IF(E30/G30-1<=-5,"<-500%",IF(E30/G30-1>5,">500%",IF(ABS(E30/G30-1)<1%,0,E30/G30-1))),"") | R30: =IF(I30+J30=0,0,I30-J30) -> 0 | S30: =IFERROR(IF(I30/J30-1<=-5,"<-500%",IF(I30/J30-1>5,">500%",IF(ABS(I30/J30-1)<1%,0,I30/J30-1))),"")
