Workbook
Name CapexAmount: Drivers!$M$7:$M$67
Name CapexCategory: Drivers!$K$7:$K$67
Name CapexDepMonths: Drivers!$P$7:$P$67
Name CapexItem: Drivers!$J$7:$J$67
Name CapexMonth: Drivers!$L$7:$L$67
Name CapexSalvage: Drivers!$O$7:$O$67
Name CapExSalvageMonth: Drivers!$N$7:$N$67
Name CapitalCommon: Drivers!$H$7:$H$67
Name CapitalCommonStart: Drivers!$H$7
Name CapitalDebtMonth: Drivers!$C$7:$C$67
Name CapitalDividends: Drivers!$I$7:$I$67
Name CapitalEquityMonth: Drivers!$F$7:$F$67
Name CapitalLong: Drivers!$E$7:$E$67
Name CapitalLongStart: Drivers!$E$7
Name CapitalPreferred: Drivers!$G$7:$G$67
Name CapitalPreferredStart: Drivers!$G$7
Name CapitalShort: Drivers!$D$7:$D$67
Name CapitalShortStart: Drivers!$D$7
Name CompBonus: Drivers!$AD$7:$AD$67
Name CompFTE: Drivers!$AB$7:$AB$67
Name CompGrowth: Drivers!$AO$19
Name CompLoad: Drivers!$AO$20
Name CompSalary: Drivers!$AC$7:$AC$67
Name CompStartMonth: Drivers!$AA$7:$AA$67
Name CompTotal: Drivers!$AE$7:$AE$67
Name DepExp: Drivers!$S$7:$S$67
Name DepMos: Drivers!$R$7:$R$67
Name DepStop: Drivers!$Q$7:$Q$67
Name LoanCohortMonth: Drivers!$AJ$7:$AJ$67
Name LoanCohortRate: Drivers!$AK$7:$AK$67
Name LoanCostCommission: Drivers!$AM$17
Name LoanCostProcessing: Drivers!$AM$18
Name LoanCostReferral: Drivers!$AM$16
Name LoanGrowth: Drivers!$AM$10
Name LoanOriginations: Loans!$K$5:$BR$5
Name LoanQuantity: Drivers!$AM$9
Name LoanRateMonth: Drivers!$AF$7:$AF$67
Name LoanRates: Drivers!$AI$7:$AI$67
Name LoanRevApplication: Drivers!$AM$12
Name LoanRevDelinquency: Drivers!$AO$15
Name LoanRevOrigination: Drivers!$AM$13
Name LoanRevServicing: Drivers!$AM$14
Name LoanSaleHeld: Drivers!$AM$21
Name LoanSalePercent: Drivers!$AM$20
Name LoanSalePremium: Drivers!$AM$22
Name LoanSize: Drivers!$AM$7
Name LoanTerm: Drivers!$AM$8
Name MitigateChargeoff: Drivers!$AO$16
Name MitigateDelinquency: Drivers!$AO$14
Name MitigateReserves: Drivers!$AO$17
Name OtherMinCash: Drivers!$AO$22
Name OtherTaxes: Drivers!$AO$21
Name OverheadAmount: Drivers!$X$7:$X$67
Name OverheadGrowth: Drivers!$Y$7:$Y$67
Name RateCommon: Drivers!$AO$10
Name RateCredit: Drivers!$AO$11
Name RateLong: Drivers!$AO$8
Name RatePreferred: Drivers!$AO$9
Name RateShort: Drivers!$AO$7
Name SalGain: Drivers!$V$7:$V$67

Sheet ℹ️ 
A1: info
C4: Loans | D4: Credit Facility | E4: Capital Expense | F4: Profit & Loss | G4: Balance Sheet | H4: Cash Flow
C5: Originations | D5: Starting cash | E5: Categories | F5: Fee revenue | G5: Cash | H5: Cash fr. operations
C6: Sales | D6: Collections | E6: Expenditures | F6: Interest income | G6: Loans Receivable | H6: Cash fr. investing
C7: Interest | D7: Disbursements | E7: Depreciation | F7: Loan sales | G7: Net fixed assets | H7: Cash fr. financing
C8: Principal | D8: Cash In/out | E8: Accum. Deprec. | F8: Cost of sales | G8: Short-term debt | H8: Free cash flow
C9: Amortization | D9: Borrow/repay | E9: Balance | F9: Operating exp. | G9: Credit facility | H9: WACC
C10: Chargeoffs | D10: Ending cash | E10: Salvage proceeds | F10: Net earnings | G10: Long-term debt | H10: Terminal value
C11: Outstanding | D11: Ending balance | E11: Salvage gain/loss | F11: Dividends | G11: Equity | H11: Equity value

Sheet Drivers
B2: Info
C3: Drivers
C4: Capitalization | J4: Capital Expenditures | W4: Overhead | Z4: Payroll | AF4: Rates | AL4: Loans | AN4: Other | AQ4: 5-year Summary
D5: Debt | F5: Equity | L5: Purchase | N5: Salvage | P5: Deprc | Q5: Dep | T5: Sal | AR5: Year 1 | AS5: Year 2 | AT5: Year 3 | AU5: Year 4 | AV5: Year 5
C6: m | D6: S/T | E6: L/T | F6: m | G6: Pref | H6: Com | I6: Divs | J6: Expense | K6: Catgry | L6: m | M6: amt | N6: m | O6: amt | P6: # m | Q6: Stop | R6: Mos | S6: Exp | T6: Off | U6: NAV | V6: Gain | W6: Expense | X6: y1 | Y6: y/y | Z6: Title / Level | AA6: m | AB6: FTE | AC6: Base | AD6: Bonus | AE6: Comp | AF6: m | AG6: Prime | AH6: Spread | AI6: RateLend | AJ6: OrigMo | AK6: MoRate | AL6: Originations | AN6: Cost of capital | AQ6: Loans
C7: 0 | D7: 10 | E7: 100 | F7: 0 | G7: 100 | H7: 50 | I7: 0 | J7: Improvements | K7: Facility | L7: 4 | M7: 250 | N7: 20 | O7: 175 | P7: 27 | Q7: =IF(P7=0,0,MIN(P7+L7-1,N7)) -> 20 | R7: =IF(Q7=0,0,Q7-L7+1) -> 17 | S7: =IF(R7=0,0,M7/P7) -> 9.2592593 | T7: =IF( AND(P7=0,N7=0),61, IF( P7=0, N7, MIN(P7+L7-1,N7))) -> 20 | U7: =M7-(R7*S7) -> 92.592593 | V7: =O7-(M7-R7* S7) -> 82.407407 | W7: General & Admin | X7: 150 | Y7: 0.02 | Z7: CEO | AA7: 1 | AB7: 1 | AC7: 120 | AD7: 0.2 | AE7: =AB7*AC7/12*(1+AD7)*(1+CompLoad) -> 15.36 | AF7: 1 | AG7: 0.02 | AH7: 0.16 | AI7: =SUM(AG7:AH7) -> 0.18 | AJ7: 1 | AK7: =VLOOKUP(AJ7,$AF$7:$AI$67,4)/12 -> 0.015 | AL7: Avg size | AM7: 25 | AN7: S/T debt | AO7: 0.06 | AQ7: # Orig | AR7: =Loans!E5 -> 1233.5562 | AS7: =Loans!F5 -> 1309.6393 | AT7: =Loans!G5 -> 1390.415 | AU7: =Loans!H5 -> 1476.1727 | AV7: =Loans!I5 -> 1567.2198
C8: 6 | D8: 25 | F8: 6 | G8: 10 | I8: 50 | J8: Systems | K8: Equip | L8: 1 | M8: 40 | N8: 55 | O8: 15 | P8: 10 | Q8: =IF(P8=0,0,MIN(P8+L8-1,N8)) -> 10 | R8: =IF(Q8=0,0,Q8-L8+1) -> 10 | S8: =IF(R8=0,0,M8/P8) -> 4 | T8: =IF( AND(P8=0,N8=0),61, IF( P8=0, N8, MIN(P8+L8-1,N8))) -> 10 | U8: =M8-(R8*S8) -> 0 | V8: =O8-(M8-R8* S8) -> 15 | W8: Sales & Marketing | X8: 350 | Y8: 0.015 | Z8: CFO | AA8: 1 | AB8: 1 | AC8: 110 | AD8: 0.2 | AE8: =AB8*AC8/12*(1+AD8)*(1+CompLoad) -> 14.08 | AF8: 2 | AG8: 0.03 | AH8: 0.165 | AI8: =SUM(AG8:AH8) -> 0.195 | AJ8: 2 | AK8: =VLOOKUP(AJ8,$AF$7:$AI$67,4)/12 -> 0.01625 | AL8: Avg term | AM8: 18 | AN8: L/T debt | AO8: 0.07 | AQ8: # Sold | AR8: =Loans!E6 -> 366.18388 | AS8: =Loans!F6 -> 514.52913 | AT8: =Loans!G6 -> 546.26416 | AU8: =Loans!H6 -> 579.95654 | AV8: =Loans!I6 -> 615.72699
C9: 9 | D9: 25 | F9: 18 | I9: 100 | J9: Furniture | K9: Fixture | L9: 8 | M9: 50 | N9: 33 | P9: 3 | Q9: =IF(P9=0,0,MIN(P9+L9-1,N9)) -> 10 | R9: =IF(Q9=0,0,Q9-L9+1) -> 3 | S9: =IF(R9=0,0,M9/P9) -> 16.666667 | T9: =IF( AND(P9=0,N9=0),61, IF( P9=0, N9, MIN(P9+L9-1,N9))) -> 10 | U9: =M9-(R9*S9) -> 0 | V9: =O9-(M9-R9* S9) -> 0 | W9: Tech & Systems | X9: 100 | Y9: 0.02 | Z9: COO | AA9: 1 | AB9: 1 | AC9: 95 | AD9: 0.2 | AE9: =AB9*AC9/12*(1+AD9)*(1+CompLoad) -> 12.16 | AF9: 10 | AG9: 0.035 | AH9: 0.15 | AI9: =SUM(AG9:AH9) -> 0.185 | AJ9: 3 | AK9: =VLOOKUP(AJ9,$AF$7:$AI$67,4)/12 -> 0.01625 | AL9: # Loans/m | AM9: 100 | AN9: Preferred | AO9: 0.12 | AQ9: Recvables | AR9: =Loans!E25 -> 14458.59 | AS9: =Loans!F25 -> 16365.492 | AT9: =Loans!G25 -> 16130.832 | AU9: =Loans!H25 -> 16369.232 | AV9: =Loans!I25 -> 16355.537
J10: Trademark | K10: Intang | L10: 6 | M10: 100 | N10: 12 | O10: 18 | P10: 14 | Q10: =IF(P10=0,0,MIN(P10+L10-1,N10)) -> 12 | R10: =IF(Q10=0,0,Q10-L10+1) -> 7 | S10: =IF(R10=0,0,M10/P10) -> 7.1428571 | T10: =IF( AND(P10=0,N10=0),61, IF( P10=0, N10, MIN(P10+L10-1,N10))) -> 12 | U10: =M10-(R10*S10) -> 50 | V10: =O10-(M10-R10* S10) -> -32 | Z10: Finance/1 | AA10: 1 | AB10: 1 | AC10: 75 | AD10: 0.15 | AE10: =AB10*AC10/12*(1+AD10)*(1+CompLoad) -> 9.2 | AF10: 16 | AG10: 0.03 | AH10: 0.155 | AI10: =SUM(AG10:AH10) -> 0.185 | AJ10: 4 | AK10: =VLOOKUP(AJ10,$AF$7:$AI$67,4)/12 -> 0.01625 | AL10: Increase/mo | AM10: 0.005 | AN10: Common | AO10: 0.15 | AQ10: Credit line
J11: Land | K11: Land | Q11: =IF(P11=0,0,MIN(P11+L11-1,N11)) -> 0 | R11: =IF(Q11=0,0,Q11-L11+1) -> 0 | S11: =IF(R11=0,0,M11/P11) -> 0 | T11: =IF( AND(P11=0,N11=0),61, IF( P11=0, N11, MIN(P11+L11-1,N11))) -> 61 | U11: =M11-(R11*S11) -> 0 | V11: =O11-(M11-R11* S11) -> 0 | Z11: Finance/2 | AA11: 15 | AB11: 2 | AC11: 65 | AD11: 0.15 | AE11: =AB11*AC11/12*(1+AD11)*(1+CompLoad) -> 15.946667 | AI11: =SUM(AG11:AH11) -> 0 | AJ11: 5 | AK11: =VLOOKUP(AJ11,$AF$7:$AI$67,4)/12 -> 0.01625 | AL11: Proceeds | AN11: Credit line | AO11: 0.065 | AQ11: Borrow | AR11: =Credit!E44 -> 15070.944 | AS11: =Credit!F44 -> 1434.8174 | AT11: =Credit!G44 -> -608.53818 | AU11: =Credit!H44 -> -413.181 | AV11: =Credit!I44 -> -867.63463
J12: Unknown | L12: 18 | M12: 10 | N12: 40 | O12: 5 | P12: 3 | Q12: =IF(P12=0,0,MIN(P12+L12-1,N12)) -> 20 | R12: =IF(Q12=0,0,Q12-L12+1) -> 3 | S12: =IF(R12=0,0,M12/P12) -> 3.3333333 | T12: =IF( AND(P12=0,N12=0),61, IF( P12=0, N12, MIN(P12+L12-1,N12))) -> 20 | U12: =M12-(R12*S12) -> 0 | V12: =O12-(M12-R12* S12) -> 5 | Z12: Operations/1 | AA12: 2 | AB12: 1 | AC12: 75 | AD12: 0.15 | AE12: =AB12*AC12/12*(1+AD12)*(1+CompLoad) -> 9.2 | AI12: =SUM(AG12:AH12) -> 0 | AJ12: 6 | AK12: =VLOOKUP(AJ12,$AF$7:$AI$67,4)/12 -> 0.01625 | AL12: Appllicat'n $ | AM12: 150 | AN12: Terminal % | AO12: 0.02 | AQ12: Balance | AR12: =Credit!E46 -> 15070.944 | AS12: =Credit!F46 -> 16505.762 | AT12: =Credit!G46 -> 15897.223 | AU12: =Credit!H46 -> 15484.042 | AV12: =Credit!I46 -> 14616.408
Q13: =IF(P13=0,0,MIN(P13+L13-1,N13)) -> 0 | R13: =IF(Q13=0,0,Q13-L13+1) -> 0 | S13: =IF(R13=0,0,M13/P13) -> 0 | T13: =IF( AND(P13=0,N13=0),61, IF( P13=0, N13, MIN(P13+L13-1,N13))) -> 61 | U13: =M13-(R13*S13) -> 0 | V13: =O13-(M13-R13* S13) -> 0 | Z13: Operations/2 | AA13: 13 | AB13: 1 | AC13: 60 | AD13: 0.15 | AE13: =AB13*AC13/12*(1+AD13)*(1+CompLoad) -> 7.36 | AI13: =SUM(AG13:AH13) -> 0 | AJ13: 7 | AK13: =VLOOKUP(AJ13,$AF$7:$AI$67,4)/12 -> 0.01625 | AL13: Origination | AM13: 0.011 | AN13: Miitigation | AQ13: CapEx
Q14: =IF(P14=0,0,MIN(P14+L14-1,N14)) -> 0 | R14: =IF(Q14=0,0,Q14-L14+1) -> 0 | S14: =IF(R14=0,0,M14/P14) -> 0 | T14: =IF( AND(P14=0,N14=0),61, IF( P14=0, N14, MIN(P14+L14-1,N14))) -> 61 | U14: =M14-(R14*S14) -> 0 | V14: =O14-(M14-R14* S14) -> 0 | Z14: Marketing/1 | AA14: 3 | AB14: 1 | AC14: 65 | AD14: 0.15 | AE14: =AB14*AC14/12*(1+AD14)*(1+CompLoad) -> 7.9733333 | AI14: =SUM(AG14:AH14) -> 0 | AJ14: 8 | AK14: =VLOOKUP(AJ14,$AF$7:$AI$67,4)/12 -> 0.01625 | AL14: Servicing/yr | AM14: 0.02 | AN14: Delinquncy | AO14: 0.01 | AQ14: Expense | AR14: =CapEx!E11 -> 440 | AS14: =CapEx!F11 -> 10 | AT14: =CapEx!G11 -> 0 | AU14: =CapEx!H11 -> 0 | AV14: =CapEx!I11 -> 0
Q15: =IF(P15=0,0,MIN(P15+L15-1,N15)) -> 0 | R15: =IF(Q15=0,0,Q15-L15+1) -> 0 | S15: =IF(R15=0,0,M15/P15) -> 0 | T15: =IF( AND(P15=0,N15=0),61, IF( P15=0, N15, MIN(P15+L15-1,N15))) -> 61 | U15: =M15-(R15*S15) -> 0 | V15: =O15-(M15-R15* S15) -> 0 | Z15: Marketing/2 | AA15: 7 | AB15: 1 | AC15: 60 | AD15: 0.15 | AE15: =AB15*AC15/12*(1+AD15)*(1+CompLoad) -> 7.36 | AI15: =SUM(AG15:AH15) -> 0 | AJ15: 9 | AK15: =VLOOKUP(AJ15,$AF$7:$AI$67,4)/12 -> 0.01625 | AL15: Costs | AN15: Delinq $ | AO15: 35 | AQ15: Salvage | AR15: =CapEx!E41 -> 18 | AS15: =CapEx!F41 -> 175 | AT15: =CapEx!G41 -> 0 | AU15: =CapEx!H41 -> 5 | AV15: =CapEx!I41 -> 15
Q16: =IF(P16=0,0,MIN(P16+L16-1,N16)) -> 0 | R16: =IF(Q16=0,0,Q16-L16+1) -> 0 | S16: =IF(R16=0,0,M16/P16) -> 0 | T16: =IF( AND(P16=0,N16=0),61, IF( P16=0, N16, MIN(P16+L16-1,N16))) -> 61 | U16: =M16-(R16*S16) -> 0 | V16: =O16-(M16-R16* S16) -> 0 | Z16: Tech/1 | AA16: 1 | AB16: 2 | AC16: 80 | AD16: 0.15 | AE16: =AB16*AC16/12*(1+AD16)*(1+CompLoad) -> 19.626667 | AI16: =SUM(AG16:AH16) -> 0 | AJ16: 10 | AK16: =VLOOKUP(AJ16,$AF$7:$AI$67,4)/12 -> 0.015416667 | AL16: Referral $ | AM16: 125 | AN16: Charge-off | AO16: 0.1 | AQ16: Income
Q17: =IF(P17=0,0,MIN(P17+L17-1,N17)) -> 0 | R17: =IF(Q17=0,0,Q17-L17+1) -> 0 | S17: =IF(R17=0,0,M17/P17) -> 0 | T17: =IF( AND(P17=0,N17=0),61, IF( P17=0, N17, MIN(P17+L17-1,N17))) -> 61 | U17: =M17-(R17*S17) -> 0 | V17: =O17-(M17-R17* S17) -> 0 | Z17: Tech/2 | AA17: 15 | AB17: 1 | AC17: 70 | AD17: 0.15 | AE17: =AB17*AC17/12*(1+AD17)*(1+CompLoad) -> 8.5866667 | AI17: =SUM(AG17:AH17) -> 0 | AJ17: 11 | AK17: =VLOOKUP(AJ17,$AF$7:$AI$67,4)/12 -> 0.015416667 | AL17: Commission | AM17: 0.01 | AN17: Loss resrve | AO17: 0.05 | AQ17: Revenue | AR17: =Income!E14 -> 2571.0347 | AS17: =Income!F14 -> 3818.8744 | AT17: =Income!G14 -> 3823.8521 | AU17: =Income!H14 -> 4385.1613 | AV17: =Income!I14 -> 4783.2031
Q18: =IF(P18=0,0,MIN(P18+L18-1,N18)) -> 0 | R18: =IF(Q18=0,0,Q18-L18+1) -> 0 | S18: =IF(R18=0,0,M18/P18) -> 0 | T18: =IF( AND(P18=0,N18=0),61, IF( P18=0, N18, MIN(P18+L18-1,N18))) -> 61 | U18: =M18-(R18*S18) -> 0 | V18: =O18-(M18-R18* S18) -> 0 | Z18: Tech/2 | AA18: 18 | AB18: 1 | AC18: 70 | AD18: 0.15 | AE18: =AB18*AC18/12*(1+AD18)*(1+CompLoad) -> 8.5866667 | AI18: =SUM(AG18:AH18) -> 0 | AJ18: 12 | AK18: =VLOOKUP(AJ18,$AF$7:$AI$67,4)/12 -> 0.015416667 | AL18: Processing $ | AM18: 100 | AN18: Other | AQ18: COGS | AR18: =Income!E20 -> 1346.9176 | AS18: =Income!F20 -> 722.44194 | AT18: =Income!G20 -> 648.09659 | AU18: =Income!H20 -> 713.72941 | AV18: =Income!I20 -> 743.70864
Q19: =IF(P19=0,0,MIN(P19+L19-1,N19)) -> 0 | R19: =IF(Q19=0,0,Q19-L19+1) -> 0 | S19: =IF(R19=0,0,M19/P19) -> 0 | T19: =IF( AND(P19=0,N19=0),61, IF( P19=0, N19, MIN(P19+L19-1,N19))) -> 61 | U19: =M19-(R19*S19) -> 0 | V19: =O19-(M19-R19* S19) -> 0 | AE19: =AB19*AC19/12*(1+AD19)*(1+CompLoad) -> 0 | AI19: =SUM(AG19:AH19) -> 0 | AJ19: 13 | AK19: =VLOOKUP(AJ19,$AF$7:$AI$67,4)/12 -> 0.015416667 | AL19: Sales | AN19: Salary incr | AO19: 0.015 | AQ19: OpEx | AR19: =SUM(Income!E21:E22) -> 1681.9912 | AS19: =SUM(Income!F21:F22) -> 2174.77 | AT19: =SUM(Income!G21:G22) -> 2302.0506 | AU19: =SUM(Income!H21:H22) -> 2338.1426 | AV19: =SUM(Income!I21:I22) -> 2374.8025
Q20: =IF(P20=0,0,MIN(P20+L20-1,N20)) -> 0 | R20: =IF(Q20=0,0,Q20-L20+1) -> 0 | S20: =IF(R20=0,0,M20/P20) -> 0 | T20: =IF( AND(P20=0,N20=0),61, IF( P20=0, N20, MIN(P20+L20-1,N20))) -> 61 | U20: =M20-(R20*S20) -> 0 | V20: =O20-(M20-R20* S20) -> 0 | AE20: =AB20*AC20/12*(1+AD20)*(1+CompLoad) -> 0 | AI20: =SUM(AG20:AH20) -> 0 | AJ20: 14 | AK20: =VLOOKUP(AJ20,$AF$7:$AI$67,4)/12 -> 0.015416667 | AL20: Loans sold | AM20: 0.4 | AN20: Salary load | AO20: 0.28 | AQ20: Earnings | AR20: =Income!E30 -> -515.68804 | AS20: =Income!F30 -> 405.4183 | AT20: =Income!G30 -> 373.8783 | AU20: =Income!H30 -> 651.58088 | AV20: =Income!I30 -> 853.93982
Q21: =IF(P21=0,0,MIN(P21+L21-1,N21)) -> 0 | R21: =IF(Q21=0,0,Q21-L21+1) -> 0 | S21: =IF(R21=0,0,M21/P21) -> 0 | T21: =IF( AND(P21=0,N21=0),61, IF( P21=0, N21, MIN(P21+L21-1,N21))) -> 61 | U21: =M21-(R21*S21) -> 0 | V21: =O21-(M21-R21* S21) -> 0 | AE21: =AB21*AC21/12*(1+AD21)*(1+CompLoad) -> 0 | AI21: =SUM(AG21:AH21) -> 0 | AJ21: 15 | AK21: =VLOOKUP(AJ21,$AF$7:$AI$67,4)/12 -> 0.015416667 | AL21: Months held | AM21: 3 | AN21: Income tax | AO21: 0.4 | AQ21: Balance
Q22: =IF(P22=0,0,MIN(P22+L22-1,N22)) -> 0 | R22: =IF(Q22=0,0,Q22-L22+1) -> 0 | S22: =IF(R22=0,0,M22/P22) -> 0 | T22: =IF( AND(P22=0,N22=0),61, IF( P22=0, N22, MIN(P22+L22-1,N22))) -> 61 | U22: =M22-(R22*S22) -> 0 | V22: =O22-(M22-R22* S22) -> 0 | AE22: =AB22*AC22/12*(1+AD22)*(1+CompLoad) -> 0 | AI22: =SUM(AG22:AH22) -> 0 | AJ22: 16 | AK22: =VLOOKUP(AJ22,$AF$7:$AI$67,4)/12 -> 0.015416667 | AL22: Sale premium | AM22: 0.025 | AN22: Min. cash | AO22: 200 | AQ22: Assets | AR22: =Balance!E20 -> 14825.256 | AS22: =Balance!F20 -> 16565.492 | AT22: =Balance!G20 -> 16330.832 | AU22: =Balance!H20 -> 16569.232 | AV22: =Balance!I20 -> 16555.537
Q23: =IF(P23=0,0,MIN(P23+L23-1,N23)) -> 0 | R23: =IF(Q23=0,0,Q23-L23+1) -> 0 | S23: =IF(R23=0,0,M23/P23) -> 0 | T23: =IF( AND(P23=0,N23=0),61, IF( P23=0, N23, MIN(P23+L23-1,N23))) -> 61 | U23: =M23-(R23*S23) -> 0 | V23: =O23-(M23-R23* S23) -> 0 | AE23: =AB23*AC23/12*(1+AD23)*(1+CompLoad) -> 0 | AI23: =SUM(AG23:AH23) -> 0 | AJ23: 17 | AK23: =VLOOKUP(AJ23,$AF$7:$AI$67,4)/12 -> 0.015416667 | AQ23: Liabilities | AR23: =Balance!E26 -> 15230.944 | AS23: =Balance!F26 -> 16665.762 | AT23: =Balance!G26 -> 16057.223 | AU23: =Balance!H26 -> 15644.042 | AV23: =Balance!I26 -> 14776.408
Q24: =IF(P24=0,0,MIN(P24+L24-1,N24)) -> 0 | R24: =IF(Q24=0,0,Q24-L24+1) -> 0 | S24: =IF(R24=0,0,M24/P24) -> 0 | T24: =IF( AND(P24=0,N24=0),61, IF( P24=0, N24, MIN(P24+L24-1,N24))) -> 61 | U24: =M24-(R24*S24) -> 0 | V24: =O24-(M24-R24* S24) -> 0 | AE24: =AB24*AC24/12*(1+AD24)*(1+CompLoad) -> 0 | AI24: =SUM(AG24:AH24) -> 0 | AJ24: 18 | AK24: =VLOOKUP(AJ24,$AF$7:$AI$67,4)/12 -> 0.015416667 | AQ24: Equity | AR24: =Balance!E31 -> -405.68804 | AS24: =Balance!F31 -> -100.26974 | AT24: =Balance!G31 -> 273.60856 | AU24: =Balance!H31 -> 925.18944 | AV24: =Balance!I31 -> 1779.1293
Q25: =IF(P25=0,0,MIN(P25+L25-1,N25)) -> 0 | R25: =IF(Q25=0,0,Q25-L25+1) -> 0 | S25: =IF(R25=0,0,M25/P25) -> 0 | T25: =IF( AND(P25=0,N25=0),61, IF( P25=0, N25, MIN(P25+L25-1,N25))) -> 61 | U25: =M25-(R25*S25) -> 0 | V25: =O25-(M25-R25* S25) -> 0 | AE25: =AB25*AC25/12*(1+AD25)*(1+CompLoad) -> 0 | AI25: =SUM(AG25:AH25) -> 0 | AJ25: 19 | AK25: =VLOOKUP(AJ25,$AF$7:$AI$67,4)/12 -> 0.015416667 | AQ25: Cash flow
Q26: =IF(P26=0,0,MIN(P26+L26-1,N26)) -> 0 | R26: =IF(Q26=0,0,Q26-L26+1) -> 0 | S26: =IF(R26=0,0,M26/P26) -> 0 | T26: =IF( AND(P26=0,N26=0),61, IF( P26=0, N26, MIN(P26+L26-1,N26))) -> 61 | U26: =M26-(R26*S26) -> 0 | V26: =O26-(M26-R26* S26) -> 0 | AE26: =AB26*AC26/12*(1+AD26)*(1+CompLoad) -> 0 | AI26: =SUM(AG26:AH26) -> 0 | AJ26: 20 | AK26: =VLOOKUP(AJ26,$AF$7:$AI$67,4)/12 -> 0.015416667 | AQ26: Ops | AR26: =Balance!E24 -> 15130.944 | AS26: =Balance!F24 -> 16565.762 | AT26: =Balance!G24 -> 15957.223 | AU26: =Balance!H24 -> 15544.042 | AV26: =Balance!I24 -> 14676.408
Q27: =IF(P27=0,0,MIN(P27+L27-1,N27)) -> 0 | R27: =IF(Q27=0,0,Q27-L27+1) -> 0 | S27: =IF(R27=0,0,M27/P27) -> 0 | T27: =IF( AND(P27=0,N27=0),61, IF( P27=0, N27, MIN(P27+L27-1,N27))) -> 61 | U27: =M27-(R27*S27) -> 0 | V27: =O27-(M27-R27* S27) -> 0 | AE27: =AB27*AC27/12*(1+AD27)*(1+CompLoad) -> 0 | AI27: =SUM(AG27:AH27) -> 0 | AJ27: 21 | AK27: =VLOOKUP(AJ27,$AF$7:$AI$67,4)/12 -> 0.015416667 | AQ27: Investing | AR27: =Balance!E30 -> -565.68804 | AS27: =Balance!F30 -> -260.26974 | AT27: =Balance!G30 -> 113.60856 | AU27: =Balance!H30 -> 765.18944 | AV27: =Balance!I30 -> 1619.1293
Q28: =IF(P28=0,0,MIN(P28+L28-1,N28)) -> 0 | R28: =IF(Q28=0,0,Q28-L28+1) -> 0 | S28: =IF(R28=0,0,M28/P28) -> 0 | T28: =IF( AND(P28=0,N28=0),61, IF( P28=0, N28, MIN(P28+L28-1,N28))) -> 61 | U28: =M28-(R28*S28) -> 0 | V28: =O28-(M28-R28* S28) -> 0 | AE28: =AB28*AC28/12*(1+AD28)*(1+CompLoad) -> 0 | AI28: =SUM(AG28:AH28) -> 0 | AJ28: 22 | AK28: =VLOOKUP(AJ28,$AF$7:$AI$67,4)/12 -> 0.015416667 | AQ28: Financing | AR28: =Cash!E20 -> 10 | AS28: =Cash!F20 -> -100 | AT28: =Cash!G20 -> 0 | AU28: =Cash!H20 -> 0 | AV28: =Cash!I20 -> 0
Q29: =IF(P29=0,0,MIN(P29+L29-1,N29)) -> 0 | R29: =IF(Q29=0,0,Q29-L29+1) -> 0 | S29: =IF(R29=0,0,M29/P29) -> 0 | T29: =IF( AND(P29=0,N29=0),61, IF( P29=0, N29, MIN(P29+L29-1,N29))) -> 61 | U29: =M29-(R29*S29) -> 0 | V29: =O29-(M29-R29* S29) -> 0 | AE29: =AB29*AC29/12*(1+AD29)*(1+CompLoad) -> 0 | AI29: =SUM(AG29:AH29) -> 0 | AJ29: 23 | AK29: =VLOOKUP(AJ29,$AF$7:$AI$67,4)/12 -> 0.015416667 | AQ29: In/Out | AR29: =Cash!E22 -> -15130.944 | AS29: =Cash!F22 -> -1434.8174 | AT29: =Cash!G22 -> 608.53818 | AU29: =Cash!H22 -> 413.181 | AV29: =Cash!I22 -> 867.63463
Q30: =IF(P30=0,0,MIN(P30+L30-1,N30)) -> 0 | R30: =IF(Q30=0,0,Q30-L30+1) -> 0 | S30: =IF(R30=0,0,M30/P30) -> 0 | T30: =IF( AND(P30=0,N30=0),61, IF( P30=0, N30, MIN(P30+L30-1,N30))) -> 61 | U30: =M30-(R30*S30) -> 0 | V30: =O30-(M30-R30* S30) -> 0 | AE30: =AB30*AC30/12*(1+AD30)*(1+CompLoad) -> 0 | AI30: =SUM(AG30:AH30) -> 0 | AJ30: 24 | AK30: =VLOOKUP(AJ30,$AF$7:$AI$67,4)/12 -> 0.015416667 | AQ30: Equity val | AR30: =Cash!E32 -> -1878.523
Q31: =IF(P31=0,0,MIN(P31+L31-1,N31)) -> 0 | R31: =IF(Q31=0,0,Q31-L31+1) -> 0 | S31: =IF(R31=0,0,M31/P31) -> 0 | T31: =IF( AND(P31=0,N31=0),61, IF( P31=0, N31, MIN(P31+L31-1,N31))) -> 61 | U31: =M31-(R31*S31) -> 0 | V31: =O31-(M31-R31* S31) -> 0 | AE31: =AB31*AC31/12*(1+AD31)*(1+CompLoad) -> 0 | AI31: =SUM(AG31:AH32) -> 0 | AJ31: 25 | AK31: =VLOOKUP(AJ31,$AF$7:$AI$67,4)/12 -> 0.015416667
Q33: =IF(P33=0,0,MIN(P33+L33-1,N33)) -> 0 | R33: =IF(Q33=0,0,Q33-L33+1) -> 0 | S33: =IF(R33=0,0,M33/P33) -> 0 | T33: =IF( AND(P33=0,N33=0),61, IF( P33=0, N33, MIN(P33+L33-1,N33))) -> 61 | U33: =M33-(R33*S33) -> 0 | V33: =O33-(M33-R33* S33) -> 0 | AE33: =AB33*AC33/12*(1+AD33)*(1+CompLoad) -> 0 | AI33: =SUM(AG33:AH33) -> 0 | AJ33: 26 | AK33: =VLOOKUP(AJ33,$AF$7:$AI$67,4)/12 -> 0.015416667
Q34: =IF(P34=0,0,MIN(P34+L34-1,N34)) -> 0 | R34: =IF(Q34=0,0,Q34-L34+1) -> 0 | S34: =IF(R34=0,0,M34/P34) -> 0 | T34: =IF( AND(P34=0,N34=0),61, IF( P34=0, N34, MIN(P34+L34-1,N34))) -> 61 | U34: =M34-(R34*S34) -> 0 | V34: =O34-(M34-R34* S34) -> 0 | AE34: =AB34*AC34/12*(1+AD34)*(1+CompLoad) -> 0 | AI34: =SUM(AG34:AH34) -> 0 | AJ34: 27 | AK34: =VLOOKUP(AJ34,$AF$7:$AI$67,4)/12 -> 0.015416667
Q35: =IF(P35=0,0,MIN(P35+L35-1,N35)) -> 0 | R35: =IF(Q35=0,0,Q35-L35+1) -> 0 | S35: =IF(R35=0,0,M35/P35) -> 0 | T35: =IF( AND(P35=0,N35=0),61, IF( P35=0, N35, MIN(P35+L35-1,N35))) -> 61 | U35: =M35-(R35*S35) -> 0 | V35: =O35-(M35-R35* S35) -> 0 | AE35: =AB35*AC35/12*(1+AD35)*(1+CompLoad) -> 0 | AI35: =SUM(AG35:AH35) -> 0 | AJ35: 28 | AK35: =VLOOKUP(AJ35,$AF$7:$AI$67,4)/12 -> 0.015416667
Q36: =IF(P36=0,0,MIN(P36+L36-1,N36)) -> 0 | R36: =IF(Q36=0,0,Q36-L36+1) -> 0 | S36: =IF(R36=0,0,M36/P36) -> 0 | T36: =IF( AND(P36=0,N36=0),61, IF( P36=0, N36, MIN(P36+L36-1,N36))) -> 61 | U36: =M36-(R36*S36) -> 0 | V36: =O36-(M36-R36* S36) -> 0 | AE36: =AB36*AC36/12*(1+AD36)*(1+CompLoad) -> 0 | AI36: =SUM(AG36:AH36) -> 0 | AJ36: 29 | AK36: =VLOOKUP(AJ36,$AF$7:$AI$67,4)/12 -> 0.015416667
Q37: =IF(P37=0,0,MIN(P37+L37-1,N37)) -> 0 | R37: =IF(Q37=0,0,Q37-L37+1) -> 0 | S37: =IF(R37=0,0,M37/P37) -> 0 | T37: =IF( AND(P37=0,N37=0),61, IF( P37=0, N37, MIN(P37+L37-1,N37))) -> 61 | U37: =M37-(R37*S37) -> 0 | V37: =O37-(M37-R37* S37) -> 0 | AE37: =AB37*AC37/12*(1+AD37)*(1+CompLoad) -> 0 | AI37: =SUM(AG37:AH37) -> 0 | AJ37: 30 | AK37: =VLOOKUP(AJ37,$AF$7:$AI$67,4)/12 -> 0.015416667
Q38: =IF(P38=0,0,MIN(P38+L38-1,N38)) -> 0 | R38: =IF(Q38=0,0,Q38-L38+1) -> 0 | S38: =IF(R38=0,0,M38/P38) -> 0 | T38: =IF( AND(P38=0,N38=0),61, IF( P38=0, N38, MIN(P38+L38-1,N38))) -> 61 | U38: =M38-(R38*S38) -> 0 | V38: =O38-(M38-R38* S38) -> 0 | AE38: =AB38*AC38/12*(1+AD38)*(1+CompLoad) -> 0 | AI38: =SUM(AG38:AH38) -> 0 | AJ38: 31 | AK38: =VLOOKUP(AJ38,$AF$7:$AI$67,4)/12 -> 0.015416667
Q39: =IF(P39=0,0,MIN(P39+L39-1,N39)) -> 0 | R39: =IF(Q39=0,0,Q39-L39+1) -> 0 | S39: =IF(R39=0,0,M39/P39) -> 0 | T39: =IF( AND(P39=0,N39=0),61, IF( P39=0, N39, MIN(P39+L39-1,N39))) -> 61 | U39: =M39-(R39*S39) -> 0 | V39: =O39-(M39-R39* S39) -> 0 | AE39: =AB39*AC39/12*(1+AD39)*(1+CompLoad) -> 0 | AI39: =SUM(AG39:AH39) -> 0 | AJ39: 32 | AK39: =VLOOKUP(AJ39,$AF$7:$AI$67,4)/12 -> 0.015416667
Q40: =IF(P40=0,0,MIN(P40+L40-1,N40)) -> 0 | R40: =IF(Q40=0,0,Q40-L40+1) -> 0 | S40: =IF(R40=0,0,M40/P40) -> 0 | T40: =IF( AND(P40=0,N40=0),61, IF( P40=0, N40, MIN(P40+L40-1,N40))) -> 61 | U40: =M40-(R40*S40) -> 0 | V40: =O40-(M40-R40* S40) -> 0 | AE40: =AB40*AC40/12*(1+AD40)*(1+CompLoad) -> 0 | AI40: =SUM(AG40:AH40) -> 0 | AJ40: 33 | AK40: =VLOOKUP(AJ40,$AF$7:$AI$67,4)/12 -> 0.015416667
Q41: =IF(P41=0,0,MIN(P41+L41-1,N41)) -> 0 | R41: =IF(Q41=0,0,Q41-L41+1) -> 0 | S41: =IF(R41=0,0,M41/P41) -> 0 | T41: =IF( AND(P41=0,N41=0),61, IF( P41=0, N41, MIN(P41+L41-1,N41))) -> 61 | U41: =M41-(R41*S41) -> 0 | V41: =O41-(M41-R41* S41) -> 0 | AE41: =AB41*AC41/12*(1+AD41)*(1+CompLoad) -> 0 | AI41: =SUM(AG41:AH41) -> 0 | AJ41: 34 | AK41: =VLOOKUP(AJ41,$AF$7:$AI$67,4)/12 -> 0.015416667
Q42: =IF(P42=0,0,MIN(P42+L42-1,N42)) -> 0 | R42: =IF(Q42=0,0,Q42-L42+1) -> 0 | S42: =IF(R42=0,0,M42/P42) -> 0 | T42: =IF( AND(P42=0,N42=0),61, IF( P42=0, N42, MIN(P42+L42-1,N42))) -> 61 | U42: =M42-(R42*S42) -> 0 | V42: =O42-(M42-R42* S42) -> 0 | AE42: =AB42*AC42/12*(1+AD42)*(1+CompLoad) -> 0 | AI42: =SUM(AG42:AH42) -> 0 | AJ42: 35 | AK42: =VLOOKUP(AJ42,$AF$7:$AI$67,4)/12 -> 0.015416667
...

Sheet Loans
A1: info
B3: Loans | E3: 1 | F3: 2 | G3: 3 | H3: 4 | I3: 5 | K3: 1 | L3: 2 | M3: 3 | N3: 4 | O3: 5 | P3: 6 | Q3: 7 | R3: 8 | S3: 9 | T3: 10 | U3: 11 | V3: 12 | W3: 13 | X3: 14 | Y3: 15 | Z3: 16 | AA3: 17 | AB3: 18 | AC3: 19 | AD3: 20 | AE3: 21 | AF3: 22 | AG3: 23 | AH3: 24 | AI3: 25 | AJ3: 26 | AK3: 27 | AL3: 28 | AM3: 29 | AN3: 30 | AO3: 31 | AP3: 32 | AQ3: 33 | AR3: 34 | AS3: 35 | AT3: 36 | AU3: 37 | AV3: 38 | AW3: 39 | AX3: 40 | AY3: 41 | AZ3: 42 | BA3: 43 | BB3: 44 | BC3: 45 | BD3: 46 | BE3: 47 | BF3: 48 | BG3: 49 | BH3: 50 | BI3: 51 | BJ3: 52 | BK3: 53 | BL3: 54 | BM3: 55 | BN3: 56 | BO3: 57 | BP3: 58 | BQ3: 59 | BR3: 60
B5: # Originations | E5: =SUM(K5:V5) -> 1233.5562 | F5: =SUM(W5:AH5) -> 1309.6393 | G5: =SUM(AI5:AT5) -> 1390.415 | H5: =SUM(AU5:BF5) -> 1476.1727 | I5: =SUM(BG5:BR5) -> 1567.2198 | K5: =LoanQuantity -> 100 | L5: =K5*(1+LoanGrowth) -> 100.5 | M5: =L5*(1+LoanGrowth) -> 101.0025 | N5: =M5*(1+LoanGrowth) -> 101.50751 | O5: =N5*(1+LoanGrowth) -> 102.01505 | P5: =O5*(1+LoanGrowth) -> 102.52513 | Q5: =P5*(1+LoanGrowth) -> 103.03775 | R5: =Q5*(1+LoanGrowth) -> 103.55294 | S5: =R5*(1+LoanGrowth) -> 104.0707 | ... BR5: =BQ5*(1+LoanGrowth) -> 134.21395
B6: # Sales | E6: =SUM(K6:V6) -> 366.18388 | F6: =SUM(W6:AH6) -> 514.52913 | G6: =SUM(AI6:AT6) -> 546.26416 | H6: =SUM(AU6:BF6) -> 579.95654 | I6: =SUM(BG6:BR6) -> 615.72699 | K6: =IF(K3-LoanSaleHeld>0,OFFSET(K5,0,-LoanSaleHeld)*LoanSalePercent,0)*(1-((1+MitigateDelinquency*MitigateChargeoff)^(LoanSaleHeld)-1)) -> 0 | L6: =IF(L3-LoanSaleHeld>0,OFFSET(L5,0,-LoanSaleHeld)*LoanSalePercent,0)*(1-((1+MitigateDelinquency*MitigateChargeoff)^(LoanSaleHeld)-1)) -> 0 | M6: =IF(M3-LoanSaleHeld>0,OFFSET(M5,0,-LoanSaleHeld)*LoanSalePercent,0)*(1-((1+MitigateDelinquency*MitigateChargeoff)^(LoanSaleHeld)-1)) -> 0 | N6: =IF(N3-LoanSaleHeld<=0,0,OFFSET(N5,0,-LoanSaleHeld)*(1+((1-MitigateDelinquency*MitigateChargeoff)^3-1))*LoanSalePercent) -> 39.88012 | O6: =IF(O3-LoanSaleHeld<=0,0,OFFSET(O5,0,-LoanSaleHeld)*(1+((1-MitigateDelinquency*MitigateChargeoff)^3-1))*LoanSalePercent) -> 40.079521 | P6: =IF(P3-LoanSaleHeld<=0,0,OFFSET(P5,0,-LoanSaleHeld)*(1+((1-MitigateDelinquency*MitigateChargeoff)^3-1))*LoanSalePercent) -> 40.279918 | Q6: =IF(Q3-LoanSaleHeld<=0,0,OFFSET(Q5,0,-LoanSaleHeld)*(1+((1-MitigateDelinquency*MitigateChargeoff)^3-1))*LoanSalePercent) -> 40.481318 | R6: =IF(R3-LoanSaleHeld<=0,0,OFFSET(R5,0,-LoanSaleHeld)*(1+((1-MitigateDelinquency*MitigateChargeoff)^3-1))*LoanSalePercent) -> 40.683724 | S6: =IF(S3-LoanSaleHeld<=0,0,OFFSET(S5,0,-LoanSaleHeld)*(1+((1-MitigateDelinquency*MitigateChargeoff)^3-1))*LoanSalePercent) -> 40.887143 | T6: =IF(T3-LoanSaleHeld<=0,0,OFFSET(T5,0,-LoanSaleHeld)*(1+((1-MitigateDelinquency*MitigateChargeoff)^3-1))*LoanSalePercent) -> 41.091579 | U6: =IF(U3-LoanSaleHeld<=0,0,OFFSET(U5,0,-LoanSaleHeld)*(1+((1-MitigateDelinquency*MitigateChargeoff)^3-1))*LoanSalePercent) -> 41.297037 | ... BR6: =IF(BR3-LoanSaleHeld<=0,0,OFFSET(BR5,0,-LoanSaleHeld)*(1+((1-MitigateDelinquency*MitigateChargeoff)^3-1))*LoanSalePercent) -> 52.729775
B7: # Retirements | E7: =SUM(K7:V7) -> 0 | F7: =SUM(W7:AH7) -> 364.53011 | G7: =SUM(AI7:AT7) -> 762.61716 | H7: =SUM(AU7:BF7) -> 809.65372 | I7: =SUM(BG7:BR7) -> 859.59139 | K7: =IF(K3<LoanTerm,0, OFFSET(K5,0,-LoanTerm))*(1-LoanSalePercent) -> 0 | L7: =IF(L3<LoanTerm,0, OFFSET(L5,0,-LoanTerm))*(1-LoanSalePercent) -> 0 | M7: =IF(M3<LoanTerm,0, OFFSET(M5,0,-LoanTerm))*(1-LoanSalePercent) -> 0 | N7: =IF(N3<LoanTerm,0, OFFSET(N5,0,-LoanTerm))*(1-LoanSalePercent) -> 0 | O7: =IF(O3<LoanTerm,0, OFFSET(O5,0,-LoanTerm))*(1-LoanSalePercent) -> 0 | P7: =IF(P3<LoanTerm,0, OFFSET(P5,0,-LoanTerm))*(1-LoanSalePercent) -> 0 | Q7: =IF(Q3<LoanTerm,0, OFFSET(Q5,0,-LoanTerm))*(1-LoanSalePercent) -> 0 | R7: =IF(R3<LoanTerm,0, OFFSET(R5,0,-LoanTerm))*(1-LoanSalePercent) -> 0 | ... BR7: =IF(BR3<LoanTerm,0, OFFSET(BR5,0,-LoanTerm))*(1-LoanSalePercent) -> 73.613892
B8: Net Activity | E8: =SUM(K8:V8) -> 867.37236 | F8: =SUM(W8:AH8) -> 430.58005 | G8: =SUM(AI8:AT8) -> 81.533652 | H8: =SUM(AU8:BF8) -> 86.562469 | I8: =SUM(BG8:BR8) -> 91.901453 | K8: =K5-K6-K7 -> 100 | L8: =L5-L6-L7 -> 100.5 | M8: =M5-M6-M7 -> 101.0025 | N8: =N5-N6-N7 -> 61.627393 | O8: =O5-O6-O7 -> 61.93553 | P8: =P5-P6-P7 -> 62.245207 | Q8: =Q5-Q6-Q7 -> 62.556433 | R8: =R5-R6-R7 -> 62.869215 | ... BR8: =BR5-BR6-BR7 -> 7.8702785
B9: # Loans outstanding | E9: =V9 -> 867.37236 | F9: =AH9 -> 1297.9524 | G9: =AT9 -> 1379.4861 | H9: =BF9 -> 1466.0485 | I9: =BR9 -> 1557.95 | K9: =K8 -> 100 | L9: =K9+L8 -> 200.5 | M9: =L9+M8 -> 301.5025 | N9: =M9+N8 -> 363.12989 | O9: =N9+O8 -> 425.06542 | P9: =O9+P8 -> 487.31063 | Q9: =P9+Q8 -> 549.86706 | R9: =Q9+R8 -> 612.73628 | S9: =R9+S8 -> 675.91984 | ... BR9: =BQ9+BR8 -> 1557.95
B11: Interest Collected | E11: =SUM(K11:V11) -> 2198.5169 | F11: =SUM(W11:AH11) -> 3656.916 | G11: =SUM(AI11:AT11) -> 3603.0023 | H11: =SUM(AU11:BF11) -> 4074.2232 | I11: =SUM(BG11:BR11) -> 4373.3931 | K11: =Amort!D2 -> 37.5 | L11: =Amort!E2 -> 76.462238 | M11: =Amort!F2 -> 113.62441 | N11: =Amort!G2 -> 148.94974 | O11: =Amort!H2 -> 170.44367 | P11: =Amort!I2 -> 189.67199 | Q11: =Amort!J2 -> 207.7313 | R11: =Amort!K2 -> 224.59803 | ... BR11: =Amort!BK2 -> 374.52968
B13: Face value | E13: =SUM(K13:V13) -> 9154.597 | F13: =SUM(W13:AH13) -> 12863.228 | G13: =SUM(AI13:AT13) -> 13656.604 | H13: =SUM(AU13:BF13) -> 14498.913 | I13: =SUM(BG13:BR13) -> 15393.175 | K13: =K6*LoanSize -> 0 | L13: =L6*LoanSize -> 0 | M13: =M6*LoanSize -> 0 | N13: =N6*LoanSize -> 997.003 | O13: =O6*LoanSize -> 1001.988 | P13: =P6*LoanSize -> 1006.998 | Q13: =Q6*LoanSize -> 1012.0329 | R13: =R6*LoanSize -> 1017.0931 | ... BR13: =BR6*LoanSize -> 1318.2444
B14: Amortization | E14: =SUM(K14:V14) -> -1791.7123 | F14: =SUM(W14:AH14) -> -2551.7101 | G14: =SUM(AI14:AT14) -> -2773.7343 | H14: =SUM(AU14:BF14) -> -2876.185 | I14: =SUM(BG14:BR14) -> -3053.5818 | K14: =-Amort!D4 -> 0 | L14: =-Amort!E4 -> 0 | M14: =-Amort!F4 -> 0 | N14: =-Amort!G4 -> -199.35674 | O14: =-Amort!H4 -> -195.58723 | P14: =-Amort!I4 -> -196.56516 | Q14: =-Amort!J4 -> -197.54799 | R14: =-Amort!K4 -> -198.53573 | ... BR14: =-Amort!BK4 -> -261.50337
B15: Sale Proceeds | E15: =SUM(K15:V15) -> 7362.8847 | F15: =SUM(W15:AH15) -> 10311.518 | G15: =SUM(AI15:AT15) -> 10882.87 | H15: =SUM(AU15:BF15) -> 11622.728 | I15: =SUM(BG15:BR15) -> 12339.593 | K15: =SUM(K13:K14) -> 0 | L15: =SUM(L13:L14) -> 0 | M15: =SUM(M13:M14) -> 0 | N15: =SUM(N13:N14) -> 797.64626 | O15: =SUM(O13:O14) -> 806.40079 | P15: =SUM(P13:P14) -> 810.43279 | Q15: =SUM(Q13:Q14) -> 814.48495 | R15: =SUM(R13:R14) -> 818.55738 | ... BR15: =SUM(BR13:BR14) -> 1056.741
B16: Gain from Sales | E16: =SUM(K16:V16) -> 184.07212 | F16: =SUM(W16:AH16) -> 257.78795 | G16: =SUM(AI16:AT16) -> 272.07174 | H16: =SUM(AU16:BF16) -> 290.56821 | I16: =SUM(BG16:BR16) -> 308.48982 | K16: =K15*LoanSalePremium -> 0 | L16: =L15*LoanSalePremium -> 0 | M16: =M15*LoanSalePremium -> 0 | N16: =N15*LoanSalePremium -> 19.941157 | O16: =O15*LoanSalePremium -> 20.16002 | P16: =P15*LoanSalePremium -> 20.26082 | Q16: =Q15*LoanSalePremium -> 20.362124 | R16: =R15*LoanSalePremium -> 20.463934 | ... BR16: =BR15*LoanSalePremium -> 26.418525
B18: Starting balance | E18: =V18 -> 14598.996 | F18: =AH18 -> 17228.854 | G18: =AT18 -> 16994.688 | H18: =BF18 -> 17232.494 | I18: =BR18 -> 17217.107 | L18: =K23 -> 2375.4855 | M18: =L23 -> 4639.8928 | N18: =M23 -> 6790.9539 | O18: =N23 -> 8028.717 | P18: =O23 -> 9192.1215 | Q18: =P23 -> 10283.365 | R18: =Q23 -> 11300.994 | S18: =R23 -> 12243.533 | ... BR18: =BQ23 -> 17217.107
B19: Originations | K19: =K5*LoanSize -> 2500 | L19: =L5*LoanSize -> 2512.5 | M19: =M5*LoanSize -> 2525.0625 | N19: =N5*LoanSize -> 2537.6878 | O19: =O5*LoanSize -> 2550.3763 | P19: =P5*LoanSize -> 2563.1281 | Q19: =Q5*LoanSize -> 2575.9438 | R19: =R5*LoanSize -> 2588.8235 | ... BR19: =BR5*LoanSize -> 3355.3486
B20: ⎯ Chargeoffs | K20: =SUM(K18:K19)*MitigateDelinquency*MitigateChargeoff -> 2.5 | L20: =SUM(L18:L19)*MitigateDelinquency*MitigateChargeoff -> 4.8879855 | M20: =SUM(M18:M19)*MitigateDelinquency*MitigateChargeoff -> 7.1649553 | N20: =SUM(N18:N19)*MitigateDelinquency*MitigateChargeoff -> 9.3286417 | O20: =SUM(O18:O19)*MitigateDelinquency*MitigateChargeoff -> 10.579093 | P20: =SUM(P18:P19)*MitigateDelinquency*MitigateChargeoff -> 11.75525 | Q20: =SUM(Q18:Q19)*MitigateDelinquency*MitigateChargeoff -> 12.859309 | R20: =SUM(R18:R19)*MitigateDelinquency*MitigateChargeoff -> 13.889818 | ... BR20: =SUM(BR18:BR19)*MitigateDelinquency*MitigateChargeoff -> 20.572456
B21: ⎯ Sales | E21: =SUM(K21:V21) -> 7362.8847 | F21: =SUM(W21:AH21) -> 10311.518 | G21: =SUM(AI21:AT21) -> 10882.87 | H21: =SUM(AU21:BF21) -> 11622.728 | I21: =SUM(BG21:BR21) -> 12339.593 | K21: =K15 -> 0 | L21: =L15 -> 0 | M21: =M15 -> 0 | N21: =N15 -> 797.64626 | O21: =O15 -> 806.40079 | P21: =P15 -> 810.43279 | Q21: =Q15 -> 814.48495 | R21: =R15 -> 818.55738 | ... BR21: =BR15 -> 1056.741
B22: ⎯ Principal collected | E22: =SUM(K22:V22) -> 8119.1557 | F22: =SUM(W22:AH22) -> 20188.5 | G22: =SUM(AI22:AT22) -> 23884.541 | H22: =SUM(AU22:BF22) -> 24788.921 | I22: =SUM(BG22:BR22) -> 26609.46 | K22: =Amort!D3 -> 122.01445 | L22: =Amort!E3 -> 243.20473 | M22: =Amort!F3 -> 366.83647 | N22: =Amort!G3 -> 492.94984 | O22: =Amort!H3 -> 569.99182 | P22: =Amort!I3 -> 649.69676 | Q22: =Amort!J3 -> 730.97015 | R22: =Amort!K3 -> 813.83764 | ... BR22: =Amort!BK3 -> 2278.7872
B23: Loans Outstanding | E23: =V23 -> 15219.568 | F23: =AH23 -> 17226.834 | G23: =AT23 -> 16979.823 | H23: =BF23 -> 17230.77 | I23: =BR23 -> 17216.355 | K23: =SUM(K18:K19)-SUM(K20:K22) -> 2375.4855 | L23: =SUM(L18:L19)-SUM(L20:L22) -> 4639.8928 | M23: =SUM(M18:M19)-SUM(M20:M22) -> 6790.9539 | N23: =SUM(N18:N19)-SUM(N20:N22) -> 8028.717 | O23: =SUM(O18:O19)-SUM(O20:O22) -> 9192.1215 | P23: =SUM(P18:P19)-SUM(P20:P22) -> 10283.365 | Q23: =SUM(Q18:Q19)-SUM(Q20:Q22) -> 11300.994 | R23: =SUM(R18:R19)-SUM(R20:R22) -> 12243.533 | ... BR23: =SUM(BR18:BR19)-SUM(BR20:BR22) -> 17216.355
B24: Loss Reserve | E24: =V24 -> 760.9784 | F24: =AH24 -> 861.34168 | G24: =AT24 -> 848.99116 | H24: =BF24 -> 861.53852 | I24: =BR24 -> 860.81774 | K24: =K23*MitigateReserves -> 118.77428 | L24: =L23*MitigateReserves -> 231.99464 | M24: =M23*MitigateReserves -> 339.5477 | N24: =N23*MitigateReserves -> 401.43585 | O24: =O23*MitigateReserves -> 459.60608 | P24: =P23*MitigateReserves -> 514.16824 | Q24: =Q23*MitigateReserves -> 565.04971 | R24: =R23*MitigateReserves -> 612.17664 | ... BR24: =BR23*MitigateReserves -> 860.81774
B25: Loans Receivable | E25: =V25 -> 14458.59 | F25: =AH25 -> 16365.492 | G25: =AT25 -> 16130.832 | H25: =BF25 -> 16369.232 | I25: =BR25 -> 16355.537 | K25: =K23-K24 -> 2256.7113 | L25: =L23-L24 -> 4407.8982 | M25: =M23-M24 -> 6451.4062 | N25: =N23-N24 -> 7627.2811 | O25: =O23-O24 -> 8732.5155 | P25: =P23-P24 -> 9769.1966 | Q25: =Q23-Q24 -> 10735.945 | R25: =R23-R24 -> 11631.356 | ... BR25: =BR23-BR24 -> 16355.537

Sheet Amort
A1: Amort | D1: 1 | E1: 2 | F1: 3 | G1: 4 | H1: 5 | I1: 6 | J1: 7 | K1: 8 | L1: 9 | M1: 10 | N1: 11 | O1: 12 | P1: 13 | Q1: 14 | R1: 15 | S1: 16 | T1: 17 | U1: 18 | V1: 19 | W1: 20 | X1: 21 | Y1: 22 | Z1: 23 | AA1: 24 | AB1: 25 | AC1: 26 | AD1: 27 | AE1: 28 | AF1: 29 | AG1: 30 | AH1: 31 | AI1: 32 | AJ1: 33 | AK1: 34 | AL1: 35 | AM1: 36 | AN1: 37 | AO1: 38 | AP1: 39 | AQ1: 40 | AR1: 41 | AS1: 42 | AT1: 43 | AU1: 44 | AV1: 45 | AW1: 46 | AX1: 47 | AY1: 48 | AZ1: 49 | BA1: 50 | BB1: 51 | BC1: 52 | BD1: 53 | BE1: 54 | BF1: 55 | BG1: 56 | BH1: 57 | BI1: 58 | BJ1: 59 | BK1: 60
A2: iCollect | D2: =SUMIF($A$6:$A$545,$A2,D$6:D$545) -> 37.5 | E2: =SUMIF($A$6:$A$545,$A2,E$6:E$545) -> 76.462238 | F2: =SUMIF($A$6:$A$545,$A2,F$6:F$545) -> 113.62441 | G2: =SUMIF($A$6:$A$545,$A2,G$6:G$545) -> 148.94974 | H2: =SUMIF($A$6:$A$545,$A2,H$6:H$545) -> 170.44367 | I2: =SUMIF($A$6:$A$545,$A2,I$6:I$545) -> 189.67199 | J2: =SUMIF($A$6:$A$545,$A2,J$6:J$545) -> 207.7313 | K2: =SUMIF($A$6:$A$545,$A2,K$6:K$545) -> 224.59803 | ... BK2: =SUMIF($A$6:$A$545,$A2,BK$6:BK$545) -> 374.52968
A3: pCollect | D3: =SUMIF($A$6:$A$545,$A3,D$6:D$545) -> 122.01445 | E3: =SUMIF($A$6:$A$545,$A3,E$6:E$545) -> 243.20473 | F3: =SUMIF($A$6:$A$545,$A3,F$6:F$545) -> 366.83647 | G3: =SUMIF($A$6:$A$545,$A3,G$6:G$545) -> 492.94984 | H3: =SUMIF($A$6:$A$545,$A3,H$6:H$545) -> 569.99182 | I3: =SUMIF($A$6:$A$545,$A3,I$6:I$545) -> 649.69676 | J3: =SUMIF($A$6:$A$545,$A3,J$6:J$545) -> 730.97015 | K3: =SUMIF($A$6:$A$545,$A3,K$6:K$545) -> 813.83764 | ... BK3: =SUMIF($A$6:$A$545,$A3,BK$6:BK$545) -> 2278.7872
A4: sAmort | D4: =SUMIF($A$6:$A$545,$A4,D$6:D$545) -> 0 | E4: =SUMIF($A$6:$A$545,$A4,E$6:E$545) -> 0 | F4: =SUMIF($A$6:$A$545,$A4,F$6:F$545) -> 0 | G4: =SUMIF($A$6:$A$545,$A4,G$6:G$545) -> 199.35674 | H4: =SUMIF($A$6:$A$545,$A4,H$6:H$545) -> 195.58723 | I4: =SUMIF($A$6:$A$545,$A4,I$6:I$545) -> 196.56516 | J4: =SUMIF($A$6:$A$545,$A4,J$6:J$545) -> 197.54799 | K4: =SUMIF($A$6:$A$545,$A4,K$6:K$545) -> 198.53573 | ... BK4: =SUMIF($A$6:$A$545,$A4,BK$6:BK$545) -> 261.50337
A5: Loans | D5: =SUMIF($A$6:$A$545,$A5,D$6:D$545)*LoanSize -> 2500 | E5: =SUMIF($A$6:$A$545,$A5,E$6:E$545)*LoanSize -> 5010 | F5: =SUMIF($A$6:$A$545,$A5,F$6:F$545)*LoanSize -> 7530.0525 | G5: =SUMIF($A$6:$A$545,$A5,G$6:G$545)*LoanSize -> 10060.21 | H5: =SUMIF($A$6:$A$545,$A5,H$6:H$545)*LoanSize -> 11604.52 | I5: =SUMIF($A$6:$A$545,$A5,I$6:I$545)*LoanSize -> 13155.058 | J5: =SUMIF($A$6:$A$545,$A5,J$6:J$545)*LoanSize -> 14711.856 | K5: =SUMIF($A$6:$A$545,$A5,K$6:K$545)*LoanSize -> 16274.946 | ... BK5: =SUMIF($A$6:$A$545,$A5,BK$6:BK$545)*LoanSize -> 41584.271
A6: 1 | D6: 101 | E6: =IF(E7=0,0,D6+1) -> 102 | F6: =IF(F7=0,0,E6+1) -> 103 | G6: =IF(G7=0,0,F6+1) -> 104 | H6: =IF(H7=0,0,G6+1) -> 105 | I6: =IF(I7=0,0,H6+1) -> 106 | J6: =IF(J7=0,0,I6+1) -> 107 | K6: =IF(K7=0,0,J6+1) -> 108 | L6: =IF(L7=0,0,K6+1) -> 109 | ... BK6: =IF(BK7=0,0,BJ6+1) -> 0
A7: Bal | D7: =LoanSize -> 25 | E7: =IF(D7-D10<=0.1,0,D7-D10) -> 23.779855 | F7: =IF(E7-E10<=0.1,0,E7-E10) -> 22.541409 | G7: =IF(F7-F10<=0.1,0,F7-F10) -> 21.284385 | H7: =IF(G7-G10<=0.1,0,G7-G10) -> 20.008507 | I7: =IF(H7-H10<=0.1,0,H7-H10) -> 18.71349 | J7: =IF(I7-I10<=0.1,0,I7-I10) -> 17.399047 | K7: =IF(J7-J10<=0.1,0,J7-J10) -> 16.064889 | L7: =IF(K7-K10<=0.1,0,K7-K10) -> 14.710717 | ... BK7: =IF(BJ7-BJ10<=0.1,0,BJ7-BJ10) -> 0
A8: Pmt | D8: =IF(D7=0,0,PMT(INDEX(LoanCohortRate,1),LoanTerm, -LoanSize)) -> 1.5951445 | E8: =IF(E7=0,0, D8) -> 1.5951445 | F8: =IF(F7=0,0, E8) -> 1.5951445 | G8: =IF(G7=0,0, F8) -> 1.5951445 | H8: =IF(H7=0,0, G8) -> 1.5951445 | I8: =IF(I7=0,0, H8) -> 1.5951445 | J8: =IF(J7=0,0, I8) -> 1.5951445 | K8: =IF(K7=0,0, J8) -> 1.5951445 | L8: =IF(L7=0,0, K8) -> 1.5951445 | ... BK8: =IF(BK7=0,0, BJ8) -> 0
A9: Int | D9: {=D7*INDEX(LoanCohortRate,$A6)} -> 0.375 | E9: {=E7*INDEX(LoanCohortRate,$A6)} -> 0.35669783 | F9: {=F7*INDEX(LoanCohortRate,$A6)} -> 0.33812113 | G9: {=G7*INDEX(LoanCohortRate,$A6)} -> 0.31926578 | H9: {=H7*INDEX(LoanCohortRate,$A6)} -> 0.3001276 | I9: {=I7*INDEX(LoanCohortRate,$A6)} -> 0.28070234 | J9: {=J7*INDEX(LoanCohortRate,$A6)} -> 0.26098571 | K9: {=K7*INDEX(LoanCohortRate,$A6)} -> 0.24097333 | ... BK9: {=BK7*INDEX(LoanCohortRate,$A6)} -> 0
A10: Princ | D10: =D8-D9 -> 1.2201445 | E10: =E8-E9 -> 1.2384467 | F10: =F8-F9 -> 1.2570234 | G10: =G8-G9 -> 1.2758788 | H10: =H8-H9 -> 1.2950169 | I10: =I8-I9 -> 1.3144422 | J10: =J8-J9 -> 1.3341588 | K10: =K8-K9 -> 1.3541712 | ... BK10: =BK8-BK9 -> 0
A11: Loans | D11: {=INDEX(LoanOriginations,$A6)} -> 100 | E11: =D11*(1-MitigateDelinquency*MitigateChargeoff) * IF(E6=0,0,IF(E6-102=LoanSaleHeld,0.6,1)) -> 99.9 | F11: =E11*(1-MitigateDelinquency*MitigateChargeoff) * IF(F6=0,0,IF(F6-102=LoanSaleHeld,0.6,1)) -> 99.8001 | G11: =F11*(1-MitigateDelinquency*MitigateChargeoff) * IF(G6=0,0,IF(G6-102=LoanSaleHeld,0.6,1)) -> 99.7003 | H11: =G11*(1-MitigateDelinquency*MitigateChargeoff) * IF(H6=0,0,IF(H6-102=LoanSaleHeld,0.6,1)) -> 59.76036 | I11: =H11*(1-MitigateDelinquency*MitigateChargeoff) * IF(I6=0,0,IF(I6-102=LoanSaleHeld,0.6,1)) -> 59.700599 | J11: =I11*(1-MitigateDelinquency*MitigateChargeoff) * IF(J6=0,0,IF(J6-102=LoanSaleHeld,0.6,1)) -> 59.640899 | K11: =J11*(1-MitigateDelinquency*MitigateChargeoff) * IF(K6=0,0,IF(K6-102=LoanSaleHeld,0.6,1)) -> 59.581258 | L11: =K11*(1-MitigateDelinquency*MitigateChargeoff) * IF(L6=0,0,IF(L6-102=LoanSaleHeld,0.6,1)) -> 59.521677 | ... BK11: =BJ11*(1-MitigateDelinquency*MitigateChargeoff) * IF(BK6=0,0,IF(BK6-102=LoanSaleHeld,0.6,1)) -> 0
A12: iCollect | D12: =D9*D11 -> 37.5 | E12: =E9*E11 -> 35.634113 | F12: =F9*F11 -> 33.744523 | G12: =G9*G11 -> 31.830894 | H12: =H9*H11 -> 17.935733 | I12: =I9*I11 -> 16.758098 | J12: =J9*J11 -> 15.565422 | K12: =K9*K11 -> 14.357494 | ... BK12: =BK9*BK11 -> 0
A13: pCollect | D13: =D10*D11 -> 122.01445 | E13: =E10*E11 -> 123.72083 | F13: =F10*F11 -> 125.45106 | G13: =G10*G11 -> 127.2055 | H13: =H10*H11 -> 77.390679 | I13: =I10*I11 -> 78.472987 | J13: =J10*J11 -> 79.570432 | K13: =K10*K11 -> 80.683224 | ... BK13: =BK10*BK11 -> 0
A14: sAmort | D14: =IF(D6-101<>LoanSaleHeld,0,SUM($D13:D13)*LoanSalePercent) -> 0 | E14: =IF(E6-101<>LoanSaleHeld,0,SUM($D13:E13)*LoanSalePercent) -> 0 | F14: =IF(F6-101<>LoanSaleHeld,0,SUM($D13:F13)*LoanSalePercent) -> 0 | G14: =IF(G6-101<>LoanSaleHeld,0,SUM($D13:G13)*LoanSalePercent) -> 199.35674 | H14: =IF(H6-101<>LoanSaleHeld,0,SUM($D13:H13)*LoanSalePercent) -> 0 | I14: =IF(I6-101<>LoanSaleHeld,0,SUM($D13:I13)*LoanSalePercent) -> 0 | J14: =IF(J6-101<>LoanSaleHeld,0,SUM($D13:J13)*LoanSalePercent) -> 0 | K14: =IF(K6-101<>LoanSaleHeld,0,SUM($D13:K13)*LoanSalePercent) -> 0 | ... BK14: =IF(BK6-101<>LoanSaleHeld,0,SUM($D13:BK13)*LoanSalePercent) -> 0
A15: =A6+1 -> 2 | E15: 101 | F15: =IF(F16=0,0,E15+1) -> 102 | G15: =IF(G16=0,0,F15+1) -> 103 | H15: =IF(H16=0,0,G15+1) -> 104 | I15: =IF(I16=0,0,H15+1) -> 105 | J15: =IF(J16=0,0,I15+1) -> 106 | K15: =IF(K16=0,0,J15+1) -> 107 | L15: =IF(L16=0,0,K15+1) -> 108 | M15: =IF(M16=0,0,L15+1) -> 109 | ... BK15: =IF(BK16=0,0,BJ15+1) -> 0
A16: Bal | E16: =LoanSize -> 25 | F16: =IF(E16-E19<=0.1,0,E16-E19) -> 23.811105 | G16: =IF(F16-F19<=0.1,0,F16-F19) -> 22.602891 | H16: =IF(G16-G19<=0.1,0,G16-G19) -> 21.375044 | I16: =IF(H16-H19<=0.1,0,H16-H19) -> 20.127244 | J16: =IF(I16-I19<=0.1,0,I16-I19) -> 18.859167 | K16: =IF(J16-J19<=0.1,0,J16-J19) -> 17.570484 | L16: =IF(K16-K19<=0.1,0,K16-K19) -> 16.26086 | M16: =IF(L16-L19<=0.1,0,L16-L19) -> 14.929954 | ... BK16: =IF(BJ16-BJ19<=0.1,0,BJ16-BJ19) -> 0
A17: Pmt | E17: =IF(E16=0,0,PMT(INDEX(LoanCohortRate,1),LoanTerm, -LoanSize)) -> 1.5951445 | F17: =IF(F16=0,0, E17) -> 1.5951445 | G17: =IF(G16=0,0, F17) -> 1.5951445 | H17: =IF(H16=0,0, G17) -> 1.5951445 | I17: =IF(I16=0,0, H17) -> 1.5951445 | J17: =IF(J16=0,0, I17) -> 1.5951445 | K17: =IF(K16=0,0, J17) -> 1.5951445 | L17: =IF(L16=0,0, K17) -> 1.5951445 | M17: =IF(M16=0,0, L17) -> 1.5951445 | ... BK17: =IF(BK16=0,0, BJ17) -> 0
A18: Int | E18: {=E16*INDEX(LoanCohortRate,$A15)} -> 0.40625 | F18: {=F16*INDEX(LoanCohortRate,$A15)} -> 0.38693046 | G18: {=G16*INDEX(LoanCohortRate,$A15)} -> 0.36729698 | H18: {=H16*INDEX(LoanCohortRate,$A15)} -> 0.34734446 | I18: {=I16*INDEX(LoanCohortRate,$A15)} -> 0.32706771 | J18: {=J16*INDEX(LoanCohortRate,$A15)} -> 0.30646146 | K18: {=K16*INDEX(LoanCohortRate,$A15)} -> 0.28552036 | L18: {=L16*INDEX(LoanCohortRate,$A15)} -> 0.26423897 | ... BK18: {=BK16*INDEX(LoanCohortRate,$A15)} -> 0
A19: Princ | E19: =E17-E18 -> 1.1888945 | F19: =F17-F18 -> 1.2082141 | G19: =G17-G18 -> 1.2278476 | H19: =H17-H18 -> 1.2478001 | I19: =I17-I18 -> 1.2680768 | J19: =J17-J18 -> 1.2886831 | K19: =K17-K18 -> 1.3096242 | L19: =L17-L18 -> 1.3309056 | ... BK19: =BK17-BK18 -> 0
A20: Loans | E20: {=INDEX(LoanOriginations,$A15)} -> 100.5 | F20: =E20*(1-MitigateDelinquency*MitigateChargeoff) * IF(F15=0,0,IF(F15-102=LoanSaleHeld,0.6,1)) -> 100.3995 | G20: =F20*(1-MitigateDelinquency*MitigateChargeoff) * IF(G15=0,0,IF(G15-102=LoanSaleHeld,0.6,1)) -> 100.2991 | H20: =G20*(1-MitigateDelinquency*MitigateChargeoff) * IF(H15=0,0,IF(H15-102=LoanSaleHeld,0.6,1)) -> 100.1988 | I20: =H20*(1-MitigateDelinquency*MitigateChargeoff) * IF(I15=0,0,IF(I15-102=LoanSaleHeld,0.6,1)) -> 60.059162 | J20: =I20*(1-MitigateDelinquency*MitigateChargeoff) * IF(J15=0,0,IF(J15-102=LoanSaleHeld,0.6,1)) -> 59.999102 | K20: =J20*(1-MitigateDelinquency*MitigateChargeoff) * IF(K15=0,0,IF(K15-102=LoanSaleHeld,0.6,1)) -> 59.939103 | L20: =K20*(1-MitigateDelinquency*MitigateChargeoff) * IF(L15=0,0,IF(L15-102=LoanSaleHeld,0.6,1)) -> 59.879164 | M20: =L20*(1-MitigateDelinquency*MitigateChargeoff) * IF(M15=0,0,IF(M15-102=LoanSaleHeld,0.6,1)) -> 59.819285 | ... BK20: =BJ20*(1-MitigateDelinquency*MitigateChargeoff) * IF(BK15=0,0,IF(BK15-102=LoanSaleHeld,0.6,1)) -> 0
A21: iCollect | E21: =E18*E20 -> 40.828125 | F21: =F18*F20 -> 38.847625 | G21: =G18*G20 -> 36.839557 | H21: =H18*H20 -> 34.803499 | I21: =I18*I20 -> 19.643412 | J21: =J18*J20 -> 18.387413 | K21: =K18*K20 -> 17.113834 | L21: =L18*L20 -> 15.822409 | ... BK21: =BK18*BK20 -> 0
A22: pCollect | E22: =E19*E20 -> 119.4839 | F22: =F19*F20 -> 121.30409 | G22: =G19*G20 -> 123.15201 | H22: =H19*H20 -> 125.02807 | I22: =I19*I20 -> 76.159631 | J22: =J19*J20 -> 77.319828 | K22: =K19*K20 -> 78.497699 | L22: =L19*L20 -> 79.693513 | ... BK22: =BK19*BK20 -> 0
A23: sAmort | E23: =IF(E15-101<>LoanSaleHeld,0,SUM($D22:E22)*LoanSalePercent) -> 0 | F23: =IF(F15-101<>LoanSaleHeld,0,SUM($D22:F22)*LoanSalePercent) -> 0 | G23: =IF(G15-101<>LoanSaleHeld,0,SUM($D22:G22)*LoanSalePercent) -> 0 | H23: =IF(H15-101<>LoanSaleHeld,0,SUM($D22:H22)*LoanSalePercent) -> 195.58723 | I23: =IF(I15-101<>LoanSaleHeld,0,SUM($D22:I22)*LoanSalePercent) -> 0 | J23: =IF(J15-101<>LoanSaleHeld,0,SUM($D22:J22)*LoanSalePercent) -> 0 | K23: =IF(K15-101<>LoanSaleHeld,0,SUM($D22:K22)*LoanSalePercent) -> 0 | L23: =IF(L15-101<>LoanSaleHeld,0,SUM($D22:L22)*LoanSalePercent) -> 0 | ... BK23: =IF(BK15-101<>LoanSaleHeld,0,SUM($D22:BK22)*LoanSalePercent) -> 0
A24: =A15+1 -> 3 | F24: 101 | G24: =IF(G25=0,0,F24+1) -> 102 | H24: =IF(H25=0,0,G24+1) -> 103 | I24: =IF(I25=0,0,H24+1) -> 104 | J24: =IF(J25=0,0,I24+1) -> 105 | K24: =IF(K25=0,0,J24+1) -> 106 | L24: =IF(L25=0,0,K24+1) -> 107 | M24: =IF(M25=0,0,L24+1) -> 108 | N24: =IF(N25=0,0,M24+1) -> 109 | ... BK24: =IF(BK25=0,0,BJ24+1) -> 0
A25: Bal | F25: =LoanSize -> 25 | G25: =IF(F25-F28<=0.1,0,F25-F28) -> 23.811105 | H25: =IF(G25-G28<=0.1,0,G25-G28) -> 22.602891 | I25: =IF(H25-H28<=0.1,0,H25-H28) -> 21.375044 | J25: =IF(I25-I28<=0.1,0,I25-I28) -> 20.127244 | K25: =IF(J25-J28<=0.1,0,J25-J28) -> 18.859167 | L25: =IF(K25-K28<=0.1,0,K25-K28) -> 17.570484 | M25: =IF(L25-L28<=0.1,0,L25-L28) -> 16.26086 | N25: =IF(M25-M28<=0.1,0,M25-M28) -> 14.929954 | ... BK25: =IF(BJ25-BJ28<=0.1,0,BJ25-BJ28) -> 0
A26: Pmt | F26: =IF(F25=0,0,PMT(INDEX(LoanCohortRate,1),LoanTerm, -LoanSize)) -> 1.5951445 | G26: =IF(G25=0,0, F26) -> 1.5951445 | H26: =IF(H25=0,0, G26) -> 1.5951445 | I26: =IF(I25=0,0, H26) -> 1.5951445 | J26: =IF(J25=0,0, I26) -> 1.5951445 | K26: =IF(K25=0,0, J26) -> 1.5951445 | L26: =IF(L25=0,0, K26) -> 1.5951445 | M26: =IF(M25=0,0, L26) -> 1.5951445 | N26: =IF(N25=0,0, M26) -> 1.5951445 | ... BK26: =IF(BK25=0,0, BJ26) -> 0
A27: Int | F27: {=F25*INDEX(LoanCohortRate,$A24)} -> 0.40625 | G27: {=G25*INDEX(LoanCohortRate,$A24)} -> 0.38693046 | H27: {=H25*INDEX(LoanCohortRate,$A24)} -> 0.36729698 | I27: {=I25*INDEX(LoanCohortRate,$A24)} -> 0.34734446 | J27: {=J25*INDEX(LoanCohortRate,$A24)} -> 0.32706771 | K27: {=K25*INDEX(LoanCohortRate,$A24)} -> 0.30646146 | L27: {=L25*INDEX(LoanCohortRate,$A24)} -> 0.28552036 | M27: {=M25*INDEX(LoanCohortRate,$A24)} -> 0.26423897 | ... BK27: {=BK25*INDEX(LoanCohortRate,$A24)} -> 0
A28: Princ | F28: =F26-F27 -> 1.1888945 | G28: =G26-G27 -> 1.2082141 | H28: =H26-H27 -> 1.2278476 | I28: =I26-I27 -> 1.2478001 | J28: =J26-J27 -> 1.2680768 | K28: =K26-K27 -> 1.2886831 | L28: =L26-L27 -> 1.3096242 | M28: =M26-M27 -> 1.3309056 | ... BK28: =BK26-BK27 -> 0
A29: Loans | F29: {=INDEX(LoanOriginations,$A24)} -> 101.0025 | G29: =F29*(1-MitigateDelinquency*MitigateChargeoff) * IF(G24=0,0,IF(G24-102=LoanSaleHeld,0.6,1)) -> 100.9015 | H29: =G29*(1-MitigateDelinquency*MitigateChargeoff) * IF(H24=0,0,IF(H24-102=LoanSaleHeld,0.6,1)) -> 100.8006 | I29: =H29*(1-MitigateDelinquency*MitigateChargeoff) * IF(I24=0,0,IF(I24-102=LoanSaleHeld,0.6,1)) -> 100.6998 | J29: =I29*(1-MitigateDelinquency*MitigateChargeoff) * IF(J24=0,0,IF(J24-102=LoanSaleHeld,0.6,1)) -> 60.359457 | K29: =J29*(1-MitigateDelinquency*MitigateChargeoff) * IF(K24=0,0,IF(K24-102=LoanSaleHeld,0.6,1)) -> 60.299098 | L29: =K29*(1-MitigateDelinquency*MitigateChargeoff) * IF(L24=0,0,IF(L24-102=LoanSaleHeld,0.6,1)) -> 60.238799 | M29: =L29*(1-MitigateDelinquency*MitigateChargeoff) * IF(M24=0,0,IF(M24-102=LoanSaleHeld,0.6,1)) -> 60.17856 | N29: =M29*(1-MitigateDelinquency*MitigateChargeoff) * IF(N24=0,0,IF(N24-102=LoanSaleHeld,0.6,1)) -> 60.118381 | ... BK29: =BJ29*(1-MitigateDelinquency*MitigateChargeoff) * IF(BK24=0,0,IF(BK24-102=LoanSaleHeld,0.6,1)) -> 0
A30: iCollect | F30: =F27*F29 -> 41.032266 | G30: =G27*G29 -> 39.041863 | H30: =H27*H29 -> 37.023755 | I30: =I27*I29 -> 34.977516 | J30: =J27*J29 -> 19.74163 | K30: =K27*K29 -> 18.47935 | L30: =L27*L29 -> 17.199404 | M30: =M27*M29 -> 15.901521 | ... BK30: =BK27*BK29 -> 0
A31: pCollect | F31: =F28*F29 -> 120.08132 | G31: =G28*G29 -> 121.91061 | H31: =H28*H29 -> 123.76777 | I31: =I28*I29 -> 125.65321 | J31: =J28*J29 -> 76.54043 | K31: =K28*K29 -> 77.706427 | L31: =L28*L29 -> 78.890188 | M31: =M28*M29 -> 80.091981 | ... BK31: =BK28*BK29 -> 0
A32: sAmort | F32: =IF(F24-101<>LoanSaleHeld,0,SUM($D31:F31)*LoanSalePercent) -> 0 | G32: =IF(G24-101<>LoanSaleHeld,0,SUM($D31:G31)*LoanSalePercent) -> 0 | H32: =IF(H24-101<>LoanSaleHeld,0,SUM($D31:H31)*LoanSalePercent) -> 0 | I32: =IF(I24-101<>LoanSaleHeld,0,SUM($D31:I31)*LoanSalePercent) -> 196.56516 | J32: =IF(J24-101<>LoanSaleHeld,0,SUM($D31:J31)*LoanSalePercent) -> 0 | K32: =IF(K24-101<>LoanSaleHeld,0,SUM($D31:K31)*LoanSalePercent) -> 0 | L32: =IF(L24-101<>LoanSaleHeld,0,SUM($D31:L31)*LoanSalePercent) -> 0 | M32: =IF(M24-101<>LoanSaleHeld,0,SUM($D31:M31)*LoanSalePercent) -> 0 | ... BK32: =IF(BK24-101<>LoanSaleHeld,0,SUM($D31:BK31)*LoanSalePercent) -> 0
A33: =A24+1 -> 4 | G33: 101 | H33: =IF(H34=0,0,G33+1) -> 102 | I33: =IF(I34=0,0,H33+1) -> 103 | J33: =IF(J34=0,0,I33+1) -> 104 | K33: =IF(K34=0,0,J33+1) -> 105 | L33: =IF(L34=0,0,K33+1) -> 106 | M33: =IF(M34=0,0,L33+1) -> 107 | N33: =IF(N34=0,0,M33+1) -> 108 | O33: =IF(O34=0,0,N33+1) -> 109 | ... BK33: =IF(BK34=0,0,BJ33+1) -> 0
A34: Bal | G34: =LoanSize -> 25 | H34: =IF(G34-G37<=0.1,0,G34-G37) -> 23.811105 | I34: =IF(H34-H37<=0.1,0,H34-H37) -> 22.602891 | J34: =IF(I34-I37<=0.1,0,I34-I37) -> 21.375044 | K34: =IF(J34-J37<=0.1,0,J34-J37) -> 20.127244 | L34: =IF(K34-K37<=0.1,0,K34-K37) -> 18.859167 | M34: =IF(L34-L37<=0.1,0,L34-L37) -> 17.570484 | N34: =IF(M34-M37<=0.1,0,M34-M37) -> 16.26086 | O34: =IF(N34-N37<=0.1,0,N34-N37) -> 14.929954 | ... BK34: =IF(BJ34-BJ37<=0.1,0,BJ34-BJ37) -> 0
A35: Pmt | G35: =IF(G34=0,0,PMT(INDEX(LoanCohortRate,1),LoanTerm, -LoanSize)) -> 1.5951445 | H35: =IF(H34=0,0, G35) -> 1.5951445 | I35: =IF(I34=0,0, H35) -> 1.5951445 | J35: =IF(J34=0,0, I35) -> 1.5951445 | K35: =IF(K34=0,0, J35) -> 1.5951445 | L35: =IF(L34=0,0, K35) -> 1.5951445 | M35: =IF(M34=0,0, L35) -> 1.5951445 | N35: =IF(N34=0,0, M35) -> 1.5951445 | O35: =IF(O34=0,0, N35) -> 1.5951445 | ... BK35: =IF(BK34=0,0, BJ35) -> 0
A36: Int | G36: {=G34*INDEX(LoanCohortRate,$A33)} -> 0.40625 | H36: {=H34*INDEX(LoanCohortRate,$A33)} -> 0.38693046 | I36: {=I34*INDEX(LoanCohortRate,$A33)} -> 0.36729698 | J36: {=J34*INDEX(LoanCohortRate,$A33)} -> 0.34734446 | K36: {=K34*INDEX(LoanCohortRate,$A33)} -> 0.32706771 | L36: {=L34*INDEX(LoanCohortRate,$A33)} -> 0.30646146 | M36: {=M34*INDEX(LoanCohortRate,$A33)} -> 0.28552036 | N36: {=N34*INDEX(LoanCohortRate,$A33)} -> 0.26423897 | ... BK36: {=BK34*INDEX(LoanCohortRate,$A33)} -> 0
A37: Princ | G37: =G35-G36 -> 1.1888945 | H37: =H35-H36 -> 1.2082141 | I37: =I35-I36 -> 1.2278476 | J37: =J35-J36 -> 1.2478001 | K37: =K35-K36 -> 1.2680768 | L37: =L35-L36 -> 1.2886831 | M37: =M35-M36 -> 1.3096242 | N37: =N35-N36 -> 1.3309056 | ... BK37: =BK35-BK36 -> 0
A38: Loans | G38: {=INDEX(LoanOriginations,$A33)} -> 101.50751 | H38: =G38*(1-MitigateDelinquency*MitigateChargeoff) * IF(H33=0,0,IF(H33-102=LoanSaleHeld,0.6,1)) -> 101.406 | I38: =H38*(1-MitigateDelinquency*MitigateChargeoff) * IF(I33=0,0,IF(I33-102=LoanSaleHeld,0.6,1)) -> 101.3046 | J38: =I38*(1-MitigateDelinquency*MitigateChargeoff) * IF(J33=0,0,IF(J33-102=LoanSaleHeld,0.6,1)) -> 101.20329 | K38: =J38*(1-MitigateDelinquency*MitigateChargeoff) * IF(K33=0,0,IF(K33-102=LoanSaleHeld,0.6,1)) -> 60.661255 | L38: =K38*(1-MitigateDelinquency*MitigateChargeoff) * IF(L33=0,0,IF(L33-102=LoanSaleHeld,0.6,1)) -> 60.600593 | M38: =L38*(1-MitigateDelinquency*MitigateChargeoff) * IF(M33=0,0,IF(M33-102=LoanSaleHeld,0.6,1)) -> 60.539993 | N38: =M38*(1-MitigateDelinquency*MitigateChargeoff) * IF(N33=0,0,IF(N33-102=LoanSaleHeld,0.6,1)) -> 60.479453 | O38: =N38*(1-MitigateDelinquency*MitigateChargeoff) * IF(O33=0,0,IF(O33-102=LoanSaleHeld,0.6,1)) -> 60.418973 | ... BK38: =BJ38*(1-MitigateDelinquency*MitigateChargeoff) * IF(BK33=0,0,IF(BK33-102=LoanSaleHeld,0.6,1)) -> 0
A39: iCollect | G39: =G36*G38 -> 41.237427 | H39: =H36*H38 -> 39.237073 | I39: =I36*I38 -> 37.208874 | J39: =J36*J38 -> 35.152404 | K39: =K36*K38 -> 19.840338 | L39: =L36*L38 -> 18.571746 | M39: =M36*M38 -> 17.285401 | N39: =N36*N38 -> 15.981028 | ... BK39: =BK36*BK38 -> 0
A40: pCollect | G40: =G37*G38 -> 120.68173 | H40: =H37*H38 -> 122.52016 | I40: =I37*I38 -> 124.3866 | J40: =J37*J38 -> 126.28148 | K40: =K37*K38 -> 76.923132 | L40: =L37*L38 -> 78.094959 | M40: =M37*M38 -> 79.284639 | N40: =N37*N38 -> 80.492441 | ... BK40: =BK37*BK38 -> 0
...

Sheet Credit
A1: info
B3: Credit Facility | E3: 1 | F3: 2 | G3: 3 | H3: 4 | I3: 5 | K3: 1 | L3: 2 | M3: 3 | N3: 4 | O3: 5 | P3: 6 | Q3: 7 | R3: 8 | S3: 9 | T3: 10 | U3: 11 | V3: 12 | W3: 13 | X3: 14 | Y3: 15 | Z3: 16 | AA3: 17 | AB3: 18 | AC3: 19 | AD3: 20 | AE3: 21 | AF3: 22 | AG3: 23 | AH3: 24 | AI3: 25 | AJ3: 26 | AK3: 27 | AL3: 28 | AM3: 29 | AN3: 30 | AO3: 31 | AP3: 32 | AQ3: 33 | AR3: 34 | AS3: 35 | AT3: 36 | AU3: 37 | AV3: 38 | AW3: 39 | AX3: 40 | AY3: 41 | AZ3: 42 | BA3: 43 | BB3: 44 | BC3: 45 | BD3: 46 | BE3: 47 | BF3: 48 | BG3: 49 | BH3: 50 | BI3: 51 | BJ3: 52 | BK3: 53 | BL3: 54 | BM3: 55 | BN3: 56 | BO3: 57 | BP3: 58 | BQ3: 59 | BR3: 60
B5: Starting Cash | E5: =SUM(K5:V5) -> 2460 | F5: =SUM(W5:AH5) -> 2400 | G5: =SUM(AI5:AT5) -> 2400 | H5: =SUM(AU5:BF5) -> 2400 | I5: =SUM(BG5:BR5) -> 2400 | K5: =CapitalPreferredStart+CapitalCommonStart+CapitalShortStart+CapitalLongStart -> 260 | L5: =K45 -> 200 | M5: =L45 -> 200 | N5: =M45 -> 200 | O5: =N45 -> 200 | P5: =O45 -> 200 | Q5: =P45 -> 200 | R5: =Q45 -> 200 | S5: =R45 -> 200 | ... BR5: =BQ45 -> 200
B6: Short-Term Debt | E6: =SUM(K6:V6) -> 50 | F6: =SUM(W6:AH6) -> 0 | G6: =SUM(AI6:AT6) -> 0 | H6: =SUM(AU6:BF6) -> 0 | I6: =SUM(BG6:BR6) -> 0 | K6: =IFERROR(VLOOKUP(K$3,CapitalDebtMonth:CapitalShort,2,FALSE),0) -> 0 | L6: =IFERROR(VLOOKUP(L$3,CapitalDebtMonth:CapitalShort,2,FALSE),0) -> 0 | M6: =IFERROR(VLOOKUP(M$3,CapitalDebtMonth:CapitalShort,2,FALSE),0) -> 0 | N6: =IFERROR(VLOOKUP(N$3,CapitalDebtMonth:CapitalShort,2,FALSE),0) -> 0 | O6: =IFERROR(VLOOKUP(O$3,CapitalDebtMonth:CapitalShort,2,FALSE),0) -> 0 | P6: =IFERROR(VLOOKUP(P$3,CapitalDebtMonth:CapitalShort,2,FALSE),0) -> 25 | Q6: =IFERROR(VLOOKUP(Q$3,CapitalDebtMonth:CapitalShort,2,FALSE),0) -> 0 | R6: =IFERROR(VLOOKUP(R$3,CapitalDebtMonth:CapitalShort,2,FALSE),0) -> 0 | ... BR6: =IFERROR(VLOOKUP(BR$3,CapitalDebtMonth:CapitalShort,2,FALSE),0) -> 0
B7: Long-Term Debt | E7: =SUM(K7:V7) -> 0 | F7: =SUM(W7:AH7) -> 0 | G7: =SUM(AI7:AT7) -> 0 | H7: =SUM(AU7:BF7) -> 0 | I7: =SUM(BG7:BR7) -> 0 | K7: =IFERROR(VLOOKUP(K$3,CapitalDebtMonth:CapitalLong,3,FALSE),0) -> 0 | L7: =IFERROR(VLOOKUP(L$3,CapitalDebtMonth:CapitalLong,3,FALSE),0) -> 0 | M7: =IFERROR(VLOOKUP(M$3,CapitalDebtMonth:CapitalLong,3,FALSE),0) -> 0 | N7: =IFERROR(VLOOKUP(N$3,CapitalDebtMonth:CapitalLong,3,FALSE),0) -> 0 | O7: =IFERROR(VLOOKUP(O$3,CapitalDebtMonth:CapitalLong,3,FALSE),0) -> 0 | P7: =IFERROR(VLOOKUP(P$3,CapitalDebtMonth:CapitalLong,3,FALSE),0) -> 0 | Q7: =IFERROR(VLOOKUP(Q$3,CapitalDebtMonth:CapitalLong,3,FALSE),0) -> 0 | R7: =IFERROR(VLOOKUP(R$3,CapitalDebtMonth:CapitalLong,3,FALSE),0) -> 0 | ... BR7: =IFERROR(VLOOKUP(BR$3,CapitalDebtMonth:CapitalLong,3,FALSE),0) -> 0
B8: New Debt | E8: =SUM(K8:V8) -> 50 | F8: =SUM(W8:AH8) -> 0 | G8: =SUM(AI8:AT8) -> 0 | H8: =SUM(AU8:BF8) -> 0 | I8: =SUM(BG8:BR8) -> 0 | K8: =SUM(K6:K7) -> 0 | L8: =SUM(L6:L7) -> 0 | M8: =SUM(M6:M7) -> 0 | N8: =SUM(N6:N7) -> 0 | O8: =SUM(O6:O7) -> 0 | P8: =SUM(P6:P7) -> 25 | Q8: =SUM(Q6:Q7) -> 0 | R8: =SUM(R6:R7) -> 0 | ... BR8: =SUM(BR6:BR7) -> 0
B9: Preferred Stock | E9: =SUM(K9:V9) -> 10 | F9: =SUM(W9:AH9) -> 0 | G9: =SUM(AI9:AT9) -> 0 | H9: =SUM(AU9:BF9) -> 0 | I9: =SUM(BG9:BR9) -> 0 | K9: =IFERROR(VLOOKUP(K$3,CapitalEquityMonth:CapitalPreferred,2,FALSE),0) -> 0 | L9: =IFERROR(VLOOKUP(L$3,CapitalEquityMonth:CapitalPreferred,2,FALSE),0) -> 0 | M9: =IFERROR(VLOOKUP(M$3,CapitalEquityMonth:CapitalPreferred,2,FALSE),0) -> 0 | N9: =IFERROR(VLOOKUP(N$3,CapitalEquityMonth:CapitalPreferred,2,FALSE),0) -> 0 | O9: =IFERROR(VLOOKUP(O$3,CapitalEquityMonth:CapitalPreferred,2,FALSE),0) -> 0 | P9: =IFERROR(VLOOKUP(P$3,CapitalEquityMonth:CapitalPreferred,2,FALSE),0) -> 10 | Q9: =IFERROR(VLOOKUP(Q$3,CapitalEquityMonth:CapitalPreferred,2,FALSE),0) -> 0 | R9: =IFERROR(VLOOKUP(R$3,CapitalEquityMonth:CapitalPreferred,2,FALSE),0) -> 0 | ... BR9: =IFERROR(VLOOKUP(BR$3,CapitalEquityMonth:CapitalPreferred,2,FALSE),0) -> 0
B10: Common Stock | E10: =SUM(K10:V10) -> 0 | F10: =SUM(W10:AH10) -> 0 | G10: =SUM(AI10:AT10) -> 0 | H10: =SUM(AU10:BF10) -> 0 | I10: =SUM(BG10:BR10) -> 0 | K10: =IFERROR(VLOOKUP(K$3,CapitalEquityMonth:CapitalCommon,3,FALSE),0) -> 0 | L10: =IFERROR(VLOOKUP(L$3,CapitalEquityMonth:CapitalCommon,3,FALSE),0) -> 0 | M10: =IFERROR(VLOOKUP(M$3,CapitalEquityMonth:CapitalCommon,3,FALSE),0) -> 0 | N10: =IFERROR(VLOOKUP(N$3,CapitalEquityMonth:CapitalCommon,3,FALSE),0) -> 0 | O10: =IFERROR(VLOOKUP(O$3,CapitalEquityMonth:CapitalCommon,3,FALSE),0) -> 0 | P10: =IFERROR(VLOOKUP(P$3,CapitalEquityMonth:CapitalCommon,3,FALSE),0) -> 0 | Q10: =IFERROR(VLOOKUP(Q$3,CapitalEquityMonth:CapitalCommon,3,FALSE),0) -> 0 | R10: =IFERROR(VLOOKUP(R$3,CapitalEquityMonth:CapitalCommon,3,FALSE),0) -> 0 | ... BR10: =IFERROR(VLOOKUP(BR$3,CapitalEquityMonth:CapitalCommon,3,FALSE),0) -> 0
B11: New Equity | E11: =SUM(K11:V11) -> 10 | F11: =SUM(W11:AH11) -> 0 | G11: =SUM(AI11:AT11) -> 0 | H11: =SUM(AU11:BF11) -> 0 | I11: =SUM(BG11:BR11) -> 0 | K11: =SUM(K9:K10) -> 0 | L11: =SUM(L9:L10) -> 0 | M11: =SUM(M9:M10) -> 0 | N11: =SUM(N9:N10) -> 0 | O11: =SUM(O9:O10) -> 0 | P11: =SUM(P9:P10) -> 10 | Q11: =SUM(Q9:Q10) -> 0 | R11: =SUM(R9:R10) -> 0 | ... BR11: =SUM(BR9:BR10) -> 0
B12: New Capital | E12: =SUM(K12:V12) -> 60 | F12: =SUM(W12:AH12) -> 0 | G12: =SUM(AI12:AT12) -> 0 | H12: =SUM(AU12:BF12) -> 0 | I12: =SUM(BG12:BR12) -> 0 | K12: =SUM(K11,K8) -> 0 | L12: =SUM(L11,L8) -> 0 | M12: =SUM(M11,M8) -> 0 | N12: =SUM(N11,N8) -> 0 | O12: =SUM(O11,O8) -> 0 | P12: =SUM(P11,P8) -> 35 | Q12: =SUM(Q11,Q8) -> 0 | R12: =SUM(R11,R8) -> 0 | ... BR12: =SUM(BR11,BR8) -> 0
B13: Originations | E13: =SUM(K13:V13) -> -30838.906 | F13: =SUM(W13:AH13) -> -32740.982 | G13: =SUM(AI13:AT13) -> -34760.374 | H13: =SUM(AU13:BF13) -> -36904.318 | I13: =SUM(BG13:BR13) -> -39180.496 | K13: =-Loans!K19 -> -2500 | L13: =-Loans!L19 -> -2512.5 | M13: =-Loans!M19 -> -2525.0625 | N13: =-Loans!N19 -> -2537.6878 | O13: =-Loans!O19 -> -2550.3763 | P13: =-Loans!P19 -> -2563.1281 | Q13: =-Loans!Q19 -> -2575.9438 | R13: =-Loans!R19 -> -2588.8235 | ... BR13: =-Loans!BR19 -> -3355.3486
B14: Principal Collected | E14: =SUM(K14:V14) -> 8119.1557 | F14: =SUM(W14:AH14) -> 20188.5 | G14: =SUM(AI14:AT14) -> 23884.541 | H14: =SUM(AU14:BF14) -> 24788.921 | I14: =SUM(BG14:BR14) -> 26609.46 | K14: =Loans!K22 -> 122.01445 | L14: =Loans!L22 -> 243.20473 | M14: =Loans!M22 -> 366.83647 | N14: =Loans!N22 -> 492.94984 | O14: =Loans!O22 -> 569.99182 | P14: =Loans!P22 -> 649.69676 | Q14: =Loans!Q22 -> 730.97015 | R14: =Loans!R22 -> 813.83764 | ... BR14: =Loans!BR22 -> 2278.7872
